{"text_format":"1","workbook":"xlsx","n_sheets":16,"sheets":["How to Use the Tracker","Summary","January","February","March","April","May","June","July","August","September","October","November","December","Lists","YTD SUMMARY"],"not_rendered":{"charts":0,"images":6,"macros":1,"external_links":0,"defined_names":2,"comments":1,"pivot_tables":4},"unopened":[],"bounds":{"document_bytes":16777216,"sheet_cells":100000,"rows_first":2000,"rows_last":500,"rows_between":2000,"halvings":0,"cell_chars":16384,"cell_head_chars":4096},"cells_cut":0,"cells_raw":0,"read":"whole","date_system":"1900"}

{"sheet":"How to Use the Tracker","index":0,"n_rows":0,"n_cols":0,"rows_kept":0,"cut":false,"hidden":false,"merged":[]}

{"sheet":"Summary","index":1,"n_rows":71,"n_cols":8,"rows_kept":71,"cut":false,"hidden":false,"merged":[]}
[]
[]
[]
[]
[]
[]
[]
[]
[]
["Grand Total Savings and Spending"]
["Year to Date Spent",null,null,{"$f":"January!J3+February!J3+March!J3+April!J3+May!J3+June!J3+July!J3+August!J3+September!J3+October!J3+November!J3+December!J3","v":0}]
["Year to Date Savings",null,null,{"$f":"January!J6+February!J6+March!J6+April!J6+May!J6+June!J6+July!J6+August!J6+September!J6+October!J6+November!J6+December!J6","v":0}]
[]
["Monthly Savings and Spending Totals"]
[]
[null,null,null,"Monthly Saved","Monthly Spent",null,"Average Monthly Savings","Average per Month Spent"]
["January",null,null,{"$f":"January!J6","v":0},{"$f":"January!J3","v":0},null,{"$f":"AVERAGE(D17)","v":0},{"$f":"AVERAGE(E17)","v":0}]
["February",null,null,{"$f":"February!J6","v":0},{"$f":"February!J3","v":0},null,{"$f":"AVERAGE(D17:D18)","v":0},{"$f":"AVERAGE(E17:E18)","v":0}]
["March",null,null,{"$f":"March!J6","v":0},{"$f":"March!J3","v":0},null,{"$f":"AVERAGE(D17:D19)","v":0},{"$f":"AVERAGE(E17:E19)","v":0}]
["April",null,null,{"$f":"April!J6","v":0},{"$f":"April!J3","v":0},null,{"$f":"AVERAGE(D17:D20)","v":0},{"$f":"AVERAGE(E17:E20)","v":0}]
["May",null,null,{"$f":"May!J6","v":0},{"$f":"May!J3","v":0},null,{"$f":"AVERAGE(D17:D21)","v":0},{"$f":"AVERAGE(E17:E21)","v":0}]
["June",null,null,{"$f":"June!J6","v":0},{"$f":"June!J3","v":0},null,{"$f":"AVERAGE(D17:D22)","v":0},{"$f":"AVERAGE(E17:E22)","v":0}]
["July",null,null,{"$f":"July!J6","v":0},{"$f":"July!J3","v":0},null,{"$f":"AVERAGE(D17:D23)","v":0},{"$f":"AVERAGE(E17:E23)","v":0}]
["August",null,null,{"$f":"August!J6","v":0},{"$f":"August!J3","v":0},null,{"$f":"AVERAGE(D17:D24)","v":0},{"$f":"AVERAGE(E17:E24)","v":0}]
["September",null,null,{"$f":"September!J6","v":0},{"$f":"September!J3","v":0},null,{"$f":"AVERAGE(D17:D25)","v":0},{"$f":"AVERAGE(E17:E25)","v":0}]
["October",null,null,{"$f":"October!J6","v":0},{"$f":"October!J3","v":0},null,{"$f":"AVERAGE(D17:D26)","v":0},{"$f":"AVERAGE(E17:E26)","v":0}]
["November",null,null,{"$f":"November!J6","v":0},{"$f":"November!J3","v":0},null,{"$f":"AVERAGE(D17:D27)","v":0},{"$f":"AVERAGE(E17:E27)","v":0}]
["December",null,null,{"$f":"December!J6","v":0},{"$f":"December!J3","v":0},null,{"$f":"AVERAGE(D17:D28)","v":0},{"$f":"AVERAGE(E17:E28)","v":0}]
[]
["Store Savings and Spending Totals "]
["Store",null,null,"Amount Saved","Percentage",null,"Spent per Store","Percentage"]
[{"$f":"Lists!B5","v":"Fred Meyer"},null,null,{"$f":"VLOOKUP(A32:A52,'YTD SUMMARY'!$A$653:$B$674,2,FALSE)","v":0},{"$f":"D32/$D$12","v":{"$error":"#DIV/0!"}},null,{"$f":"VLOOKUP(A32:A52,'YTD SUMMARY'!$A$679:$B$700,2,FALSE)","v":0},{"$f":"G32/$D$11","v":{"$error":"#DIV/0!"}}]
[{"$f":"Lists!B14","v":"Safeway"},null,null,{"$f":"VLOOKUP(A32:A52,'YTD SUMMARY'!$A$653:$B$674,2,FALSE)","v":0},{"$error":"#DIV/0!"},null,{"$f":"VLOOKUP(A33:A52,'YTD SUMMARY'!$A$679:$B$700,2,FALSE)","v":0},{"$error":"#DIV/0!"}]
[{"$f":"Lists!B6","v":"RiteAid"},null,null,{"$f":"VLOOKUP(A32:A52,'YTD SUMMARY'!$A$653:$B$674,2,FALSE)","v":0},{"$error":"#DIV/0!"},null,{"$f":"VLOOKUP(A34:A52,'YTD SUMMARY'!$A$679:$B$700,2,FALSE)","v":0},{"$error":"#DIV/0!"}]
[{"$f":"Lists!B7","v":"Smiths"},null,null,{"$f":"VLOOKUP(A35:A52,'YTD SUMMARY'!$A$653:$B$674,2,FALSE)","v":0},{"$error":"#DIV/0!"},null,{"$f":"VLOOKUP(A35:A52,'YTD SUMMARY'!$A$679:$B$700,2,FALSE)","v":0},{"$error":"#DIV/0!"}]
[{"$f":"Lists!B10","v":"Walmart "},null,null,{"$f":"VLOOKUP(A36:A52,'YTD SUMMARY'!$A$653:$B$674,2,FALSE)","v":0},{"$error":"#DIV/0!"},null,{"$f":"VLOOKUP(A36:A52,'YTD SUMMARY'!$A$679:$B$700,2,FALSE)","v":0},{"$error":"#DIV/0!"}]
[{"$f":"Lists!B11","v":"Winco"},null,null,{"$f":"VLOOKUP(A37:A52,'YTD SUMMARY'!$A$653:$B$674,2,FALSE)","v":0},{"$error":"#DIV/0!"},null,{"$f":"VLOOKUP(A37:A52,'YTD SUMMARY'!$A$679:$B$700,2,FALSE)","v":0},{"$error":"#DIV/0!"}]
[{"$f":"Lists!B15","v":"Lowes"},null,null,{"$f":"VLOOKUP(A38:A52,'YTD SUMMARY'!$A$653:$B$674,2,FALSE)","v":0},{"$error":"#DIV/0!"},null,{"$f":"VLOOKUP(A38:A52,'YTD SUMMARY'!$A$679:$B$700,2,FALSE)","v":0},{"$error":"#DIV/0!"}]
[{"$f":"Lists!B9","v":"Walgreens"},null,null,{"$f":"VLOOKUP(A39:A52,'YTD SUMMARY'!$A$653:$B$674,2,FALSE)","v":0},{"$error":"#DIV/0!"},null,{"$f":"VLOOKUP(A39:A52,'YTD SUMMARY'!$A$679:$B$700,2,FALSE)","v":0},{"$error":"#DIV/0!"}]
[{"$f":"Lists!B4","v":"CVS"},null,null,{"$f":"VLOOKUP(A40:A52,'YTD SUMMARY'!$A$653:$B$674,2,FALSE)","v":0},{"$error":"#DIV/0!"},null,{"$f":"VLOOKUP(A40:A52,'YTD SUMMARY'!$A$679:$B$700,2,FALSE)","v":0},{"$error":"#DIV/0!"}]
[{"$f":"Lists!B16","v":"Savon"},null,null,{"$f":"VLOOKUP(A41:A52,'YTD SUMMARY'!$A$653:$B$674,2,FALSE)","v":0},{"$error":"#DIV/0!"},null,{"$f":"VLOOKUP(A41:A52,'YTD SUMMARY'!$A$679:$B$700,2,FALSE)","v":0},{"$error":"#DIV/0!"}]
[{"$f":"Lists!B3","v":"Costco"},null,null,{"$f":"VLOOKUP(A42:A52,'YTD SUMMARY'!$A$653:$B$674,2,FALSE)","v":0},{"$error":"#DIV/0!"},null,{"$f":"VLOOKUP(A42:A52,'YTD SUMMARY'!$A$679:$B$700,2,FALSE)","v":0},{"$error":"#DIV/0!"}]
[{"$f":"Lists!B8","v":"Target"},null,null,{"$f":"VLOOKUP(A43:A52,'YTD SUMMARY'!$A$653:$B$674,2,FALSE)","v":0},{"$error":"#DIV/0!"},null,{"$f":"VLOOKUP(A43:A52,'YTD SUMMARY'!$A$679:$B$700,2,FALSE)","v":0},{"$error":"#DIV/0!"}]
[{"$f":"Lists!B12","v":"Yokes"},null,null,{"$f":"VLOOKUP(A44:A52,'YTD SUMMARY'!$A$653:$B$674,2,FALSE)","v":0},{"$error":"#DIV/0!"},null,{"$f":"VLOOKUP(A44:A52,'YTD SUMMARY'!$A$679:$B$700,2,FALSE)","v":0},{"$error":"#DIV/0!"}]
[{"$f":"Lists!B13","v":"Albertson's"},null,null,{"$f":"VLOOKUP(A45:A52,'YTD SUMMARY'!$A$653:$B$674,2,FALSE)","v":0},{"$error":"#DIV/0!"},null,{"$f":"VLOOKUP(A45:A52,'YTD SUMMARY'!$A$679:$B$700,2,FALSE)","v":0},{"$error":"#DIV/0!"}]
[{"$f":"Lists!B17","v":"Store 1"},null,null,{"$f":"VLOOKUP(A46:A52,'YTD SUMMARY'!$A$653:$B$674,2,FALSE)","v":0},{"$error":"#DIV/0!"},null,{"$f":"VLOOKUP(A46:A52,'YTD SUMMARY'!$A$679:$B$700,2,FALSE)","v":0},{"$error":"#DIV/0!"}]
[{"$f":"Lists!B18","v":"Store 2"},null,null,{"$f":"VLOOKUP(A47:A52,'YTD SUMMARY'!$A$653:$B$674,2,FALSE)","v":0},{"$error":"#DIV/0!"},null,{"$f":"VLOOKUP(A47:A52,'YTD SUMMARY'!$A$679:$B$700,2,FALSE)","v":0},{"$error":"#DIV/0!"}]
[{"$f":"Lists!B19","v":"Store 3"},null,null,{"$f":"VLOOKUP(A48:A52,'YTD SUMMARY'!$A$653:$B$674,2,FALSE)","v":0},{"$error":"#DIV/0!"},null,{"$f":"VLOOKUP(A48:A52,'YTD SUMMARY'!$A$679:$B$700,2,FALSE)","v":0},{"$error":"#DIV/0!"}]
[{"$f":"Lists!B20","v":"Store 4"},null,null,{"$f":"VLOOKUP(A49:A52,'YTD SUMMARY'!$A$653:$B$674,2,FALSE)","v":0},{"$f":"D49/$D$12","v":{"$error":"#DIV/0!"}},null,{"$f":"VLOOKUP(A49:A52,'YTD SUMMARY'!$A$679:$B$700,2,FALSE)","v":0},{"$f":"G49/$D$11","v":{"$error":"#DIV/0!"}}]
[{"$f":"Lists!B21","v":"Store 5"},null,null,{"$f":"VLOOKUP(A50:A52,'YTD SUMMARY'!$A$653:$B$674,2,FALSE)","v":0},{"$error":"#DIV/0!"},null,{"$f":"VLOOKUP(A50:A52,'YTD SUMMARY'!$A$679:$B$700,2,FALSE)","v":0},{"$error":"#DIV/0!"}]
[{"$f":"Lists!B22","v":"Store 6"},null,null,{"$f":"VLOOKUP(A51:A52,'YTD SUMMARY'!$A$653:$B$674,2,FALSE)","v":0},{"$error":"#DIV/0!"},null,{"$f":"VLOOKUP(A51:A52,'YTD SUMMARY'!$A$679:$B$700,2,FALSE)","v":0},{"$error":"#DIV/0!"}]
[{"$f":"Lists!B23","v":"Store 7"},null,null,{"$f":"VLOOKUP(A52:A52,'YTD SUMMARY'!$A$653:$B$674,2,FALSE)","v":0},{"$error":"#DIV/0!"},null,{"$f":"VLOOKUP(A52:A52,'YTD SUMMARY'!$A$679:$B$700,2,FALSE)","v":0},{"$error":"#DIV/0!"}]
["Hit Control U to Update"]
["Totals",null,null,{"$f":"SUM(D32:D53)","v":0},null,null,{"$f":"SUM(G32:G53)","v":0}]
[]
["Savings by Type Totals"]
[]
[{"$f":"Lists!C3","v":"Club Card/Sale Savings"},{"$f":"VLOOKUP(A58:A62,'YTD SUMMARY'!$A$707:$B$715,2,FALSE)","v":0},{"$f":"VLOOKUP(Summary!A58:A62,'YTD SUMMARY'!$A$720:$B$728,2,FALSE)","v":0},{"$f":"B58+C58","v":0}]
[{"$f":"Lists!C4","v":"Coupons Savings"},{"$f":"VLOOKUP(A59:A66,'YTD SUMMARY'!$A$707:$B$715,2,FALSE)","v":0},{"$f":"VLOOKUP(Summary!A59:A66,'YTD SUMMARY'!$A$720:$B$728,2,FALSE)","v":0},{"$f":"B59+C59","v":0}]
[{"$f":"Lists!C5","v":"Rebates"},{"$f":"VLOOKUP(A60:A67,'YTD SUMMARY'!$A$707:$B$715,2,FALSE)","v":0},{"$f":"VLOOKUP(Summary!A60:A67,'YTD SUMMARY'!$A$720:$B$728,2,FALSE)","v":0},{"$f":"B60+C60","v":0}]
[{"$f":"Lists!C6","v":"Misc1"},{"$f":"VLOOKUP(A61:A68,'YTD SUMMARY'!$A$707:$B$715,2,FALSE)","v":0},{"$f":"VLOOKUP(Summary!A61:A68,'YTD SUMMARY'!$A$720:$B$728,2,FALSE)","v":0},{"$f":"B61+C61","v":0}]
[{"$f":"Lists!C7","v":"Misc 2"},{"$f":"VLOOKUP(A58:A65,'YTD SUMMARY'!$A$707:$B$715,2,FALSE)","v":0},{"$f":"VLOOKUP(Summary!A62:A69,'YTD SUMMARY'!$A$720:$B$728,2,FALSE)","v":0},{"$f":"B62+C62","v":0}]
[{"$f":"Lists!C8","v":"Misc 3"},{"$f":"VLOOKUP(A58:A65,'YTD SUMMARY'!$A$707:$B$715,2,FALSE)","v":0},{"$f":"VLOOKUP(Summary!A63:A70,'YTD SUMMARY'!$A$720:$B$728,2,FALSE)","v":0},0]
[{"$f":"Lists!C9","v":"Misc 4"},{"$f":"VLOOKUP(A58:A65,'YTD SUMMARY'!$A$707:$B$715,2,FALSE)","v":0},{"$f":"VLOOKUP(Summary!A64:A71,'YTD SUMMARY'!$A$720:$B$728,2,FALSE)","v":0},0]
[{"$f":"Lists!C10","v":"Misc 5"},{"$f":"VLOOKUP(A65:A65,'YTD SUMMARY'!$A$707:$B$715,2,FALSE)","v":0},{"$f":"VLOOKUP(Summary!A65:A72,'YTD SUMMARY'!$A$720:$B$728,2,FALSE)","v":0},0]
[]
["Totals",null,null,{"$f":"SUM(D58:D66)","v":0}]
[]
["NOTE: Do not enter any information into this sheet!"]
["http://www.happymoneysaver.com"]
["http://www.facebook.com/HappyMoneySaver"]

{"sheet":"January","index":2,"n_rows":60,"n_cols":10,"rows_kept":60,"cut":false,"hidden":false,"merged":[]}
["The Coupon Savings Tracker"]
["website: ","http://happymoneysaver.com/",null,null,null,null,"  Monthly Spending Goal",null,null,250]
[null,null,null,null,null,null,"  Month to Date Spent",null,null,{"$f":"SUM(I9:I60)","v":0}]
[null,null,null,null,null,null,"  Amount left to Spend",null,null,{"$f":"J2-J3","v":250}]
[]
["Take me to the Summary Tab",null,null,null,null,null," Total Amount Saved from Coupons",null,null,{"$f":"SUM(J9:J60)","v":0}]
[]
["Date","Store","Saving Type","Savings","Saving Type","Savings","Spent","Tax","Total Spent","Total Saved"]
[null,null,null,null,null,null,null,null,{"$f":"G9+H9","v":0},{"$f":"D9+F9","v":0}]
[null,null,null,null,null,null,null,null,{"$f":"G10+H10","v":0},{"$f":"D10+F10","v":0}]
[null,null,null,null,null,null,null,null,0,0]
[null,null,null,null,null,null,null,null,0,0]
[null,null,null,null,null,null,null,null,0,0]
[null,null,null,null,null,null,null,null,0,0]
[null,null,null,null,null,null,null,null,0,0]
[null,null,null,null,null,null,null,null,0,0]
[null,null,null,null,null,null,null,null,0,0]
[null,null,null,null,null,null,null,null,0,0]
[null,null,null,null,null,null,null,null,0,0]
[null,null,null,null,null,null,null,null,0,0]
[null,null,null,null,null,null,null,null,0,0]
[null,null,null,null,null,null,null,null,0,0]
[null,null,null,null,null,null,null,null,0,0]
[null,null,null,null,null,null,null,null,0,0]
[null,null,null,null,null,null,null,null,0,0]
[null,null,null,null,null,null,null,null,0,0]
[null,null,null,null,null,null,null,null,0,0]
[null,null,null,null,null,null,null,null,0,0]
[null,null,null,null,null,null,null,null,0,0]
[null,null,null,null,null,null,null,null,0,0]
[null,null,null,null,null,null,null,null,0,0]
[null,null,null,null,null,null,null,null,0,0]
[null,null,null,null,null,null,null,null,0,0]
[null,null,null,null,null,null,null,null,0,0]
[null,null,null,null,null,null,null,null,0,0]
[null,null,null,null,null,null,null,null,0,0]
[null,null,null,null,null,null,null,null,0,0]
[null,null,null,null,null,null,null,null,0,0]
[null,null,null,null,null,null,null,null,0,0]
[null,null,null,null,null,null,null,null,0,0]
[null,null,null,null,null,null,null,null,0,0]
[null,null,null,null,null,null,null,null,0,0]
[null,null,null,null,null,null,null,null,0,0]
[null,null,null,null,null,null,null,null,{"$f":"G44+H44","v":0},{"$f":"D44+F44","v":0}]
[null,null,null,null,null,null,null,null,{"$f":"G45+H45","v":0},{"$f":"D45+F45","v":0}]
[null,null,null,null,null,null,null,null,0,0]
[null,null,null,null,null,null,null,null,0,0]
[null,null,null,null,null,null,null,null,0,0]
[null,null,null,null,null,null,null,null,0,0]
[null,null,null,null,null,null,null,null,0,0]
[null,null,null,null,null,null,null,null,0,0]
[null,null,null,null,null,null,null,null,0,0]
[null,null,null,null,null,null,null,null,0,0]
[null,null,null,null,null,null,null,null,0,0]
[null,null,null,null,null,null,null,null,0,0]
[null,null,null,null,null,null,null,null,0,0]
[null,null,null,null,null,null,null,null,0,0]
[null,null,null,null,null,null,null,null,0,0]
[null,null,null,null,null,null,null,null,0,0]
[null,null,null,null,null,null,null,null,0,0]

{"sheet":"February","index":3,"n_rows":60,"n_cols":10,"rows_kept":60,"cut":false,"hidden":false,"merged":[]}
["The Coupon Savings Tracker"]
["website: ","http://happymoneysaver.com/",null,null,null,null,"  Monthly Spending Goal",null,null,250]
[null,null,null,null,null,null,"  Month to Date Spent",null,null,{"$f":"SUM(I9:I60)","v":0}]
[null,null,null,null,null,null,"  Amount left to Spend",null,null,{"$f":"J2-J3","v":250}]
[]
["Take me to the Summary Tab",null,null,null,null,null," Total Amount Saved from Coupons",null,null,{"$f":"SUM(J9:J60)","v":0}]
[]
["Date","Store","Saving Type","Savings","Saving Type","Savings","Spent","Tax","Total Spent","Total Saved"]
[null,null,null,null,null,null,null,null,{"$f":"G9+H9","v":0},{"$f":"D9+F9","v":0}]
[null,null,null,null,null,null,null,null,{"$f":"G10+H10","v":0},{"$f":"D10+F10","v":0}]
[null,null,null,null,null,null,null,null,0,0]
[null,null,null,null,null,null,null,null,0,0]
[null,null,null,null,null,null,null,null,0,0]
[null,null,null,null,null,null,null,null,0,0]
[null,null,null,null,null,null,null,null,0,0]
[null,null,null,null,null,null,null,null,0,0]
[null,null,null,null,null,null,null,null,0,0]
[null,null,null,null,null,null,null,null,0,0]
[null,null,null,null,null,null,null,null,0,0]
[null,null,null,null,null,null,null,null,0,0]
[null,null,null,null,null,null,null,null,0,0]
[null,null,null,null,null,null,null,null,0,0]
[null,null,null,null,null,null,null,null,0,0]
[null,null,null,null,null,null,null,null,0,0]
[null,null,null,null,null,null,null,null,0,0]
[null,null,null,null,null,null,null,null,0,0]
[null,null,null,null,null,null,null,null,0,0]
[null,null,null,null,null,null,null,null,0,0]
[null,null,null,null,null,null,null,null,0,0]
[null,null,null,null,null,null,null,null,0,0]
[null,null,null,null,null,null,null,null,0,0]
[null,null,null,null,null,null,null,null,0,0]
[null,null,null,null,null,null,null,null,0,0]
[null,null,null,null,null,null,null,null,0,0]
[null,null,null,null,null,null,null,null,0,0]
[null,null,null,null,null,null,null,null,0,0]
[null,null,null,null,null,null,null,null,0,0]
[null,null,null,null,null,null,null,null,0,0]
[null,null,null,null,null,null,null,null,0,0]
[null,null,null,null,null,null,null,null,0,0]
[null,null,null,null,null,null,null,null,0,0]
[null,null,null,null,null,null,null,null,0,0]
[null,null,null,null,null,null,null,null,0,0]
[null,null,null,null,null,null,null,null,{"$f":"G44+H44","v":0},{"$f":"D44+F44","v":0}]
[null,null,null,null,null,null,null,null,0,0]
[null,null,null,null,null,null,null,null,0,0]
[null,null,null,null,null,null,null,null,0,0]
[null,null,null,null,null,null,null,null,0,0]
[null,null,null,null,null,null,null,null,0,0]
[null,null,null,null,null,null,null,null,0,0]
[null,null,null,null,null,null,null,null,0,0]
[null,null,null,null,null,null,null,null,0,0]
[null,null,null,null,null,null,null,null,0,0]
[null,null,null,null,null,null,null,null,0,0]
[null,null,null,null,null,null,null,null,0,0]
[null,null,null,null,null,null,null,null,0,0]
[null,null,null,null,null,null,null,null,0,0]
[null,null,null,null,null,null,null,null,0,0]
[null,null,null,null,null,null,null,null,0,0]
[null,null,null,null,null,null,0,null,0,0]

{"sheet":"March","index":4,"n_rows":60,"n_cols":10,"rows_kept":60,"cut":false,"hidden":false,"merged":[]}
["The Coupon Savings Tracker"]
["website: ","http://happymoneysaver.com/",null,null,null,null,"  Monthly Spending Goal",null,null,250]
[null,null,null,null,null,null,"  Month to Date Spent",null,null,{"$f":"SUM(I9:I60)","v":0}]
[null,null,null,null,null,null,"  Amount left to Spend",null,null,{"$f":"J2-J3","v":250}]
[]
["Take me to the Summary Tab",null,null,null,null,null," Total Amount Saved from Coupons",null,null,{"$f":"SUM(J9:J60)","v":0}]
[]
["Date","Store","Saving Type","Savings","Saving Type","Savings","Spent","Tax","Total Spent","Total Saved"]
[null,null,null,null,null,null,null,null,{"$f":"G9+H9","v":0},{"$f":"D9+F9","v":0}]
[null,null,null,null,null,null,null,null,{"$f":"G10+H10","v":0},{"$f":"D10+F10","v":0}]
[null,null,null,null,null,null,null,null,0,0]
[null,null,null,null,null,null,null,null,0,0]
[null,null,null,null,null,null,null,null,0,0]
[null,null,null,null,null,null,null,null,0,0]
[null,null,null,null,null,null,null,null,0,0]
[null,null,null,null,null,null,null,null,0,0]
[null,null,null,null,null,null,null,null,0,0]
[null,null,null,null,null,null,null,null,0,0]
[null,null,null,null,null,null,null,null,0,0]
[null,null,null,null,null,null,null,null,0,0]
[null,null,null,null,null,null,null,null,0,0]
[null,null,null,null,null,null,null,null,0,0]
[null,null,null,null,null,null,null,null,0,0]
[null,null,null,null,null,null,null,null,0,0]
[null,null,null,null,null,null,null,null,0,0]
[null,null,null,null,null,null,null,null,0,0]
[null,null,null,null,null,null,null,null,0,0]
[null,null,null,null,null,null,null,null,0,0]
[null,null,null,null,null,null,null,null,0,0]
[null,null,null,null,null,null,null,null,0,0]
[null,null,null,null,null,null,null,null,0,0]
[null,null,null,null,null,null,null,null,0,0]
[null,null,null,null,null,null,null,null,0,0]
[null,null,null,null,null,null,null,null,0,0]
[null,null,null,null,null,null,null,null,0,0]
[null,null,null,null,null,null,null,null,0,0]
[null,null,null,null,null,null,null,null,0,0]
[null,null,null,null,null,null,null,null,0,0]
[null,null,null,null,null,null,null,null,0,0]
[null,null,null,null,null,null,null,null,0,0]
[null,null,null,null,null,null,null,null,0,0]
[null,null,null,null,null,null,null,null,0,0]
[null,null,null,null,null,null,null,null,0,0]
[null,null,null,null,null,null,null,null,{"$f":"G44+H44","v":0},{"$f":"D44+F44","v":0}]
[null,null,null,null,null,null,null,null,0,0]
[null,null,null,null,null,null,null,null,0,0]
[null,null,null,null,null,null,null,null,0,0]
[null,null,null,null,null,null,null,null,0,0]
[null,null,null,null,null,null,null,null,0,0]
[null,null,null,null,null,null,null,null,0,0]
[null,null,null,null,null,null,null,null,0,0]
[null,null,null,null,null,null,null,null,0,0]
[null,null,null,null,null,null,null,null,0,0]
[null,null,null,null,null,null,null,null,0,0]
[null,null,null,null,null,null,null,null,0,0]
[null,null,null,null,null,null,null,null,0,0]
[null,null,null,null,null,null,null,null,0,0]
[null,null,null,null,null,null,null,null,0,0]
[null,null,null,null,null,null,null,null,0,0]
[null,null,null,null,null,null,null,null,0,0]

{"sheet":"April","index":5,"n_rows":60,"n_cols":10,"rows_kept":60,"cut":false,"hidden":false,"merged":[]}
["The Coupon Savings Tracker"]
["website: ","http://happymoneysaver.com/",null,null,null,null,"  Monthly Spending Goal",null,null,250]
[null,null,null,null,null,null,"  Month to Date Spent",null,null,{"$f":"SUM(I9:I60)","v":0}]
[null,null,null,null,null,null,"  Amount left to Spend",null,null,{"$f":"J2-J3","v":250}]
[]
["Take me to the Summary Tab",null,null,null,null,null," Total Amount Saved from Coupons",null,null,{"$f":"SUM(J9:J60)","v":0}]
[]
["Date","Store","Saving Type","Savings","Saving Type","Savings","Spent","Tax","Total Spent","Total Saved"]
[null,null,null,null,null,null,null,null,{"$f":"G9+H9","v":0},{"$f":"D9+F9","v":0}]
[null,null,null,null,null,null,null,null,{"$f":"G10+H10","v":0},{"$f":"D10+F10","v":0}]
[null,null,null,null,null,null,null,null,0,0]
[null,null,null,null,null,null,null,null,0,0]
[null,null,null,null,null,null,null,null,0,0]
[null,null,null,null,null,null,null,null,0,0]
[null,null,null,null,null,null,null,null,0,0]
[null,null,null,null,null,null,null,null,0,0]
[null,null,null,null,null,null,null,null,0,0]
[null,null,null,null,null,null,null,null,0,0]
[null,null,null,null,null,null,null,null,0,0]
[null,null,null,null,null,null,null,null,0,0]
[null,null,null,null,null,null,null,null,0,0]
[null,null,null,null,null,null,null,null,0,0]
[null,null,null,null,null,null,null,null,0,0]
[null,null,null,null,null,null,null,null,0,0]
[null,null,null,null,null,null,null,null,0,0]
[null,null,null,null,null,null,null,null,0,0]
[null,null,null,null,null,null,null,null,0,0]
[null,null,null,null,null,null,null,null,0,0]
[null,null,null,null,null,null,null,null,0,0]
[null,null,null,null,null,null,null,null,0,0]
[null,null,null,null,null,null,null,null,0,0]
[null,null,null,null,null,null,null,null,0,0]
[null,null,null,null,null,null,null,null,0,0]
[null,null,null,null,null,null,null,null,0,0]
[null,null,null,null,null,null,null,null,0,0]
[null,null,null,null,null,null,null,null,0,0]
[null,null,null,null,null,null,null,null,0,0]
[null,null,null,null,null,null,null,null,0,0]
[null,null,null,null,null,null,null,null,0,0]
[null,null,null,null,null,null,null,null,0,0]
[null,null,null,null,null,null,null,null,0,0]
[null,null,null,null,null,null,null,null,0,0]
[null,null,null,null,null,null,null,null,0,0]
[null,null,null,null,null,null,null,null,{"$f":"G44+H44","v":0},{"$f":"D44+F44","v":0}]
[null,null,null,null,null,null,null,null,0,0]
[null,null,null,null,null,null,null,null,0,0]
[null,null,null,null,null,null,null,null,0,0]
[null,null,null,null,null,null,null,null,0,0]
[null,null,null,null,null,null,null,null,0,0]
[null,null,null,null,null,null,null,null,0,0]
[null,null,null,null,null,null,null,null,0,0]
[null,null,null,null,null,null,null,null,0,0]
[null,null,null,null,null,null,null,null,0,0]
[null,null,null,null,null,null,null,null,0,0]
[null,null,null,null,null,null,null,null,0,0]
[null,null,null,null,null,null,null,null,0,0]
[null,null,null,null,null,null,null,null,0,0]
[null,null,null,null,null,null,null,null,0,0]
[null,null,null,null,null,null,null,null,0,0]
[null,null,null,null,null,null,null,null,0,0]

{"sheet":"May","index":6,"n_rows":60,"n_cols":10,"rows_kept":60,"cut":false,"hidden":false,"merged":[]}
["The Coupon Savings Tracker"]
["website: ","http://happymoneysaver.com/",null,null,null,null,"  Monthly Spending Goal",null,null,250]
[null,null,null,null,null,null,"  Month to Date Spent",null,null,{"$f":"SUM(I9:I60)","v":0}]
[null,null,null,null,null,null,"  Amount left to Spend",null,null,{"$f":"J2-J3","v":250}]
[]
["Take me to the Summary Tab",null,null,null,null,null," Total Amount Saved from Coupons",null,null,{"$f":"SUM(J9:J60)","v":0}]
[]
["Date","Store","Saving Type","Savings","Saving Type","Savings","Spent","Tax","Total Spent","Total Saved"]
[null,null,null,null,null,null,null,null,{"$f":"G9+H9","v":0},{"$f":"D9+F9","v":0}]
[null,null,null,null,null,null,null,null,{"$f":"G10+H10","v":0},{"$f":"D10+F10","v":0}]
[null,null,null,null,null,null,null,null,0,0]
[null,null,null,null,null,null,null,null,0,0]
[null,null,null,null,null,null,null,null,0,0]
[null,null,null,null,null,null,null,null,0,0]
[null,null,null,null,null,null,null,null,0,0]
[null,null,null,null,null,null,null,null,0,0]
[null,null,null,null,null,null,null,null,0,0]
[null,null,null,null,null,null,null,null,0,0]
[null,null,null,null,null,null,null,null,0,0]
[null,null,null,null,null,null,null,null,0,0]
[null,null,null,null,null,null,null,null,0,0]
[null,null,null,null,null,null,null,null,0,0]
[null,null,null,null,null,null,null,null,0,0]
[null,null,null,null,null,null,null,null,0,0]
[null,null,null,null,null,null,null,null,0,0]
[null,null,null,null,null,null,null,null,0,0]
[null,null,null,null,null,null,null,null,0,0]
[null,null,null,null,null,null,null,null,0,0]
[null,null,null,null,null,null,null,null,0,0]
[null,null,null,null,null,null,null,null,0,0]
[null,null,null,null,null,null,null,null,0,0]
[null,null,null,null,null,null,null,null,0,0]
[null,null,null,null,null,null,null,null,0,0]
[null,null,null,null,null,null,null,null,0,0]
[null,null,null,null,null,null,null,null,0,0]
[null,null,null,null,null,null,null,null,0,0]
[null,null,null,null,null,null,null,null,0,0]
[null,null,null,null,null,null,null,null,0,0]
[null,null,null,null,null,null,null,null,0,0]
[null,null,null,null,null,null,null,null,0,0]
[null,null,null,null,null,null,null,null,0,0]
[null,null,null,null,null,null,null,null,0,0]
[null,null,null,null,null,null,null,null,0,0]
[null,null,null,null,null,null,null,null,{"$f":"G44+H44","v":0},{"$f":"D44+F44","v":0}]
[null,null,null,null,null,null,null,null,0,0]
[null,null,null,null,null,null,null,null,0,0]
[null,null,null,null,null,null,null,null,0,0]
[null,null,null,null,null,null,null,null,0,0]
[null,null,null,null,null,null,null,null,0,0]
[null,null,null,null,null,null,null,null,0,0]
[null,null,null,null,null,null,null,null,0,0]
[null,null,null,null,null,null,null,null,0,0]
[null,null,null,null,null,null,null,null,0,0]
[null,null,null,null,null,null,null,null,0,0]
[null,null,null,null,null,null,null,null,0,0]
[null,null,null,null,null,null,null,null,0,0]
[null,null,null,null,null,null,null,null,0,0]
[null,null,null,null,null,null,null,null,0,0]
[null,null,null,null,null,null,null,null,0,0]
[null,null,null,null,null,null,null,null,0,0]

{"sheet":"June","index":7,"n_rows":60,"n_cols":10,"rows_kept":60,"cut":false,"hidden":false,"merged":[]}
["The Coupon Savings Tracker"]
["website: ","http://happymoneysaver.com/",null,null,null,null,"  Monthly Spending Goal",null,null,250]
[null,null,null,null,null,null,"  Month to Date Spent",null,null,{"$f":"SUM(I9:I60)","v":0}]
[null,null,null,null,null,null,"  Amount left to Spend",null,null,{"$f":"J2-J3","v":250}]
[]
["Take me to the Summary Tab",null,null,null,null,null," Total Amount Saved from Coupons",null,null,{"$f":"SUM(J9:J60)","v":0}]
[]
["Date","Store","Saving Type","Savings","Saving Type","Savings","Spent","Tax","Total Spent","Total Saved"]
[null,null,null,null,null,null,null,null,{"$f":"G9+H9","v":0},{"$f":"D9+F9","v":0}]
[null,null,null,null,null,null,null,null,{"$f":"G10+H10","v":0},{"$f":"D10+F10","v":0}]
[null,null,null,null,null,null,null,null,0,0]
[null,null,null,null,null,null,null,null,0,0]
[null,null,null,null,null,null,null,null,0,0]
[null,null,null,null,null,null,null,null,0,0]
[null,null,null,null,null,null,null,null,0,0]
[null,null,null,null,null,null,null,null,0,0]
[null,null,null,null,null,null,null,null,0,0]
[null,null,null,null,null,null,null,null,0,0]
[null,null,null,null,null,null,null,null,0,0]
[null,null,null,null,null,null,null,null,0,0]
[null,null,null,null,null,null,null,null,0,0]
[null,null,null,null,null,null,null,null,0,0]
[null,null,null,null,null,null,null,null,0,0]
[null,null,null,null,null,null,null,null,0,0]
[null,null,null,null,null,null,null,null,0,0]
[null,null,null,null,null,null,null,null,0,0]
[null,null,null,null,null,null,null,null,0,0]
[null,null,null,null,null,null,null,null,0,0]
[null,null,null,null,null,null,null,null,0,0]
[null,null,null,null,null,null,null,null,0,0]
[null,null,null,null,null,null,null,null,0,0]
[null,null,null,null,null,null,null,null,0,0]
[null,null,null,null,null,null,null,null,0,0]
[null,null,null,null,null,null,null,null,0,0]
[null,null,null,null,null,null,null,null,0,0]
[null,null,null,null,null,null,null,null,0,0]
[null,null,null,null,null,null,null,null,0,0]
[null,null,null,null,null,null,null,null,0,0]
[null,null,null,null,null,null,null,null,0,0]
[null,null,null,null,null,null,null,null,0,0]
[null,null,null,null,null,null,null,null,0,0]
[null,null,null,null,null,null,null,null,0,0]
[null,null,null,null,null,null,null,null,0,0]
[null,null,null,null,null,null,null,null,{"$f":"G44+H44","v":0},{"$f":"D44+F44","v":0}]
[null,null,null,null,null,null,null,null,0,0]
[null,null,null,null,null,null,null,null,0,0]
[null,null,null,null,null,null,null,null,0,0]
[null,null,null,null,null,null,null,null,0,0]
[null,null,null,null,null,null,null,null,0,0]
[null,null,null,null,null,null,null,null,0,0]
[null,null,null,null,null,null,null,null,0,0]
[null,null,null,null,null,null,null,null,0,0]
[null,null,null,null,null,null,null,null,0,0]
[null,null,null,null,null,null,null,null,0,0]
[null,null,null,null,null,null,null,null,0,0]
[null,null,null,null,null,null,null,null,0,0]
[null,null,null,null,null,null,null,null,0,0]
[null,null,null,null,null,null,null,null,0,0]
[null,null,null,null,null,null,null,null,0,0]
[null,null,null,null,null,null,null,null,0,0]

{"sheet":"July","index":8,"n_rows":60,"n_cols":10,"rows_kept":60,"cut":false,"hidden":false,"merged":[]}
["The Coupon Savings Tracker"]
["website: ","http://happymoneysaver.com/",null,null,null,null,"  Monthly Spending Goal",null,null,250]
[null,null,null,null,null,null,"  Month to Date Spent",null,null,{"$f":"SUM(I9:I60)","v":0}]
[null,null,null,null,null,null,"  Amount left to Spend",null,null,{"$f":"J2-J3","v":250}]
[]
["Take me to the Summary Tab",null,null,null,null,null," Total Amount Saved from Coupons",null,null,{"$f":"SUM(J9:J60)","v":0}]
[]
["Date","Store","Saving Type","Savings","Saving Type","Savings","Spent","Tax","Total Spent","Total Saved"]
[null,null,null,null,null,null,null,null,{"$f":"G9+H9","v":0},{"$f":"D9+F9","v":0}]
[null,null,null,null,null,null,null,null,{"$f":"G10+H10","v":0},{"$f":"D10+F10","v":0}]
[null,null,null,null,null,null,null,null,0,0]
[null,null,null,null,null,null,null,null,0,0]
[null,null,null,null,null,null,null,null,0,0]
[null,null,null,null,null,null,null,null,0,0]
[null,null,null,null,null,null,null,null,0,0]
[null,null,null,null,null,null,null,null,0,0]
[null,null,null,null,null,null,null,null,0,0]
[null,null,null,null,null,null,null,null,0,0]
[null,null,null,null,null,null,null,null,0,0]
[null,null,null,null,null,null,null,null,0,0]
[null,null,null,null,null,null,null,null,0,0]
[null,null,null,null,null,null,null,null,0,0]
[null,null,null,null,null,null,null,null,0,0]
[null,null,null,null,null,null,null,null,0,0]
[null,null,null,null,null,null,null,null,0,0]
[null,null,null,null,null,null,null,null,0,0]
[null,null,null,null,null,null,null,null,0,0]
[null,null,null,null,null,null,null,null,0,0]
[null,null,null,null,null,null,null,null,0,0]
[null,null,null,null,null,null,null,null,0,0]
[null,null,null,null,null,null,null,null,0,0]
[null,null,null,null,null,null,null,null,0,0]
[null,null,null,null,null,null,null,null,0,0]
[null,null,null,null,null,null,null,null,0,0]
[null,null,null,null,null,null,null,null,0,0]
[null,null,null,null,null,null,null,null,0,0]
[null,null,null,null,null,null,null,null,0,0]
[null,null,null,null,null,null,null,null,0,0]
[null,null,null,null,null,null,null,null,0,0]
[null,null,null,null,null,null,null,null,0,0]
[null,null,null,null,null,null,null,null,0,0]
[null,null,null,null,null,null,null,null,0,0]
[null,null,null,null,null,null,null,null,0,0]
[null,null,null,null,null,null,null,null,{"$f":"G44+H44","v":0},{"$f":"D44+F44","v":0}]
[null,null,null,null,null,null,null,null,0,0]
[null,null,null,null,null,null,null,null,0,0]
[null,null,null,null,null,null,null,null,0,0]
[null,null,null,null,null,null,null,null,0,0]
[null,null,null,null,null,null,null,null,0,0]
[null,null,null,null,null,null,null,null,0,0]
[null,null,null,null,null,null,null,null,0,0]
[null,null,null,null,null,null,null,null,0,0]
[null,null,null,null,null,null,null,null,0,0]
[null,null,null,null,null,null,null,null,0,0]
[null,null,null,null,null,null,null,null,0,0]
[null,null,null,null,null,null,null,null,0,0]
[null,null,null,null,null,null,null,null,0,0]
[null,null,null,null,null,null,null,null,0,0]
[null,null,null,null,null,null,null,null,0,0]
[null,null,null,null,null,null,null,null,0,0]

{"sheet":"August","index":9,"n_rows":60,"n_cols":10,"rows_kept":60,"cut":false,"hidden":false,"merged":[]}
["The Coupon Savings Tracker"]
["website: ","http://happymoneysaver.com/",null,null,null,null,"  Monthly Spending Goal",null,null,250]
[null,null,null,null,null,null,"  Month to Date Spent",null,null,{"$f":"SUM(I9:I60)","v":0}]
[null,null,null,null,null,null,"  Amount left to Spend",null,null,{"$f":"J2-J3","v":250}]
[]
["Take me to the Summary Tab",null,null,null,null,null," Total Amount Saved from Coupons",null,null,{"$f":"SUM(J9:J60)","v":0}]
[]
["Date","Store","Saving Type","Savings","Saving Type","Savings","Spent","Tax","Total Spent","Total Saved"]
[null,null,null,null,null,null,null,null,{"$f":"G9+H9","v":0},{"$f":"D9+F9","v":0}]
[null,null,null,null,null,null,null,null,{"$f":"G10+H10","v":0},{"$f":"D10+F10","v":0}]
[null,null,null,null,null,null,null,null,0,0]
[null,null,null,null,null,null,null,null,0,0]
[null,null,null,null,null,null,null,null,0,0]
[null,null,null,null,null,null,null,null,0,0]
[null,null,null,null,null,null,null,null,0,0]
[null,null,null,null,null,null,null,null,0,0]
[null,null,null,null,null,null,null,null,0,0]
[null,null,null,null,null,null,null,null,0,0]
[null,null,null,null,null,null,null,null,0,0]
[null,null,null,null,null,null,null,null,0,0]
[null,null,null,null,null,null,null,null,0,0]
[null,null,null,null,null,null,null,null,0,0]
[null,null,null,null,null,null,null,null,0,0]
[null,null,null,null,null,null,null,null,0,0]
[null,null,null,null,null,null,null,null,0,0]
[null,null,null,null,null,null,null,null,0,0]
[null,null,null,null,null,null,null,null,0,0]
[null,null,null,null,null,null,null,null,0,0]
[null,null,null,null,null,null,null,null,0,0]
[null,null,null,null,null,null,null,null,0,0]
[null,null,null,null,null,null,null,null,0,0]
[null,null,null,null,null,null,null,null,0,0]
[null,null,null,null,null,null,null,null,0,0]
[null,null,null,null,null,null,null,null,0,0]
[null,null,null,null,null,null,null,null,0,0]
[null,null,null,null,null,null,null,null,0,0]
[null,null,null,null,null,null,null,null,0,0]
[null,null,null,null,null,null,null,null,0,0]
[null,null,null,null,null,null,null,null,0,0]
[null,null,null,null,null,null,null,null,0,0]
[null,null,null,null,null,null,null,null,0,0]
[null,null,null,null,null,null,null,null,0,0]
[null,null,null,null,null,null,null,null,0,0]
[null,null,null,null,null,null,null,null,{"$f":"G44+H44","v":0},{"$f":"D44+F44","v":0}]
[null,null,null,null,null,null,null,null,0,0]
[null,null,null,null,null,null,null,null,0,0]
[null,null,null,null,null,null,null,null,0,0]
[null,null,null,null,null,null,null,null,0,0]
[null,null,null,null,null,null,null,null,0,0]
[null,null,null,null,null,null,null,null,0,0]
[null,null,null,null,null,null,null,null,0,0]
[null,null,null,null,null,null,null,null,0,0]
[null,null,null,null,null,null,null,null,0,0]
[null,null,null,null,null,null,null,null,0,0]
[null,null,null,null,null,null,null,null,0,0]
[null,null,null,null,null,null,null,null,0,0]
[null,null,null,null,null,null,null,null,0,0]
[null,null,null,null,null,null,null,null,0,0]
[null,null,null,null,null,null,null,null,0,0]
[null,null,null,null,null,null,null,null,0,0]

{"sheet":"September","index":10,"n_rows":60,"n_cols":10,"rows_kept":60,"cut":false,"hidden":false,"merged":[]}
["The Coupon Savings Tracker"]
["website: ","http://happymoneysaver.com/",null,null,null,null,"  Monthly Spending Goal",null,null,250]
[null,null,null,null,null,null,"  Month to Date Spent",null,null,{"$f":"SUM(I9:I60)","v":0}]
[null,null,null,null,null,null,"  Amount left to Spend",null,null,{"$f":"J2-J3","v":250}]
[]
["Take me to the Summary Tab",null,null,null,null,null," Total Amount Saved from Coupons",null,null,{"$f":"SUM(J9:J60)","v":0}]
[]
["Date","Store","Saving Type","Savings","Saving Type","Savings","Spent","Tax","Total Spent","Total Saved"]
[null,null,null,null,null,null,null,null,{"$f":"G9+H9","v":0},{"$f":"D9+F9","v":0}]
[null,null,null,null,null,null,null,null,{"$f":"G10+H10","v":0},{"$f":"D10+F10","v":0}]
[null,null,null,null,null,null,null,null,0,0]
[null,null,null,null,null,null,null,null,0,0]
[null,null,null,null,null,null,null,null,0,0]
[null,null,null,null,null,null,null,null,0,0]
[null,null,null,null,null,null,null,null,0,0]
[null,null,null,null,null,null,null,null,0,0]
[null,null,null,null,null,null,null,null,0,0]
[null,null,null,null,null,null,null,null,0,0]
[null,null,null,null,null,null,null,null,0,0]
[null,null,null,null,null,null,null,null,0,0]
[null,null,null,null,null,null,null,null,0,0]
[null,null,null,null,null,null,null,null,0,0]
[null,null,null,null,null,null,null,null,0,0]
[null,null,null,null,null,null,null,null,0,0]
[null,null,null,null,null,null,null,null,0,0]
[null,null,null,null,null,null,null,null,0,0]
[null,null,null,null,null,null,null,null,0,0]
[null,null,null,null,null,null,null,null,0,0]
[null,null,null,null,null,null,null,null,0,0]
[null,null,null,null,null,null,null,null,0,0]
[null,null,null,null,null,null,null,null,0,0]
[null,null,null,null,null,null,null,null,0,0]
[null,null,null,null,null,null,null,null,0,0]
[null,null,null,null,null,null,null,null,0,0]
[null,null,null,null,null,null,null,null,0,0]
[null,null,null,null,null,null,null,null,0,0]
[null,null,null,null,null,null,null,null,0,0]
[null,null,null,null,null,null,null,null,0,0]
[null,null,null,null,null,null,null,null,0,0]
[null,null,null,null,null,null,null,null,0,0]
[null,null,null,null,null,null,null,null,0,0]
[null,null,null,null,null,null,null,null,0,0]
[null,null,null,null,null,null,null,null,0,0]
[null,null,null,null,null,null,null,null,{"$f":"G44+H44","v":0},{"$f":"D44+F44","v":0}]
[null,null,null,null,null,null,null,null,0,0]
[null,null,null,null,null,null,null,null,0,0]
[null,null,null,null,null,null,null,null,0,0]
[null,null,null,null,null,null,null,null,0,0]
[null,null,null,null,null,null,null,null,0,0]
[null,null,null,null,null,null,null,null,0,0]
[null,null,null,null,null,null,null,null,0,0]
[null,null,null,null,null,null,null,null,0,0]
[null,null,null,null,null,null,null,null,0,0]
[null,null,null,null,null,null,null,null,0,0]
[null,null,null,null,null,null,null,null,0,0]
[null,null,null,null,null,null,null,null,0,0]
[null,null,null,null,null,null,null,null,0,0]
[null,null,null,null,null,null,null,null,0,0]
[null,null,null,null,null,null,null,null,0,0]
[null,null,null,null,null,null,null,null,0,0]

{"sheet":"October","index":11,"n_rows":60,"n_cols":10,"rows_kept":60,"cut":false,"hidden":false,"merged":[]}
["The Coupon Savings Tracker"]
["website: ","http://happymoneysaver.com/",null,null,null,null,"  Monthly Spending Goal",null,null,250]
[null,null,null,null,null,null,"  Month to Date Spent",null,null,{"$f":"SUM(I9:I60)","v":0}]
[null,null,null,null,null,null,"  Amount left to Spend",null,null,{"$f":"J2-J3","v":250}]
[]
["Take me to the Summary Tab",null,null,null,null,null," Total Amount Saved from Coupons",null,null,{"$f":"SUM(J9:J60)","v":0}]
[]
["Date","Store","Saving Type","Savings","Saving Type","Savings","Spent","Tax","Total Spent","Total Saved"]
[null,null,null,null,null,null,null,null,{"$f":"G9+H9","v":0},{"$f":"D9+F9","v":0}]
[null,null,null,null,null,null,null,null,{"$f":"G10+H10","v":0},{"$f":"D10+F10","v":0}]
[null,null,null,null,null,null,null,null,0,0]
[null,null,null,null,null,null,null,null,0,0]
[null,null,null,null,null,null,null,null,0,0]
[null,null,null,null,null,null,null,null,0,0]
[null,null,null,null,null,null,null,null,0,0]
[null,null,null,null,null,null,null,null,0,0]
[null,null,null,null,null,null,null,null,0,0]
[null,null,null,null,null,null,null,null,0,0]
[null,null,null,null,null,null,null,null,0,0]
[null,null,null,null,null,null,null,null,0,0]
[null,null,null,null,null,null,null,null,0,0]
[null,null,null,null,null,null,null,null,0,0]
[null,null,null,null,null,null,null,null,0,0]
[null,null,null,null,null,null,null,null,0,0]
[null,null,null,null,null,null,null,null,0,0]
[null,null,null,null,null,null,null,null,0,0]
[null,null,null,null,null,null,null,null,0,0]
[null,null,null,null,null,null,null,null,0,0]
[null,null,null,null,null,null,null,null,0,0]
[null,null,null,null,null,null,null,null,0,0]
[null,null,null,null,null,null,null,null,0,0]
[null,null,null,null,null,null,null,null,0,0]
[null,null,null,null,null,null,null,null,0,0]
[null,null,null,null,null,null,null,null,0,0]
[null,null,null,null,null,null,null,null,0,0]
[null,null,null,null,null,null,null,null,0,0]
[null,null,null,null,null,null,null,null,0,0]
[null,null,null,null,null,null,null,null,0,0]
[null,null,null,null,null,null,null,null,0,0]
[null,null,null,null,null,null,null,null,0,0]
[null,null,null,null,null,null,null,null,0,0]
[null,null,null,null,null,null,null,null,0,0]
[null,null,null,null,null,null,null,null,0,0]
[null,null,null,null,null,null,null,null,{"$f":"G44+H44","v":0},{"$f":"D44+F44","v":0}]
[null,null,null,null,null,null,null,null,0,0]
[null,null,null,null,null,null,null,null,0,0]
[null,null,null,null,null,null,null,null,0,0]
[null,null,null,null,null,null,null,null,0,0]
[null,null,null,null,null,null,null,null,0,0]
[null,null,null,null,null,null,null,null,0,0]
[null,null,null,null,null,null,null,null,0,0]
[null,null,null,null,null,null,null,null,0,0]
[null,null,null,null,null,null,null,null,0,0]
[null,null,null,null,null,null,null,null,0,0]
[null,null,null,null,null,null,null,null,0,0]
[null,null,null,null,null,null,null,null,0,0]
[null,null,null,null,null,null,null,null,0,0]
[null,null,null,null,null,null,null,null,0,0]
[null,null,null,null,null,null,null,null,0,0]
[null,null,null,null,null,null,null,null,0,0]

{"sheet":"November","index":12,"n_rows":60,"n_cols":10,"rows_kept":60,"cut":false,"hidden":false,"merged":[]}
["The Coupon Savings Tracker"]
["website: ","http://happymoneysaver.com/",null,null,null,null,"  Monthly Spending Goal",null,null,250]
[null,null,null,null,null,null,"  Month to Date Spent",null,null,{"$f":"SUM(I9:I60)","v":0}]
[null,null,null,null,null,null,"  Amount left to Spend",null,null,{"$f":"J2-J3","v":250}]
[]
["Take me to the Summary Tab",null,null,null,null,null," Total Amount Saved from Coupons",null,null,{"$f":"SUM(J9:J60)","v":0}]
[]
["Date","Store","Saving Type","Savings","Saving Type","Savings","Spent","Tax","Total Spent","Total Saved"]
[null,null,null,null,null,null,null,null,{"$f":"G9+H9","v":0},{"$f":"D9+F9","v":0}]
[null,null,null,null,null,null,null,null,{"$f":"G10+H10","v":0},{"$f":"D10+F10","v":0}]
[null,null,null,null,null,null,null,null,0,0]
[null,null,null,null,null,null,null,null,0,0]
[null,null,null,null,null,null,null,null,0,0]
[null,null,null,null,null,null,null,null,0,0]
[null,null,null,null,null,null,null,null,0,0]
[null,null,null,null,null,null,null,null,0,0]
[null,null,null,null,null,null,null,null,0,0]
[null,null,null,null,null,null,null,null,0,0]
[null,null,null,null,null,null,null,null,0,0]
[null,null,null,null,null,null,null,null,0,0]
[null,null,null,null,null,null,null,null,0,0]
[null,null,null,null,null,null,null,null,0,0]
[null,null,null,null,null,null,null,null,0,0]
[null,null,null,null,null,null,null,null,0,0]
[null,null,null,null,null,null,null,null,0,0]
[null,null,null,null,null,null,null,null,0,0]
[null,null,null,null,null,null,null,null,0,0]
[null,null,null,null,null,null,null,null,0,0]
[null,null,null,null,null,null,null,null,0,0]
[null,null,null,null,null,null,null,null,0,0]
[null,null,null,null,null,null,null,null,0,0]
[null,null,null,null,null,null,null,null,0,0]
[null,null,null,null,null,null,null,null,0,0]
[null,null,null,null,null,null,null,null,0,0]
[null,null,null,null,null,null,null,null,0,0]
[null,null,null,null,null,null,null,null,0,0]
[null,null,null,null,null,null,null,null,0,0]
[null,null,null,null,null,null,null,null,0,0]
[null,null,null,null,null,null,null,null,0,0]
[null,null,null,null,null,null,null,null,0,0]
[null,null,null,null,null,null,null,null,0,0]
[null,null,null,null,null,null,null,null,0,0]
[null,null,null,null,null,null,null,null,0,0]
[null,null,null,null,null,null,null,null,{"$f":"G44+H44","v":0},{"$f":"D44+F44","v":0}]
[null,null,null,null,null,null,null,null,0,0]
[null,null,null,null,null,null,null,null,0,0]
[null,null,null,null,null,null,null,null,0,0]
[null,null,null,null,null,null,null,null,0,0]
[null,null,null,null,null,null,null,null,0,0]
[null,null,null,null,null,null,null,null,0,0]
[null,null,null,null,null,null,null,null,0,0]
[null,null,null,null,null,null,null,null,0,0]
[null,null,null,null,null,null,null,null,0,0]
[null,null,null,null,null,null,null,null,0,0]
[null,null,null,null,null,null,null,null,0,0]
[null,null,null,null,null,null,null,null,0,0]
[null,null,null,null,null,null,null,null,0,0]
[null,null,null,null,null,null,null,null,0,0]
[null,null,null,null,null,null,null,null,0,0]
[null,null,null,null,null,null,null,null,0,0]

{"sheet":"December","index":13,"n_rows":60,"n_cols":10,"rows_kept":60,"cut":false,"hidden":false,"merged":[]}
["The Coupon Savings Tracker"]
["website: ","http://happymoneysaver.com/",null,null,null,null,"  Monthly Spending Goal",null,null,250]
[null,null,null,null,null,null,"  Month to Date Spent",null,null,{"$f":"SUM(I9:I60)","v":0}]
[null,null,null,null,null,null,"  Amount left to Spend",null,null,{"$f":"J2-J3","v":250}]
[]
["Take me to the Summary Tab",null,null,null,null,null," Total Amount Saved from Coupons",null,null,{"$f":"SUM(J9:J60)","v":0}]
[]
["Date","Store","Saving Type","Savings","Saving Type","Savings","Spent","Tax","Total Spent","Total Saved"]
[null,null,null,null,null,null,null,null,{"$f":"G9+H9","v":0},{"$f":"D9+F9","v":0}]
[null,null,null,null,null,null,null,null,{"$f":"G10+H10","v":0},{"$f":"D10+F10","v":0}]
[null,null,null,null,null,null,null,null,0,0]
[null,null,null,null,null,null,null,null,0,0]
[null,null,null,null,null,null,null,null,0,0]
[null,null,null,null,null,null,null,null,0,0]
[null,null,null,null,null,null,null,null,0,0]
[null,null,null,null,null,null,null,null,0,0]
[null,null,null,null,null,null,null,null,0,0]
[null,null,null,null,null,null,null,null,0,0]
[null,null,null,null,null,null,null,null,0,0]
[null,null,null,null,null,null,null,null,0,0]
[null,null,null,null,null,null,null,null,0,0]
[null,null,null,null,null,null,null,null,0,0]
[null,null,null,null,null,null,null,null,0,0]
[null,null,null,null,null,null,null,null,0,0]
[null,null,null,null,null,null,null,null,0,0]
[null,null,null,null,null,null,null,null,0,0]
[null,null,null,null,null,null,null,null,0,0]
[null,null,null,null,null,null,null,null,0,0]
[null,null,null,null,null,null,null,null,0,0]
[null,null,null,null,null,null,null,null,0,0]
[null,null,null,null,null,null,null,null,0,0]
[null,null,null,null,null,null,null,null,0,0]
[null,null,null,null,null,null,null,null,0,0]
[null,null,null,null,null,null,null,null,0,0]
[null,null,null,null,null,null,null,null,0,0]
[null,null,null,null,null,null,null,null,0,0]
[null,null,null,null,null,null,null,null,0,0]
[null,null,null,null,null,null,null,null,0,0]
[null,null,null,null,null,null,null,null,0,0]
[null,null,null,null,null,null,null,null,0,0]
[null,null,null,null,null,null,null,null,0,0]
[null,null,null,null,null,null,null,null,0,0]
[null,null,null,null,null,null,null,null,0,0]
[null,null,null,null,null,null,null,null,{"$f":"G44+H44","v":0},{"$f":"D44+F44","v":0}]
[null,null,null,null,null,null,null,null,0,0]
[null,null,null,null,null,null,null,null,0,0]
[null,null,null,null,null,null,null,null,0,0]
[null,null,null,null,null,null,null,null,0,0]
[null,null,null,null,null,null,null,null,0,0]
[null,null,null,null,null,null,null,null,0,0]
[null,null,null,null,null,null,null,null,0,0]
[null,null,null,null,null,null,null,null,0,0]
[null,null,null,null,null,null,null,null,0,0]
[null,null,null,null,null,null,null,null,0,0]
[null,null,null,null,null,null,null,null,0,0]
[null,null,null,null,null,null,null,null,0,0]
[null,null,null,null,null,null,null,null,0,0]
[null,null,null,null,null,null,null,null,0,0]
[null,null,null,null,null,null,null,null,0,0]
[null,null,null,null,null,null,null,null,0,0]

{"sheet":"Lists","index":14,"n_rows":38,"n_cols":3,"rows_kept":38,"cut":false,"hidden":false,"merged":[]}
[]
[null,"Store List","Savings"]
[null,"Costco","Club Card/Sale Savings"]
[null,"CVS","Coupons Savings"]
[null,"Fred Meyer","Rebates"]
[null,"RiteAid","Misc1"]
[null,"Smiths","Misc 2"]
[null,"Target","Misc 3"]
[null,"Walgreens","Misc 4"]
[null,"Walmart ","Misc 5"]
[null,"Winco"]
[null,"Yokes"]
[null,"Albertson's"]
[null,"Safeway"]
[null,"Lowes"]
[null,"Savon"]
[null,"Store 1"]
[null,"Store 2"]
[null,"Store 3"]
[null,"Store 4"]
[null,"Store 5"]
[null,"Store 6"]
[null,"Store 7"]
[]
[]
[null,"How to Customize this Coupon Savings Tracker to your own stores you shop at:"]
[null,"1.) Click on the name of the store you want changed. "]
[null,"2.) Click \"backspace\" to remove the current store name. (do not use delete or \"clear contents\" or you will mess up this spreadsheet. )"]
[null,"3.) Type in your store name"]
[null,"4.) After you change all the names to your own stores - go to the summary tab below and click CTRL + U to update your changes. "]
[]
[]
[]
[null,"How to change the Savings Type:"]
[null,"1.) Click on the name of the savings type you want changed. "]
[null,"2.) Click \"backspace\" to remove the current savings type. (do not use delete or \"clear contents\" or you will mess up this spreadsheet. )"]
[null,"3.) Type in your new savings type"]
[null,"4.) Go to the summary tab below and click CTRL + U to update your changes. "]

{"sheet":"YTD SUMMARY","index":15,"n_rows":738,"n_cols":10,"rows_kept":738,"cut":false,"hidden":false,"merged":[]}
[]
[]
[]
["Date","Store","Saving Type","Savings","Saving Type","Savings","Spent","Tax","Total Spent","Total Saved"]
[{"$f":"January!A9","v":"00:00:00"},{"$f":"January!B9","v":0},{"$f":"January!C9","v":0},{"$f":"January!D9","v":0},{"$f":"January!E9","v":0},{"$f":"January!F9","v":0},{"$f":"January!G9","v":0},{"$f":"January!H9","v":0},{"$f":"January!I9","v":0},{"$f":"January!J9","v":0}]
[{"$f":"January!A10","v":"00:00:00"},{"$f":"January!B10","v":0},{"$f":"January!C10","v":0},{"$f":"January!D10","v":0},{"$f":"January!E10","v":0},{"$f":"January!F10","v":0},{"$f":"January!G10","v":0},{"$f":"January!H10","v":0},{"$f":"January!I10","v":0},{"$f":"January!J10","v":0}]
[{"$f":"January!A11","v":"00:00:00"},{"$f":"January!B11","v":0},{"$f":"January!C11","v":0},{"$f":"January!D11","v":0},{"$f":"January!E11","v":0},{"$f":"January!F11","v":0},{"$f":"January!G11","v":0},{"$f":"January!H11","v":0},{"$f":"January!I11","v":0},{"$f":"January!J11","v":0}]
[{"$f":"January!A12","v":"00:00:00"},{"$f":"January!B12","v":0},{"$f":"January!C12","v":0},{"$f":"January!D12","v":0},{"$f":"January!E12","v":0},{"$f":"January!F12","v":0},{"$f":"January!G12","v":0},{"$f":"January!H12","v":0},{"$f":"January!I12","v":0},{"$f":"January!J12","v":0}]
[{"$f":"January!A13","v":"00:00:00"},{"$f":"January!B13","v":0},{"$f":"January!C13","v":0},{"$f":"January!D13","v":0},{"$f":"January!E13","v":0},{"$f":"January!F13","v":0},{"$f":"January!G13","v":0},{"$f":"January!H13","v":0},{"$f":"January!I13","v":0},{"$f":"January!J13","v":0}]
[{"$f":"January!A14","v":"00:00:00"},{"$f":"January!B14","v":0},{"$f":"January!C14","v":0},{"$f":"January!D14","v":0},{"$f":"January!E14","v":0},{"$f":"January!F14","v":0},{"$f":"January!G14","v":0},{"$f":"January!H14","v":0},{"$f":"January!I14","v":0},{"$f":"January!J14","v":0}]
[{"$f":"January!A15","v":"00:00:00"},{"$f":"January!B15","v":0},{"$f":"January!C15","v":0},{"$f":"January!D15","v":0},{"$f":"January!E15","v":0},{"$f":"January!F15","v":0},{"$f":"January!G15","v":0},{"$f":"January!H15","v":0},{"$f":"January!I15","v":0},{"$f":"January!J15","v":0}]
[{"$f":"January!A16","v":"00:00:00"},{"$f":"January!B16","v":0},{"$f":"January!C16","v":0},{"$f":"January!D16","v":0},{"$f":"January!E16","v":0},{"$f":"January!F16","v":0},{"$f":"January!G16","v":0},{"$f":"January!H16","v":0},{"$f":"January!I16","v":0},{"$f":"January!J16","v":0}]
[{"$f":"January!A17","v":"00:00:00"},{"$f":"January!B17","v":0},{"$f":"January!C17","v":0},{"$f":"January!D17","v":0},{"$f":"January!E17","v":0},{"$f":"January!F17","v":0},{"$f":"January!G17","v":0},{"$f":"January!H17","v":0},{"$f":"January!I17","v":0},{"$f":"January!J17","v":0}]
[{"$f":"January!A18","v":"00:00:00"},{"$f":"January!B18","v":0},{"$f":"January!C18","v":0},{"$f":"January!D18","v":0},{"$f":"January!E18","v":0},{"$f":"January!F18","v":0},{"$f":"January!G18","v":0},{"$f":"January!H18","v":0},{"$f":"January!I18","v":0},{"$f":"January!J18","v":0}]
[{"$f":"January!A19","v":"00:00:00"},{"$f":"January!B19","v":0},{"$f":"January!C19","v":0},{"$f":"January!D19","v":0},{"$f":"January!E19","v":0},{"$f":"January!F19","v":0},{"$f":"January!G19","v":0},{"$f":"January!H19","v":0},{"$f":"January!I19","v":0},{"$f":"January!J19","v":0}]
[{"$f":"January!A20","v":"00:00:00"},{"$f":"January!B20","v":0},{"$f":"January!C20","v":0},{"$f":"January!D20","v":0},{"$f":"January!E20","v":0},{"$f":"January!F20","v":0},{"$f":"January!G20","v":0},{"$f":"January!H20","v":0},{"$f":"January!I20","v":0},{"$f":"January!J20","v":0}]
[{"$f":"January!A21","v":"00:00:00"},{"$f":"January!B21","v":0},{"$f":"January!C21","v":0},{"$f":"January!D21","v":0},{"$f":"January!E21","v":0},{"$f":"January!F21","v":0},{"$f":"January!G21","v":0},{"$f":"January!H21","v":0},{"$f":"January!I21","v":0},{"$f":"January!J21","v":0}]
[{"$f":"January!A22","v":"00:00:00"},{"$f":"January!B22","v":0},{"$f":"January!C22","v":0},{"$f":"January!D22","v":0},{"$f":"January!E22","v":0},{"$f":"January!F22","v":0},{"$f":"January!G22","v":0},{"$f":"January!H22","v":0},{"$f":"January!I22","v":0},{"$f":"January!J22","v":0}]
[{"$f":"January!A23","v":"00:00:00"},{"$f":"January!B23","v":0},{"$f":"January!C23","v":0},{"$f":"January!D23","v":0},{"$f":"January!E23","v":0},{"$f":"January!F23","v":0},{"$f":"January!G23","v":0},{"$f":"January!H23","v":0},{"$f":"January!I23","v":0},{"$f":"January!J23","v":0}]
[{"$f":"January!A24","v":"00:00:00"},{"$f":"January!B24","v":0},{"$f":"January!C24","v":0},{"$f":"January!D24","v":0},{"$f":"January!E24","v":0},{"$f":"January!F24","v":0},{"$f":"January!G24","v":0},{"$f":"January!H24","v":0},{"$f":"January!I24","v":0},{"$f":"January!J24","v":0}]
[{"$f":"January!A25","v":"00:00:00"},{"$f":"January!B25","v":0},{"$f":"January!C25","v":0},{"$f":"January!D25","v":0},{"$f":"January!E25","v":0},{"$f":"January!F25","v":0},{"$f":"January!G25","v":0},{"$f":"January!H25","v":0},{"$f":"January!I25","v":0},{"$f":"January!J25","v":0}]
[{"$f":"January!A26","v":"00:00:00"},{"$f":"January!B26","v":0},{"$f":"January!C26","v":0},{"$f":"January!D26","v":0},{"$f":"January!E26","v":0},{"$f":"January!F26","v":0},{"$f":"January!G26","v":0},{"$f":"January!H26","v":0},{"$f":"January!I26","v":0},{"$f":"January!J26","v":0}]
[{"$f":"January!A27","v":"00:00:00"},{"$f":"January!B27","v":0},{"$f":"January!C27","v":0},{"$f":"January!D27","v":0},{"$f":"January!E27","v":0},{"$f":"January!F27","v":0},{"$f":"January!G27","v":0},{"$f":"January!H27","v":0},{"$f":"January!I27","v":0},{"$f":"January!J27","v":0}]
[{"$f":"January!A28","v":"00:00:00"},{"$f":"January!B28","v":0},{"$f":"January!C28","v":0},{"$f":"January!D28","v":0},{"$f":"January!E28","v":0},{"$f":"January!F28","v":0},{"$f":"January!G28","v":0},{"$f":"January!H28","v":0},{"$f":"January!I28","v":0},{"$f":"January!J28","v":0}]
[{"$f":"January!A29","v":"00:00:00"},{"$f":"January!B29","v":0},{"$f":"January!C29","v":0},{"$f":"January!D29","v":0},{"$f":"January!E29","v":0},{"$f":"January!F29","v":0},{"$f":"January!G29","v":0},{"$f":"January!H29","v":0},{"$f":"January!I29","v":0},{"$f":"January!J29","v":0}]
[{"$f":"January!A30","v":"00:00:00"},{"$f":"January!B30","v":0},{"$f":"January!C30","v":0},{"$f":"January!D30","v":0},{"$f":"January!E30","v":0},{"$f":"January!F30","v":0},{"$f":"January!G30","v":0},{"$f":"January!H30","v":0},{"$f":"January!I30","v":0},{"$f":"January!J30","v":0}]
[{"$f":"January!A31","v":"00:00:00"},{"$f":"January!B31","v":0},{"$f":"January!C31","v":0},{"$f":"January!D31","v":0},{"$f":"January!E31","v":0},{"$f":"January!F31","v":0},{"$f":"January!G31","v":0},{"$f":"January!H31","v":0},{"$f":"January!I31","v":0},{"$f":"January!J31","v":0}]
[{"$f":"January!A32","v":"00:00:00"},{"$f":"January!B32","v":0},{"$f":"January!C32","v":0},{"$f":"January!D32","v":0},{"$f":"January!E32","v":0},{"$f":"January!F32","v":0},{"$f":"January!G32","v":0},{"$f":"January!H32","v":0},{"$f":"January!I32","v":0},{"$f":"January!J32","v":0}]
[{"$f":"January!A33","v":"00:00:00"},{"$f":"January!B33","v":0},{"$f":"January!C33","v":0},{"$f":"January!D33","v":0},{"$f":"January!E33","v":0},{"$f":"January!F33","v":0},{"$f":"January!G33","v":0},{"$f":"January!H33","v":0},{"$f":"January!I33","v":0},{"$f":"January!J33","v":0}]
[{"$f":"January!A34","v":"00:00:00"},{"$f":"January!B34","v":0},{"$f":"January!C34","v":0},{"$f":"January!D34","v":0},{"$f":"January!E34","v":0},{"$f":"January!F34","v":0},{"$f":"January!G34","v":0},{"$f":"January!H34","v":0},{"$f":"January!I34","v":0},{"$f":"January!J34","v":0}]
[{"$f":"January!A35","v":"00:00:00"},{"$f":"January!B35","v":0},{"$f":"January!C35","v":0},{"$f":"January!D35","v":0},{"$f":"January!E35","v":0},{"$f":"January!F35","v":0},{"$f":"January!G35","v":0},{"$f":"January!H35","v":0},{"$f":"January!I35","v":0},{"$f":"January!J35","v":0}]
[{"$f":"January!A36","v":"00:00:00"},{"$f":"January!B36","v":0},{"$f":"January!C36","v":0},{"$f":"January!D36","v":0},{"$f":"January!E36","v":0},{"$f":"January!F36","v":0},{"$f":"January!G36","v":0},{"$f":"January!H36","v":0},{"$f":"January!I36","v":0},{"$f":"January!J36","v":0}]
[{"$f":"January!A37","v":"00:00:00"},{"$f":"January!B37","v":0},{"$f":"January!C37","v":0},{"$f":"January!D37","v":0},{"$f":"January!E37","v":0},{"$f":"January!F37","v":0},{"$f":"January!G37","v":0},{"$f":"January!H37","v":0},{"$f":"January!I37","v":0},{"$f":"January!J37","v":0}]
[{"$f":"January!A38","v":"00:00:00"},{"$f":"January!B38","v":0},{"$f":"January!C38","v":0},{"$f":"January!D38","v":0},{"$f":"January!E38","v":0},{"$f":"January!F38","v":0},{"$f":"January!G38","v":0},{"$f":"January!H38","v":0},{"$f":"January!I38","v":0},{"$f":"January!J38","v":0}]
[{"$f":"January!A39","v":"00:00:00"},{"$f":"January!B39","v":0},{"$f":"January!C39","v":0},{"$f":"January!D39","v":0},{"$f":"January!E39","v":0},{"$f":"January!F39","v":0},{"$f":"January!G39","v":0},{"$f":"January!H39","v":0},{"$f":"January!I39","v":0},{"$f":"January!J39","v":0}]
[{"$f":"January!A40","v":"00:00:00"},{"$f":"January!B40","v":0},{"$f":"January!C40","v":0},{"$f":"January!D40","v":0},{"$f":"January!E40","v":0},{"$f":"January!F40","v":0},{"$f":"January!G40","v":0},{"$f":"January!H40","v":0},{"$f":"January!I40","v":0},{"$f":"January!J40","v":0}]
[{"$f":"January!A41","v":"00:00:00"},{"$f":"January!B41","v":0},{"$f":"January!C41","v":0},{"$f":"January!D41","v":0},{"$f":"January!E41","v":0},{"$f":"January!F41","v":0},{"$f":"January!G41","v":0},{"$f":"January!H41","v":0},{"$f":"January!I41","v":0},{"$f":"January!J41","v":0}]
[{"$f":"January!A42","v":"00:00:00"},{"$f":"January!B42","v":0},{"$f":"January!C42","v":0},{"$f":"January!D42","v":0},{"$f":"January!E42","v":0},{"$f":"January!F42","v":0},{"$f":"January!G42","v":0},{"$f":"January!H42","v":0},{"$f":"January!I42","v":0},{"$f":"January!J42","v":0}]
[{"$f":"January!A43","v":"00:00:00"},{"$f":"January!B43","v":0},{"$f":"January!C43","v":0},{"$f":"January!D43","v":0},{"$f":"January!E43","v":0},{"$f":"January!F43","v":0},{"$f":"January!G43","v":0},{"$f":"January!H43","v":0},{"$f":"January!I43","v":0},{"$f":"January!J43","v":0}]
[{"$f":"January!A44","v":"00:00:00"},{"$f":"January!B44","v":0},{"$f":"January!C44","v":0},{"$f":"January!D44","v":0},{"$f":"January!E44","v":0},{"$f":"January!F44","v":0},{"$f":"January!G44","v":0},{"$f":"January!H44","v":0},{"$f":"January!I44","v":0},{"$f":"January!J44","v":0}]
[{"$f":"January!A45","v":"00:00:00"},{"$f":"January!B45","v":0},{"$f":"January!C45","v":0},{"$f":"January!D45","v":0},{"$f":"January!E45","v":0},{"$f":"January!F45","v":0},{"$f":"January!G45","v":0},{"$f":"January!H45","v":0},{"$f":"January!I45","v":0},{"$f":"January!J45","v":0}]
[{"$f":"January!A46","v":"00:00:00"},{"$f":"January!B46","v":0},{"$f":"January!C46","v":0},{"$f":"January!D46","v":0},{"$f":"January!E46","v":0},{"$f":"January!F46","v":0},{"$f":"January!G46","v":0},{"$f":"January!H46","v":0},{"$f":"January!I46","v":0},{"$f":"January!J46","v":0}]
[{"$f":"January!A47","v":"00:00:00"},{"$f":"January!B47","v":0},{"$f":"January!C47","v":0},{"$f":"January!D47","v":0},{"$f":"January!E47","v":0},{"$f":"January!F47","v":0},{"$f":"January!G47","v":0},{"$f":"January!H47","v":0},{"$f":"January!I47","v":0},{"$f":"January!J47","v":0}]
[{"$f":"January!A48","v":"00:00:00"},{"$f":"January!B48","v":0},{"$f":"January!C48","v":0},{"$f":"January!D48","v":0},{"$f":"January!E48","v":0},{"$f":"January!F48","v":0},{"$f":"January!G48","v":0},{"$f":"January!H48","v":0},{"$f":"January!I48","v":0},{"$f":"January!J48","v":0}]
[{"$f":"January!A49","v":"00:00:00"},{"$f":"January!B49","v":0},{"$f":"January!C49","v":0},{"$f":"January!D49","v":0},{"$f":"January!E49","v":0},{"$f":"January!F49","v":0},{"$f":"January!G49","v":0},{"$f":"January!H49","v":0},{"$f":"January!I49","v":0},{"$f":"January!J49","v":0}]
[{"$f":"January!A50","v":"00:00:00"},{"$f":"January!B50","v":0},{"$f":"January!C50","v":0},{"$f":"January!D50","v":0},{"$f":"January!E50","v":0},{"$f":"January!F50","v":0},{"$f":"January!G50","v":0},{"$f":"January!H50","v":0},{"$f":"January!I50","v":0},{"$f":"January!J50","v":0}]
[{"$f":"January!A51","v":"00:00:00"},{"$f":"January!B51","v":0},{"$f":"January!C51","v":0},{"$f":"January!D51","v":0},{"$f":"January!E51","v":0},{"$f":"January!F51","v":0},{"$f":"January!G51","v":0},{"$f":"January!H51","v":0},{"$f":"January!I51","v":0},{"$f":"January!J51","v":0}]
[{"$f":"January!A52","v":"00:00:00"},{"$f":"January!B52","v":0},{"$f":"January!C52","v":0},{"$f":"January!D52","v":0},{"$f":"January!E52","v":0},{"$f":"January!F52","v":0},{"$f":"January!G52","v":0},{"$f":"January!H52","v":0},{"$f":"January!I52","v":0},{"$f":"January!J52","v":0}]
[{"$f":"January!A53","v":"00:00:00"},{"$f":"January!B53","v":0},{"$f":"January!C53","v":0},{"$f":"January!D53","v":0},{"$f":"January!E53","v":0},{"$f":"January!F53","v":0},{"$f":"January!G53","v":0},{"$f":"January!H53","v":0},{"$f":"January!I53","v":0},{"$f":"January!J53","v":0}]
[{"$f":"January!A54","v":"00:00:00"},{"$f":"January!B54","v":0},{"$f":"January!C54","v":0},{"$f":"January!D54","v":0},{"$f":"January!E54","v":0},{"$f":"January!F54","v":0},{"$f":"January!G54","v":0},{"$f":"January!H54","v":0},{"$f":"January!I54","v":0},{"$f":"January!J54","v":0}]
[{"$f":"January!A55","v":"00:00:00"},{"$f":"January!B55","v":0},{"$f":"January!C55","v":0},{"$f":"January!D55","v":0},{"$f":"January!E55","v":0},{"$f":"January!F55","v":0},{"$f":"January!G55","v":0},{"$f":"January!H55","v":0},{"$f":"January!I55","v":0},{"$f":"January!J55","v":0}]
[{"$f":"January!A56","v":"00:00:00"},{"$f":"January!B56","v":0},{"$f":"January!C56","v":0},{"$f":"January!D56","v":0},{"$f":"January!E56","v":0},{"$f":"January!F56","v":0},{"$f":"January!G56","v":0},{"$f":"January!H56","v":0},{"$f":"January!I56","v":0},{"$f":"January!J56","v":0}]
[{"$f":"January!A57","v":"00:00:00"},{"$f":"January!B57","v":0},{"$f":"January!C57","v":0},{"$f":"January!D57","v":0},{"$f":"January!E57","v":0},{"$f":"January!F57","v":0},{"$f":"January!G57","v":0},{"$f":"January!H57","v":0},{"$f":"January!I57","v":0},{"$f":"January!J57","v":0}]
[{"$f":"January!A58","v":"00:00:00"},{"$f":"January!B58","v":0},{"$f":"January!C58","v":0},{"$f":"January!D58","v":0},{"$f":"January!E58","v":0},{"$f":"January!F58","v":0},{"$f":"January!G58","v":0},{"$f":"January!H58","v":0},{"$f":"January!I58","v":0},{"$f":"January!J58","v":0}]
[{"$f":"January!A59","v":"00:00:00"},{"$f":"January!B59","v":0},{"$f":"January!C59","v":0},{"$f":"January!D59","v":0},{"$f":"January!E59","v":0},{"$f":"January!F59","v":0},{"$f":"January!G59","v":0},{"$f":"January!H59","v":0},{"$f":"January!I59","v":0},{"$f":"January!J59","v":0}]
[{"$f":"January!A60","v":"00:00:00"},{"$f":"January!B60","v":0},{"$f":"January!C60","v":0},{"$f":"January!D60","v":0},{"$f":"January!E60","v":0},{"$f":"January!F60","v":0},{"$f":"January!G60","v":0},{"$f":"January!H60","v":0},{"$f":"January!I60","v":0},{"$f":"January!J60","v":0}]
[{"$f":"February!A9","v":"00:00:00"},{"$f":"February!B9","v":0},{"$f":"February!C9","v":0},{"$f":"February!D9","v":0},{"$f":"February!E9","v":0},{"$f":"February!F9","v":0},{"$f":"February!G9","v":0},{"$f":"February!H9","v":0},{"$f":"February!I9","v":0},{"$f":"February!J9","v":0}]
[{"$f":"February!A10","v":"00:00:00"},{"$f":"February!B10","v":0},{"$f":"February!C10","v":0},{"$f":"February!D10","v":0},{"$f":"February!E10","v":0},{"$f":"February!F10","v":0},{"$f":"February!G10","v":0},{"$f":"February!H10","v":0},{"$f":"February!I10","v":0},{"$f":"February!J10","v":0}]
[{"$f":"February!A11","v":"00:00:00"},{"$f":"February!B11","v":0},{"$f":"February!C11","v":0},{"$f":"February!D11","v":0},{"$f":"February!E11","v":0},{"$f":"February!F11","v":0},{"$f":"February!G11","v":0},{"$f":"February!H11","v":0},{"$f":"February!I11","v":0},{"$f":"February!J11","v":0}]
[{"$f":"February!A12","v":"00:00:00"},{"$f":"February!B12","v":0},{"$f":"February!C12","v":0},{"$f":"February!D12","v":0},{"$f":"February!E12","v":0},{"$f":"February!F12","v":0},{"$f":"February!G12","v":0},{"$f":"February!H12","v":0},{"$f":"February!I12","v":0},{"$f":"February!J12","v":0}]
[{"$f":"February!A13","v":"00:00:00"},{"$f":"February!B13","v":0},{"$f":"February!C13","v":0},{"$f":"February!D13","v":0},{"$f":"February!E13","v":0},{"$f":"February!F13","v":0},{"$f":"February!G13","v":0},{"$f":"February!H13","v":0},{"$f":"February!I13","v":0},{"$f":"February!J13","v":0}]
[{"$f":"February!A14","v":"00:00:00"},{"$f":"February!B14","v":0},{"$f":"February!C14","v":0},{"$f":"February!D14","v":0},{"$f":"February!E14","v":0},{"$f":"February!F14","v":0},{"$f":"February!G14","v":0},{"$f":"February!H14","v":0},{"$f":"February!I14","v":0},{"$f":"February!J14","v":0}]
[{"$f":"February!A15","v":"00:00:00"},{"$f":"February!B15","v":0},{"$f":"February!C15","v":0},{"$f":"February!D15","v":0},{"$f":"February!E15","v":0},{"$f":"February!F15","v":0},{"$f":"February!G15","v":0},{"$f":"February!H15","v":0},{"$f":"February!I15","v":0},{"$f":"February!J15","v":0}]
[{"$f":"February!A16","v":"00:00:00"},{"$f":"February!B16","v":0},{"$f":"February!C16","v":0},{"$f":"February!D16","v":0},{"$f":"February!E16","v":0},{"$f":"February!F16","v":0},{"$f":"February!G16","v":0},{"$f":"February!H16","v":0},{"$f":"February!I16","v":0},{"$f":"February!J16","v":0}]
[{"$f":"February!A17","v":"00:00:00"},{"$f":"February!B17","v":0},{"$f":"February!C17","v":0},{"$f":"February!D17","v":0},{"$f":"February!E17","v":0},{"$f":"February!F17","v":0},{"$f":"February!G17","v":0},{"$f":"February!H17","v":0},{"$f":"February!I17","v":0},{"$f":"February!J17","v":0}]
[{"$f":"February!A18","v":"00:00:00"},{"$f":"February!B18","v":0},{"$f":"February!C18","v":0},{"$f":"February!D18","v":0},{"$f":"February!E18","v":0},{"$f":"February!F18","v":0},{"$f":"February!G18","v":0},{"$f":"February!H18","v":0},{"$f":"February!I18","v":0},{"$f":"February!J18","v":0}]
[{"$f":"February!A19","v":"00:00:00"},{"$f":"February!B19","v":0},{"$f":"February!C19","v":0},{"$f":"February!D19","v":0},{"$f":"February!E19","v":0},{"$f":"February!F19","v":0},{"$f":"February!G19","v":0},{"$f":"February!H19","v":0},{"$f":"February!I19","v":0},{"$f":"February!J19","v":0}]
[{"$f":"February!A20","v":"00:00:00"},{"$f":"February!B20","v":0},{"$f":"February!C20","v":0},{"$f":"February!D20","v":0},{"$f":"February!E20","v":0},{"$f":"February!F20","v":0},{"$f":"February!G20","v":0},{"$f":"February!H20","v":0},{"$f":"February!I20","v":0},{"$f":"February!J20","v":0}]
[{"$f":"February!A21","v":"00:00:00"},{"$f":"February!B21","v":0},{"$f":"February!C21","v":0},{"$f":"February!D21","v":0},{"$f":"February!E21","v":0},{"$f":"February!F21","v":0},{"$f":"February!G21","v":0},{"$f":"February!H21","v":0},{"$f":"February!I21","v":0},{"$f":"February!J21","v":0}]
[{"$f":"February!A22","v":"00:00:00"},{"$f":"February!B22","v":0},{"$f":"February!C22","v":0},{"$f":"February!D22","v":0},{"$f":"February!E22","v":0},{"$f":"February!F22","v":0},{"$f":"February!G22","v":0},{"$f":"February!H22","v":0},{"$f":"February!I22","v":0},{"$f":"February!J22","v":0}]
[{"$f":"February!A23","v":"00:00:00"},{"$f":"February!B23","v":0},{"$f":"February!C23","v":0},{"$f":"February!D23","v":0},{"$f":"February!E23","v":0},{"$f":"February!F23","v":0},{"$f":"February!G23","v":0},{"$f":"February!H23","v":0},{"$f":"February!I23","v":0},{"$f":"February!J23","v":0}]
[{"$f":"February!A24","v":"00:00:00"},{"$f":"February!B24","v":0},{"$f":"February!C24","v":0},{"$f":"February!D24","v":0},{"$f":"February!E24","v":0},{"$f":"February!F24","v":0},{"$f":"February!G24","v":0},{"$f":"February!H24","v":0},{"$f":"February!I24","v":0},{"$f":"February!J24","v":0}]
[{"$f":"February!A25","v":"00:00:00"},{"$f":"February!B25","v":0},{"$f":"February!C25","v":0},{"$f":"February!D25","v":0},{"$f":"February!E25","v":0},{"$f":"February!F25","v":0},{"$f":"February!G25","v":0},{"$f":"February!H25","v":0},{"$f":"February!I25","v":0},{"$f":"February!J25","v":0}]
[{"$f":"February!A26","v":"00:00:00"},{"$f":"February!B26","v":0},{"$f":"February!C26","v":0},{"$f":"February!D26","v":0},{"$f":"February!E26","v":0},{"$f":"February!F26","v":0},{"$f":"February!G26","v":0},{"$f":"February!H26","v":0},{"$f":"February!I26","v":0},{"$f":"February!J26","v":0}]
[{"$f":"February!A27","v":"00:00:00"},{"$f":"February!B27","v":0},{"$f":"February!C27","v":0},{"$f":"February!D27","v":0},{"$f":"February!E27","v":0},{"$f":"February!F27","v":0},{"$f":"February!G27","v":0},{"$f":"February!H27","v":0},{"$f":"February!I27","v":0},{"$f":"February!J27","v":0}]
[{"$f":"February!A28","v":"00:00:00"},{"$f":"February!B28","v":0},{"$f":"February!C28","v":0},{"$f":"February!D28","v":0},{"$f":"February!E28","v":0},{"$f":"February!F28","v":0},{"$f":"February!G28","v":0},{"$f":"February!H28","v":0},{"$f":"February!I28","v":0},{"$f":"February!J28","v":0}]
[{"$f":"February!A29","v":"00:00:00"},{"$f":"February!B29","v":0},{"$f":"February!C29","v":0},{"$f":"February!D29","v":0},{"$f":"February!E29","v":0},{"$f":"February!F29","v":0},{"$f":"February!G29","v":0},{"$f":"February!H29","v":0},{"$f":"February!I29","v":0},{"$f":"February!J29","v":0}]
[{"$f":"February!A30","v":"00:00:00"},{"$f":"February!B30","v":0},{"$f":"February!C30","v":0},{"$f":"February!D30","v":0},{"$f":"February!E30","v":0},{"$f":"February!F30","v":0},{"$f":"February!G30","v":0},{"$f":"February!H30","v":0},{"$f":"February!I30","v":0},{"$f":"February!J30","v":0}]
[{"$f":"February!A31","v":"00:00:00"},{"$f":"February!B31","v":0},{"$f":"February!C31","v":0},{"$f":"February!D31","v":0},{"$f":"February!E31","v":0},{"$f":"February!F31","v":0},{"$f":"February!G31","v":0},{"$f":"February!H31","v":0},{"$f":"February!I31","v":0},{"$f":"February!J31","v":0}]
[{"$f":"February!A32","v":"00:00:00"},{"$f":"February!B32","v":0},{"$f":"February!C32","v":0},{"$f":"February!D32","v":0},{"$f":"February!E32","v":0},{"$f":"February!F32","v":0},{"$f":"February!G32","v":0},{"$f":"February!H32","v":0},{"$f":"February!I32","v":0},{"$f":"February!J32","v":0}]
[{"$f":"February!A33","v":"00:00:00"},{"$f":"February!B33","v":0},{"$f":"February!C33","v":0},{"$f":"February!D33","v":0},{"$f":"February!E33","v":0},{"$f":"February!F33","v":0},{"$f":"February!G33","v":0},{"$f":"February!H33","v":0},{"$f":"February!I33","v":0},{"$f":"February!J33","v":0}]
[{"$f":"February!A34","v":"00:00:00"},{"$f":"February!B34","v":0},{"$f":"February!C34","v":0},{"$f":"February!D34","v":0},{"$f":"February!E34","v":0},{"$f":"February!F34","v":0},{"$f":"February!G34","v":0},{"$f":"February!H34","v":0},{"$f":"February!I34","v":0},{"$f":"February!J34","v":0}]
[{"$f":"February!A35","v":"00:00:00"},{"$f":"February!B35","v":0},{"$f":"February!C35","v":0},{"$f":"February!D35","v":0},{"$f":"February!E35","v":0},{"$f":"February!F35","v":0},{"$f":"February!G35","v":0},{"$f":"February!H35","v":0},{"$f":"February!I35","v":0},{"$f":"February!J35","v":0}]
[{"$f":"February!A36","v":"00:00:00"},{"$f":"February!B36","v":0},{"$f":"February!C36","v":0},{"$f":"February!D36","v":0},{"$f":"February!E36","v":0},{"$f":"February!F36","v":0},{"$f":"February!G36","v":0},{"$f":"February!H36","v":0},{"$f":"February!I36","v":0},{"$f":"February!J36","v":0}]
[{"$f":"February!A37","v":"00:00:00"},{"$f":"February!B37","v":0},{"$f":"February!C37","v":0},{"$f":"February!D37","v":0},{"$f":"February!E37","v":0},{"$f":"February!F37","v":0},{"$f":"February!G37","v":0},{"$f":"February!H37","v":0},{"$f":"February!I37","v":0},{"$f":"February!J37","v":0}]
[{"$f":"February!A38","v":"00:00:00"},{"$f":"February!B38","v":0},{"$f":"February!C38","v":0},{"$f":"February!D38","v":0},{"$f":"February!E38","v":0},{"$f":"February!F38","v":0},{"$f":"February!G38","v":0},{"$f":"February!H38","v":0},{"$f":"February!I38","v":0},{"$f":"February!J38","v":0}]
[{"$f":"February!A39","v":"00:00:00"},{"$f":"February!B39","v":0},{"$f":"February!C39","v":0},{"$f":"February!D39","v":0},{"$f":"February!E39","v":0},{"$f":"February!F39","v":0},{"$f":"February!G39","v":0},{"$f":"February!H39","v":0},{"$f":"February!I39","v":0},{"$f":"February!J39","v":0}]
[{"$f":"February!A40","v":"00:00:00"},{"$f":"February!B40","v":0},{"$f":"February!C40","v":0},{"$f":"February!D40","v":0},{"$f":"February!E40","v":0},{"$f":"February!F40","v":0},{"$f":"February!G40","v":0},{"$f":"February!H40","v":0},{"$f":"February!I40","v":0},{"$f":"February!J40","v":0}]
[{"$f":"February!A41","v":"00:00:00"},{"$f":"February!B41","v":0},{"$f":"February!C41","v":0},{"$f":"February!D41","v":0},{"$f":"February!E41","v":0},{"$f":"February!F41","v":0},{"$f":"February!G41","v":0},{"$f":"February!H41","v":0},{"$f":"February!I41","v":0},{"$f":"February!J41","v":0}]
[{"$f":"February!A42","v":"00:00:00"},{"$f":"February!B42","v":0},{"$f":"February!C42","v":0},{"$f":"February!D42","v":0},{"$f":"February!E42","v":0},{"$f":"February!F42","v":0},{"$f":"February!G42","v":0},{"$f":"February!H42","v":0},{"$f":"February!I42","v":0},{"$f":"February!J42","v":0}]
[{"$f":"February!A43","v":"00:00:00"},{"$f":"February!B43","v":0},{"$f":"February!C43","v":0},{"$f":"February!D43","v":0},{"$f":"February!E43","v":0},{"$f":"February!F43","v":0},{"$f":"February!G43","v":0},{"$f":"February!H43","v":0},{"$f":"February!I43","v":0},{"$f":"February!J43","v":0}]
[{"$f":"February!A44","v":"00:00:00"},{"$f":"February!B44","v":0},{"$f":"February!C44","v":0},{"$f":"February!D44","v":0},{"$f":"February!E44","v":0},{"$f":"February!F44","v":0},{"$f":"February!G44","v":0},{"$f":"February!H44","v":0},{"$f":"February!I44","v":0},{"$f":"February!J44","v":0}]
[{"$f":"February!A45","v":"00:00:00"},{"$f":"February!B45","v":0},{"$f":"February!C45","v":0},{"$f":"February!D45","v":0},{"$f":"February!E45","v":0},{"$f":"February!F45","v":0},{"$f":"February!G45","v":0},{"$f":"February!H45","v":0},{"$f":"February!I45","v":0},{"$f":"February!J45","v":0}]
[{"$f":"February!A46","v":"00:00:00"},{"$f":"February!B46","v":0},{"$f":"February!C46","v":0},{"$f":"February!D46","v":0},{"$f":"February!E46","v":0},{"$f":"February!F46","v":0},{"$f":"February!G46","v":0},{"$f":"February!H46","v":0},{"$f":"February!I46","v":0},{"$f":"February!J46","v":0}]
[{"$f":"February!A47","v":"00:00:00"},{"$f":"February!B47","v":0},{"$f":"February!C47","v":0},{"$f":"February!D47","v":0},{"$f":"February!E47","v":0},{"$f":"February!F47","v":0},{"$f":"February!G47","v":0},{"$f":"February!H47","v":0},{"$f":"February!I47","v":0},{"$f":"February!J47","v":0}]
[{"$f":"February!A48","v":"00:00:00"},{"$f":"February!B48","v":0},{"$f":"February!C48","v":0},{"$f":"February!D48","v":0},{"$f":"February!E48","v":0},{"$f":"February!F48","v":0},{"$f":"February!G48","v":0},{"$f":"February!H48","v":0},{"$f":"February!I48","v":0},{"$f":"February!J48","v":0}]
[{"$f":"February!A49","v":"00:00:00"},{"$f":"February!B49","v":0},{"$f":"February!C49","v":0},{"$f":"February!D49","v":0},{"$f":"February!E49","v":0},{"$f":"February!F49","v":0},{"$f":"February!G49","v":0},{"$f":"February!H49","v":0},{"$f":"February!I49","v":0},{"$f":"February!J49","v":0}]
[{"$f":"February!A50","v":"00:00:00"},{"$f":"February!B50","v":0},{"$f":"February!C50","v":0},{"$f":"February!D50","v":0},{"$f":"February!E50","v":0},{"$f":"February!F50","v":0},{"$f":"February!G50","v":0},{"$f":"February!H50","v":0},{"$f":"February!I50","v":0},{"$f":"February!J50","v":0}]
[{"$f":"February!A51","v":"00:00:00"},{"$f":"February!B51","v":0},{"$f":"February!C51","v":0},{"$f":"February!D51","v":0},{"$f":"February!E51","v":0},{"$f":"February!F51","v":0},{"$f":"February!G51","v":0},{"$f":"February!H51","v":0},{"$f":"February!I51","v":0},{"$f":"February!J51","v":0}]
[{"$f":"February!A52","v":"00:00:00"},{"$f":"February!B52","v":0},{"$f":"February!C52","v":0},{"$f":"February!D52","v":0},{"$f":"February!E52","v":0},{"$f":"February!F52","v":0},{"$f":"February!G52","v":0},{"$f":"February!H52","v":0},{"$f":"February!I52","v":0},{"$f":"February!J52","v":0}]
[{"$f":"February!A53","v":"00:00:00"},{"$f":"February!B53","v":0},{"$f":"February!C53","v":0},{"$f":"February!D53","v":0},{"$f":"February!E53","v":0},{"$f":"February!F53","v":0},{"$f":"February!G53","v":0},{"$f":"February!H53","v":0},{"$f":"February!I53","v":0},{"$f":"February!J53","v":0}]
[{"$f":"February!A54","v":"00:00:00"},{"$f":"February!B54","v":0},{"$f":"February!C54","v":0},{"$f":"February!D54","v":0},{"$f":"February!E54","v":0},{"$f":"February!F54","v":0},{"$f":"February!G54","v":0},{"$f":"February!H54","v":0},{"$f":"February!I54","v":0},{"$f":"February!J54","v":0}]
[{"$f":"February!A55","v":"00:00:00"},{"$f":"February!B55","v":0},{"$f":"February!C55","v":0},{"$f":"February!D55","v":0},{"$f":"February!E55","v":0},{"$f":"February!F55","v":0},{"$f":"February!G55","v":0},{"$f":"February!H55","v":0},{"$f":"February!I55","v":0},{"$f":"February!J55","v":0}]
[{"$f":"February!A56","v":"00:00:00"},{"$f":"February!B56","v":0},{"$f":"February!C56","v":0},{"$f":"February!D56","v":0},{"$f":"February!E56","v":0},{"$f":"February!F56","v":0},{"$f":"February!G56","v":0},{"$f":"February!H56","v":0},{"$f":"February!I56","v":0},{"$f":"February!J56","v":0}]
[{"$f":"February!A57","v":"00:00:00"},{"$f":"February!B57","v":0},{"$f":"February!C57","v":0},{"$f":"February!D57","v":0},{"$f":"February!E57","v":0},{"$f":"February!F57","v":0},{"$f":"February!G57","v":0},{"$f":"February!H57","v":0},{"$f":"February!I57","v":0},{"$f":"February!J57","v":0}]
[{"$f":"February!A58","v":"00:00:00"},{"$f":"February!B58","v":0},{"$f":"February!C58","v":0},{"$f":"February!D58","v":0},{"$f":"February!E58","v":0},{"$f":"February!F58","v":0},{"$f":"February!G58","v":0},{"$f":"February!H58","v":0},{"$f":"February!I58","v":0},{"$f":"February!J58","v":0}]
[{"$f":"February!A59","v":"00:00:00"},{"$f":"February!B59","v":0},{"$f":"February!C59","v":0},{"$f":"February!D59","v":0},{"$f":"February!E59","v":0},{"$f":"February!F59","v":0},{"$f":"February!G59","v":0},{"$f":"February!H59","v":0},{"$f":"February!I59","v":0},{"$f":"February!J59","v":0}]
[{"$f":"February!A60","v":"00:00:00"},{"$f":"February!B60","v":0},{"$f":"February!C60","v":0},{"$f":"February!D60","v":0},{"$f":"February!E60","v":0},{"$f":"February!F60","v":0},{"$f":"February!G60","v":0},{"$f":"February!H60","v":0},{"$f":"February!I60","v":0},{"$f":"February!J60","v":0}]
[{"$f":"March!A9","v":"00:00:00"},{"$f":"March!B9","v":0},{"$f":"March!C9","v":0},{"$f":"March!D9","v":0},{"$f":"March!E9","v":0},{"$f":"March!F9","v":0},{"$f":"March!G9","v":0},{"$f":"March!H9","v":0},{"$f":"March!I9","v":0},{"$f":"March!J9","v":0}]
[{"$f":"March!A10","v":"00:00:00"},{"$f":"March!B10","v":0},{"$f":"March!C10","v":0},{"$f":"March!D10","v":0},{"$f":"March!E10","v":0},{"$f":"March!F10","v":0},{"$f":"March!G10","v":0},{"$f":"March!H10","v":0},{"$f":"March!I10","v":0},{"$f":"March!J10","v":0}]
[{"$f":"March!A11","v":"00:00:00"},{"$f":"March!B11","v":0},{"$f":"March!C11","v":0},{"$f":"March!D11","v":0},{"$f":"March!E11","v":0},{"$f":"March!F11","v":0},{"$f":"March!G11","v":0},{"$f":"March!H11","v":0},{"$f":"March!I11","v":0},{"$f":"March!J11","v":0}]
[{"$f":"March!A12","v":"00:00:00"},{"$f":"March!B12","v":0},{"$f":"March!C12","v":0},{"$f":"March!D12","v":0},{"$f":"March!E12","v":0},{"$f":"March!F12","v":0},{"$f":"March!G12","v":0},{"$f":"March!H12","v":0},{"$f":"March!I12","v":0},{"$f":"March!J12","v":0}]
[{"$f":"March!A13","v":"00:00:00"},{"$f":"March!B13","v":0},{"$f":"March!C13","v":0},{"$f":"March!D13","v":0},{"$f":"March!E13","v":0},{"$f":"March!F13","v":0},{"$f":"March!G13","v":0},{"$f":"March!H13","v":0},{"$f":"March!I13","v":0},{"$f":"March!J13","v":0}]
[{"$f":"March!A14","v":"00:00:00"},{"$f":"March!B14","v":0},{"$f":"March!C14","v":0},{"$f":"March!D14","v":0},{"$f":"March!E14","v":0},{"$f":"March!F14","v":0},{"$f":"March!G14","v":0},{"$f":"March!H14","v":0},{"$f":"March!I14","v":0},{"$f":"March!J14","v":0}]
[{"$f":"March!A15","v":"00:00:00"},{"$f":"March!B15","v":0},{"$f":"March!C15","v":0},{"$f":"March!D15","v":0},{"$f":"March!E15","v":0},{"$f":"March!F15","v":0},{"$f":"March!G15","v":0},{"$f":"March!H15","v":0},{"$f":"March!I15","v":0},{"$f":"March!J15","v":0}]
[{"$f":"March!A16","v":"00:00:00"},{"$f":"March!B16","v":0},{"$f":"March!C16","v":0},{"$f":"March!D16","v":0},{"$f":"March!E16","v":0},{"$f":"March!F16","v":0},{"$f":"March!G16","v":0},{"$f":"March!H16","v":0},{"$f":"March!I16","v":0},{"$f":"March!J16","v":0}]
[{"$f":"March!A17","v":"00:00:00"},{"$f":"March!B17","v":0},{"$f":"March!C17","v":0},{"$f":"March!D17","v":0},{"$f":"March!E17","v":0},{"$f":"March!F17","v":0},{"$f":"March!G17","v":0},{"$f":"March!H17","v":0},{"$f":"March!I17","v":0},{"$f":"March!J17","v":0}]
[{"$f":"March!A18","v":"00:00:00"},{"$f":"March!B18","v":0},{"$f":"March!C18","v":0},{"$f":"March!D18","v":0},{"$f":"March!E18","v":0},{"$f":"March!F18","v":0},{"$f":"March!G18","v":0},{"$f":"March!H18","v":0},{"$f":"March!I18","v":0},{"$f":"March!J18","v":0}]
[{"$f":"March!A19","v":"00:00:00"},{"$f":"March!B19","v":0},{"$f":"March!C19","v":0},{"$f":"March!D19","v":0},{"$f":"March!E19","v":0},{"$f":"March!F19","v":0},{"$f":"March!G19","v":0},{"$f":"March!H19","v":0},{"$f":"March!I19","v":0},{"$f":"March!J19","v":0}]
[{"$f":"March!A20","v":"00:00:00"},{"$f":"March!B20","v":0},{"$f":"March!C20","v":0},{"$f":"March!D20","v":0},{"$f":"March!E20","v":0},{"$f":"March!F20","v":0},{"$f":"March!G20","v":0},{"$f":"March!H20","v":0},{"$f":"March!I20","v":0},{"$f":"March!J20","v":0}]
[{"$f":"March!A21","v":"00:00:00"},{"$f":"March!B21","v":0},{"$f":"March!C21","v":0},{"$f":"March!D21","v":0},{"$f":"March!E21","v":0},{"$f":"March!F21","v":0},{"$f":"March!G21","v":0},{"$f":"March!H21","v":0},{"$f":"March!I21","v":0},{"$f":"March!J21","v":0}]
[{"$f":"March!A22","v":"00:00:00"},{"$f":"March!B22","v":0},{"$f":"March!C22","v":0},{"$f":"March!D22","v":0},{"$f":"March!E22","v":0},{"$f":"March!F22","v":0},{"$f":"March!G22","v":0},{"$f":"March!H22","v":0},{"$f":"March!I22","v":0},{"$f":"March!J22","v":0}]
[{"$f":"March!A23","v":"00:00:00"},{"$f":"March!B23","v":0},{"$f":"March!C23","v":0},{"$f":"March!D23","v":0},{"$f":"March!E23","v":0},{"$f":"March!F23","v":0},{"$f":"March!G23","v":0},{"$f":"March!H23","v":0},{"$f":"March!I23","v":0},{"$f":"March!J23","v":0}]
[{"$f":"March!A24","v":"00:00:00"},{"$f":"March!B24","v":0},{"$f":"March!C24","v":0},{"$f":"March!D24","v":0},{"$f":"March!E24","v":0},{"$f":"March!F24","v":0},{"$f":"March!G24","v":0},{"$f":"March!H24","v":0},{"$f":"March!I24","v":0},{"$f":"March!J24","v":0}]
[{"$f":"March!A25","v":"00:00:00"},{"$f":"March!B25","v":0},{"$f":"March!C25","v":0},{"$f":"March!D25","v":0},{"$f":"March!E25","v":0},{"$f":"March!F25","v":0},{"$f":"March!G25","v":0},{"$f":"March!H25","v":0},{"$f":"March!I25","v":0},{"$f":"March!J25","v":0}]
[{"$f":"March!A26","v":"00:00:00"},{"$f":"March!B26","v":0},{"$f":"March!C26","v":0},{"$f":"March!D26","v":0},{"$f":"March!E26","v":0},{"$f":"March!F26","v":0},{"$f":"March!G26","v":0},{"$f":"March!H26","v":0},{"$f":"March!I26","v":0},{"$f":"March!J26","v":0}]
[{"$f":"March!A27","v":"00:00:00"},{"$f":"March!B27","v":0},{"$f":"March!C27","v":0},{"$f":"March!D27","v":0},{"$f":"March!E27","v":0},{"$f":"March!F27","v":0},{"$f":"March!G27","v":0},{"$f":"March!H27","v":0},{"$f":"March!I27","v":0},{"$f":"March!J27","v":0}]
[{"$f":"March!A28","v":"00:00:00"},{"$f":"March!B28","v":0},{"$f":"March!C28","v":0},{"$f":"March!D28","v":0},{"$f":"March!E28","v":0},{"$f":"March!F28","v":0},{"$f":"March!G28","v":0},{"$f":"March!H28","v":0},{"$f":"March!I28","v":0},{"$f":"March!J28","v":0}]
[{"$f":"March!A29","v":"00:00:00"},{"$f":"March!B29","v":0},{"$f":"March!C29","v":0},{"$f":"March!D29","v":0},{"$f":"March!E29","v":0},{"$f":"March!F29","v":0},{"$f":"March!G29","v":0},{"$f":"March!H29","v":0},{"$f":"March!I29","v":0},{"$f":"March!J29","v":0}]
[{"$f":"March!A30","v":"00:00:00"},{"$f":"March!B30","v":0},{"$f":"March!C30","v":0},{"$f":"March!D30","v":0},{"$f":"March!E30","v":0},{"$f":"March!F30","v":0},{"$f":"March!G30","v":0},{"$f":"March!H30","v":0},{"$f":"March!I30","v":0},{"$f":"March!J30","v":0}]
[{"$f":"March!A31","v":"00:00:00"},{"$f":"March!B31","v":0},{"$f":"March!C31","v":0},{"$f":"March!D31","v":0},{"$f":"March!E31","v":0},{"$f":"March!F31","v":0},{"$f":"March!G31","v":0},{"$f":"March!H31","v":0},{"$f":"March!I31","v":0},{"$f":"March!J31","v":0}]
[{"$f":"March!A32","v":"00:00:00"},{"$f":"March!B32","v":0},{"$f":"March!C32","v":0},{"$f":"March!D32","v":0},{"$f":"March!E32","v":0},{"$f":"March!F32","v":0},{"$f":"March!G32","v":0},{"$f":"March!H32","v":0},{"$f":"March!I32","v":0},{"$f":"March!J32","v":0}]
[{"$f":"March!A33","v":"00:00:00"},{"$f":"March!B33","v":0},{"$f":"March!C33","v":0},{"$f":"March!D33","v":0},{"$f":"March!E33","v":0},{"$f":"March!F33","v":0},{"$f":"March!G33","v":0},{"$f":"March!H33","v":0},{"$f":"March!I33","v":0},{"$f":"March!J33","v":0}]
[{"$f":"March!A34","v":"00:00:00"},{"$f":"March!B34","v":0},{"$f":"March!C34","v":0},{"$f":"March!D34","v":0},{"$f":"March!E34","v":0},{"$f":"March!F34","v":0},{"$f":"March!G34","v":0},{"$f":"March!H34","v":0},{"$f":"March!I34","v":0},{"$f":"March!J34","v":0}]
[{"$f":"March!A35","v":"00:00:00"},{"$f":"March!B35","v":0},{"$f":"March!C35","v":0},{"$f":"March!D35","v":0},{"$f":"March!E35","v":0},{"$f":"March!F35","v":0},{"$f":"March!G35","v":0},{"$f":"March!H35","v":0},{"$f":"March!I35","v":0},{"$f":"March!J35","v":0}]
[{"$f":"March!A36","v":"00:00:00"},{"$f":"March!B36","v":0},{"$f":"March!C36","v":0},{"$f":"March!D36","v":0},{"$f":"March!E36","v":0},{"$f":"March!F36","v":0},{"$f":"March!G36","v":0},{"$f":"March!H36","v":0},{"$f":"March!I36","v":0},{"$f":"March!J36","v":0}]
[{"$f":"March!A37","v":"00:00:00"},{"$f":"March!B37","v":0},{"$f":"March!C37","v":0},{"$f":"March!D37","v":0},{"$f":"March!E37","v":0},{"$f":"March!F37","v":0},{"$f":"March!G37","v":0},{"$f":"March!H37","v":0},{"$f":"March!I37","v":0},{"$f":"March!J37","v":0}]
[{"$f":"March!A38","v":"00:00:00"},{"$f":"March!B38","v":0},{"$f":"March!C38","v":0},{"$f":"March!D38","v":0},{"$f":"March!E38","v":0},{"$f":"March!F38","v":0},{"$f":"March!G38","v":0},{"$f":"March!H38","v":0},{"$f":"March!I38","v":0},{"$f":"March!J38","v":0}]
[{"$f":"March!A39","v":"00:00:00"},{"$f":"March!B39","v":0},{"$f":"March!C39","v":0},{"$f":"March!D39","v":0},{"$f":"March!E39","v":0},{"$f":"March!F39","v":0},{"$f":"March!G39","v":0},{"$f":"March!H39","v":0},{"$f":"March!I39","v":0},{"$f":"March!J39","v":0}]
[{"$f":"March!A40","v":"00:00:00"},{"$f":"March!B40","v":0},{"$f":"March!C40","v":0},{"$f":"March!D40","v":0},{"$f":"March!E40","v":0},{"$f":"March!F40","v":0},{"$f":"March!G40","v":0},{"$f":"March!H40","v":0},{"$f":"March!I40","v":0},{"$f":"March!J40","v":0}]
[{"$f":"March!A41","v":"00:00:00"},{"$f":"March!B41","v":0},{"$f":"March!C41","v":0},{"$f":"March!D41","v":0},{"$f":"March!E41","v":0},{"$f":"March!F41","v":0},{"$f":"March!G41","v":0},{"$f":"March!H41","v":0},{"$f":"March!I41","v":0},{"$f":"March!J41","v":0}]
[{"$f":"March!A42","v":"00:00:00"},{"$f":"March!B42","v":0},{"$f":"March!C42","v":0},{"$f":"March!D42","v":0},{"$f":"March!E42","v":0},{"$f":"March!F42","v":0},{"$f":"March!G42","v":0},{"$f":"March!H42","v":0},{"$f":"March!I42","v":0},{"$f":"March!J42","v":0}]
[{"$f":"March!A43","v":"00:00:00"},{"$f":"March!B43","v":0},{"$f":"March!C43","v":0},{"$f":"March!D43","v":0},{"$f":"March!E43","v":0},{"$f":"March!F43","v":0},{"$f":"March!G43","v":0},{"$f":"March!H43","v":0},{"$f":"March!I43","v":0},{"$f":"March!J43","v":0}]
[{"$f":"March!A44","v":"00:00:00"},{"$f":"March!B44","v":0},{"$f":"March!C44","v":0},{"$f":"March!D44","v":0},{"$f":"March!E44","v":0},{"$f":"March!F44","v":0},{"$f":"March!G44","v":0},{"$f":"March!H44","v":0},{"$f":"March!I44","v":0},{"$f":"March!J44","v":0}]
[{"$f":"March!A45","v":"00:00:00"},{"$f":"March!B45","v":0},{"$f":"March!C45","v":0},{"$f":"March!D45","v":0},{"$f":"March!E45","v":0},{"$f":"March!F45","v":0},{"$f":"March!G45","v":0},{"$f":"March!H45","v":0},{"$f":"March!I45","v":0},{"$f":"March!J45","v":0}]
[{"$f":"March!A46","v":"00:00:00"},{"$f":"March!B46","v":0},{"$f":"March!C46","v":0},{"$f":"March!D46","v":0},{"$f":"March!E46","v":0},{"$f":"March!F46","v":0},{"$f":"March!G46","v":0},{"$f":"March!H46","v":0},{"$f":"March!I46","v":0},{"$f":"March!J46","v":0}]
[{"$f":"March!A47","v":"00:00:00"},{"$f":"March!B47","v":0},{"$f":"March!C47","v":0},{"$f":"March!D47","v":0},{"$f":"March!E47","v":0},{"$f":"March!F47","v":0},{"$f":"March!G47","v":0},{"$f":"March!H47","v":0},{"$f":"March!I47","v":0},{"$f":"March!J47","v":0}]
[{"$f":"March!A48","v":"00:00:00"},{"$f":"March!B48","v":0},{"$f":"March!C48","v":0},{"$f":"March!D48","v":0},{"$f":"March!E48","v":0},{"$f":"March!F48","v":0},{"$f":"March!G48","v":0},{"$f":"March!H48","v":0},{"$f":"March!I48","v":0},{"$f":"March!J48","v":0}]
[{"$f":"March!A49","v":"00:00:00"},{"$f":"March!B49","v":0},{"$f":"March!C49","v":0},{"$f":"March!D49","v":0},{"$f":"March!E49","v":0},{"$f":"March!F49","v":0},{"$f":"March!G49","v":0},{"$f":"March!H49","v":0},{"$f":"March!I49","v":0},{"$f":"March!J49","v":0}]
[{"$f":"March!A50","v":"00:00:00"},{"$f":"March!B50","v":0},{"$f":"March!C50","v":0},{"$f":"March!D50","v":0},{"$f":"March!E50","v":0},{"$f":"March!F50","v":0},{"$f":"March!G50","v":0},{"$f":"March!H50","v":0},{"$f":"March!I50","v":0},{"$f":"March!J50","v":0}]
[{"$f":"March!A51","v":"00:00:00"},{"$f":"March!B51","v":0},{"$f":"March!C51","v":0},{"$f":"March!D51","v":0},{"$f":"March!E51","v":0},{"$f":"March!F51","v":0},{"$f":"March!G51","v":0},{"$f":"March!H51","v":0},{"$f":"March!I51","v":0},{"$f":"March!J51","v":0}]
[{"$f":"March!A52","v":"00:00:00"},{"$f":"March!B52","v":0},{"$f":"March!C52","v":0},{"$f":"March!D52","v":0},{"$f":"March!E52","v":0},{"$f":"March!F52","v":0},{"$f":"March!G52","v":0},{"$f":"March!H52","v":0},{"$f":"March!I52","v":0},{"$f":"March!J52","v":0}]
[{"$f":"March!A53","v":"00:00:00"},{"$f":"March!B53","v":0},{"$f":"March!C53","v":0},{"$f":"March!D53","v":0},{"$f":"March!E53","v":0},{"$f":"March!F53","v":0},{"$f":"March!G53","v":0},{"$f":"March!H53","v":0},{"$f":"March!I53","v":0},{"$f":"March!J53","v":0}]
[{"$f":"March!A54","v":"00:00:00"},{"$f":"March!B54","v":0},{"$f":"March!C54","v":0},{"$f":"March!D54","v":0},{"$f":"March!E54","v":0},{"$f":"March!F54","v":0},{"$f":"March!G54","v":0},{"$f":"March!H54","v":0},{"$f":"March!I54","v":0},{"$f":"March!J54","v":0}]
[{"$f":"March!A55","v":"00:00:00"},{"$f":"March!B55","v":0},{"$f":"March!C55","v":0},{"$f":"March!D55","v":0},{"$f":"March!E55","v":0},{"$f":"March!F55","v":0},{"$f":"March!G55","v":0},{"$f":"March!H55","v":0},{"$f":"March!I55","v":0},{"$f":"March!J55","v":0}]
[{"$f":"March!A56","v":"00:00:00"},{"$f":"March!B56","v":0},{"$f":"March!C56","v":0},{"$f":"March!D56","v":0},{"$f":"March!E56","v":0},{"$f":"March!F56","v":0},{"$f":"March!G56","v":0},{"$f":"March!H56","v":0},{"$f":"March!I56","v":0},{"$f":"March!J56","v":0}]
[{"$f":"March!A57","v":"00:00:00"},{"$f":"March!B57","v":0},{"$f":"March!C57","v":0},{"$f":"March!D57","v":0},{"$f":"March!E57","v":0},{"$f":"March!F57","v":0},{"$f":"March!G57","v":0},{"$f":"March!H57","v":0},{"$f":"March!I57","v":0},{"$f":"March!J57","v":0}]
[{"$f":"March!A58","v":"00:00:00"},{"$f":"March!B58","v":0},{"$f":"March!C58","v":0},{"$f":"March!D58","v":0},{"$f":"March!E58","v":0},{"$f":"March!F58","v":0},{"$f":"March!G58","v":0},{"$f":"March!H58","v":0},{"$f":"March!I58","v":0},{"$f":"March!J58","v":0}]
[{"$f":"March!A59","v":"00:00:00"},{"$f":"March!B59","v":0},{"$f":"March!C59","v":0},{"$f":"March!D59","v":0},{"$f":"March!E59","v":0},{"$f":"March!F59","v":0},{"$f":"March!G59","v":0},{"$f":"March!H59","v":0},{"$f":"March!I59","v":0},{"$f":"March!J59","v":0}]
[{"$f":"March!A60","v":"00:00:00"},{"$f":"March!B60","v":0},{"$f":"March!C60","v":0},{"$f":"March!D60","v":0},{"$f":"March!E60","v":0},{"$f":"March!F60","v":0},{"$f":"March!G60","v":0},{"$f":"March!H60","v":0},{"$f":"March!I60","v":0},{"$f":"March!J60","v":0}]
[{"$f":"April!A9","v":"00:00:00"},{"$f":"April!B9","v":0},{"$f":"April!C9","v":0},{"$f":"April!D9","v":0},{"$f":"April!E9","v":0},{"$f":"April!F9","v":0},{"$f":"April!G9","v":0},{"$f":"April!H9","v":0},{"$f":"April!I9","v":0},{"$f":"April!J9","v":0}]
[{"$f":"April!A10","v":"00:00:00"},{"$f":"April!B10","v":0},{"$f":"April!C10","v":0},{"$f":"April!D10","v":0},{"$f":"April!E10","v":0},{"$f":"April!F10","v":0},{"$f":"April!G10","v":0},{"$f":"April!H10","v":0},{"$f":"April!I10","v":0},{"$f":"April!J10","v":0}]
[{"$f":"April!A11","v":"00:00:00"},{"$f":"April!B11","v":0},{"$f":"April!C11","v":0},{"$f":"April!D11","v":0},{"$f":"April!E11","v":0},{"$f":"April!F11","v":0},{"$f":"April!G11","v":0},{"$f":"April!H11","v":0},{"$f":"April!I11","v":0},{"$f":"April!J11","v":0}]
[{"$f":"April!A12","v":"00:00:00"},{"$f":"April!B12","v":0},{"$f":"April!C12","v":0},{"$f":"April!D12","v":0},{"$f":"April!E12","v":0},{"$f":"April!F12","v":0},{"$f":"April!G12","v":0},{"$f":"April!H12","v":0},{"$f":"April!I12","v":0},{"$f":"April!J12","v":0}]
[{"$f":"April!A13","v":"00:00:00"},{"$f":"April!B13","v":0},{"$f":"April!C13","v":0},{"$f":"April!D13","v":0},{"$f":"April!E13","v":0},{"$f":"April!F13","v":0},{"$f":"April!G13","v":0},{"$f":"April!H13","v":0},{"$f":"April!I13","v":0},{"$f":"April!J13","v":0}]
[{"$f":"April!A14","v":"00:00:00"},{"$f":"April!B14","v":0},{"$f":"April!C14","v":0},{"$f":"April!D14","v":0},{"$f":"April!E14","v":0},{"$f":"April!F14","v":0},{"$f":"April!G14","v":0},{"$f":"April!H14","v":0},{"$f":"April!I14","v":0},{"$f":"April!J14","v":0}]
[{"$f":"April!A15","v":"00:00:00"},{"$f":"April!B15","v":0},{"$f":"April!C15","v":0},{"$f":"April!D15","v":0},{"$f":"April!E15","v":0},{"$f":"April!F15","v":0},{"$f":"April!G15","v":0},{"$f":"April!H15","v":0},{"$f":"April!I15","v":0},{"$f":"April!J15","v":0}]
[{"$f":"April!A16","v":"00:00:00"},{"$f":"April!B16","v":0},{"$f":"April!C16","v":0},{"$f":"April!D16","v":0},{"$f":"April!E16","v":0},{"$f":"April!F16","v":0},{"$f":"April!G16","v":0},{"$f":"April!H16","v":0},{"$f":"April!I16","v":0},{"$f":"April!J16","v":0}]
[{"$f":"April!A17","v":"00:00:00"},{"$f":"April!B17","v":0},{"$f":"April!C17","v":0},{"$f":"April!D17","v":0},{"$f":"April!E17","v":0},{"$f":"April!F17","v":0},{"$f":"April!G17","v":0},{"$f":"April!H17","v":0},{"$f":"April!I17","v":0},{"$f":"April!J17","v":0}]
[{"$f":"April!A18","v":"00:00:00"},{"$f":"April!B18","v":0},{"$f":"April!C18","v":0},{"$f":"April!D18","v":0},{"$f":"April!E18","v":0},{"$f":"April!F18","v":0},{"$f":"April!G18","v":0},{"$f":"April!H18","v":0},{"$f":"April!I18","v":0},{"$f":"April!J18","v":0}]
[{"$f":"April!A19","v":"00:00:00"},{"$f":"April!B19","v":0},{"$f":"April!C19","v":0},{"$f":"April!D19","v":0},{"$f":"April!E19","v":0},{"$f":"April!F19","v":0},{"$f":"April!G19","v":0},{"$f":"April!H19","v":0},{"$f":"April!I19","v":0},{"$f":"April!J19","v":0}]
[{"$f":"April!A20","v":"00:00:00"},{"$f":"April!B20","v":0},{"$f":"April!C20","v":0},{"$f":"April!D20","v":0},{"$f":"April!E20","v":0},{"$f":"April!F20","v":0},{"$f":"April!G20","v":0},{"$f":"April!H20","v":0},{"$f":"April!I20","v":0},{"$f":"April!J20","v":0}]
[{"$f":"April!A21","v":"00:00:00"},{"$f":"April!B21","v":0},{"$f":"April!C21","v":0},{"$f":"April!D21","v":0},{"$f":"April!E21","v":0},{"$f":"April!F21","v":0},{"$f":"April!G21","v":0},{"$f":"April!H21","v":0},{"$f":"April!I21","v":0},{"$f":"April!J21","v":0}]
[{"$f":"April!A22","v":"00:00:00"},{"$f":"April!B22","v":0},{"$f":"April!C22","v":0},{"$f":"April!D22","v":0},{"$f":"April!E22","v":0},{"$f":"April!F22","v":0},{"$f":"April!G22","v":0},{"$f":"April!H22","v":0},{"$f":"April!I22","v":0},{"$f":"April!J22","v":0}]
[{"$f":"April!A23","v":"00:00:00"},{"$f":"April!B23","v":0},{"$f":"April!C23","v":0},{"$f":"April!D23","v":0},{"$f":"April!E23","v":0},{"$f":"April!F23","v":0},{"$f":"April!G23","v":0},{"$f":"April!H23","v":0},{"$f":"April!I23","v":0},{"$f":"April!J23","v":0}]
[{"$f":"April!A24","v":"00:00:00"},{"$f":"April!B24","v":0},{"$f":"April!C24","v":0},{"$f":"April!D24","v":0},{"$f":"April!E24","v":0},{"$f":"April!F24","v":0},{"$f":"April!G24","v":0},{"$f":"April!H24","v":0},{"$f":"April!I24","v":0},{"$f":"April!J24","v":0}]
[{"$f":"April!A25","v":"00:00:00"},{"$f":"April!B25","v":0},{"$f":"April!C25","v":0},{"$f":"April!D25","v":0},{"$f":"April!E25","v":0},{"$f":"April!F25","v":0},{"$f":"April!G25","v":0},{"$f":"April!H25","v":0},{"$f":"April!I25","v":0},{"$f":"April!J25","v":0}]
[{"$f":"April!A26","v":"00:00:00"},{"$f":"April!B26","v":0},{"$f":"April!C26","v":0},{"$f":"April!D26","v":0},{"$f":"April!E26","v":0},{"$f":"April!F26","v":0},{"$f":"April!G26","v":0},{"$f":"April!H26","v":0},{"$f":"April!I26","v":0},{"$f":"April!J26","v":0}]
[{"$f":"April!A27","v":"00:00:00"},{"$f":"April!B27","v":0},{"$f":"April!C27","v":0},{"$f":"April!D27","v":0},{"$f":"April!E27","v":0},{"$f":"April!F27","v":0},{"$f":"April!G27","v":0},{"$f":"April!H27","v":0},{"$f":"April!I27","v":0},{"$f":"April!J27","v":0}]
[{"$f":"April!A28","v":"00:00:00"},{"$f":"April!B28","v":0},{"$f":"April!C28","v":0},{"$f":"April!D28","v":0},{"$f":"April!E28","v":0},{"$f":"April!F28","v":0},{"$f":"April!G28","v":0},{"$f":"April!H28","v":0},{"$f":"April!I28","v":0},{"$f":"April!J28","v":0}]
[{"$f":"April!A29","v":"00:00:00"},{"$f":"April!B29","v":0},{"$f":"April!C29","v":0},{"$f":"April!D29","v":0},{"$f":"April!E29","v":0},{"$f":"April!F29","v":0},{"$f":"April!G29","v":0},{"$f":"April!H29","v":0},{"$f":"April!I29","v":0},{"$f":"April!J29","v":0}]
[{"$f":"April!A30","v":"00:00:00"},{"$f":"April!B30","v":0},{"$f":"April!C30","v":0},{"$f":"April!D30","v":0},{"$f":"April!E30","v":0},{"$f":"April!F30","v":0},{"$f":"April!G30","v":0},{"$f":"April!H30","v":0},{"$f":"April!I30","v":0},{"$f":"April!J30","v":0}]
[{"$f":"April!A31","v":"00:00:00"},{"$f":"April!B31","v":0},{"$f":"April!C31","v":0},{"$f":"April!D31","v":0},{"$f":"April!E31","v":0},{"$f":"April!F31","v":0},{"$f":"April!G31","v":0},{"$f":"April!H31","v":0},{"$f":"April!I31","v":0},{"$f":"April!J31","v":0}]
[{"$f":"April!A32","v":"00:00:00"},{"$f":"April!B32","v":0},{"$f":"April!C32","v":0},{"$f":"April!D32","v":0},{"$f":"April!E32","v":0},{"$f":"April!F32","v":0},{"$f":"April!G32","v":0},{"$f":"April!H32","v":0},{"$f":"April!I32","v":0},{"$f":"April!J32","v":0}]
[{"$f":"April!A33","v":"00:00:00"},{"$f":"April!B33","v":0},{"$f":"April!C33","v":0},{"$f":"April!D33","v":0},{"$f":"April!E33","v":0},{"$f":"April!F33","v":0},{"$f":"April!G33","v":0},{"$f":"April!H33","v":0},{"$f":"April!I33","v":0},{"$f":"April!J33","v":0}]
[{"$f":"April!A34","v":"00:00:00"},{"$f":"April!B34","v":0},{"$f":"April!C34","v":0},{"$f":"April!D34","v":0},{"$f":"April!E34","v":0},{"$f":"April!F34","v":0},{"$f":"April!G34","v":0},{"$f":"April!H34","v":0},{"$f":"April!I34","v":0},{"$f":"April!J34","v":0}]
[{"$f":"April!A35","v":"00:00:00"},{"$f":"April!B35","v":0},{"$f":"April!C35","v":0},{"$f":"April!D35","v":0},{"$f":"April!E35","v":0},{"$f":"April!F35","v":0},{"$f":"April!G35","v":0},{"$f":"April!H35","v":0},{"$f":"April!I35","v":0},{"$f":"April!J35","v":0}]
[{"$f":"April!A36","v":"00:00:00"},{"$f":"April!B36","v":0},{"$f":"April!C36","v":0},{"$f":"April!D36","v":0},{"$f":"April!E36","v":0},{"$f":"April!F36","v":0},{"$f":"April!G36","v":0},{"$f":"April!H36","v":0},{"$f":"April!I36","v":0},{"$f":"April!J36","v":0}]
[{"$f":"April!A37","v":"00:00:00"},{"$f":"April!B37","v":0},{"$f":"April!C37","v":0},{"$f":"April!D37","v":0},{"$f":"April!E37","v":0},{"$f":"April!F37","v":0},{"$f":"April!G37","v":0},{"$f":"April!H37","v":0},{"$f":"April!I37","v":0},{"$f":"April!J37","v":0}]
[{"$f":"April!A38","v":"00:00:00"},{"$f":"April!B38","v":0},{"$f":"April!C38","v":0},{"$f":"April!D38","v":0},{"$f":"April!E38","v":0},{"$f":"April!F38","v":0},{"$f":"April!G38","v":0},{"$f":"April!H38","v":0},{"$f":"April!I38","v":0},{"$f":"April!J38","v":0}]
[{"$f":"April!A39","v":"00:00:00"},{"$f":"April!B39","v":0},{"$f":"April!C39","v":0},{"$f":"April!D39","v":0},{"$f":"April!E39","v":0},{"$f":"April!F39","v":0},{"$f":"April!G39","v":0},{"$f":"April!H39","v":0},{"$f":"April!I39","v":0},{"$f":"April!J39","v":0}]
[{"$f":"April!A40","v":"00:00:00"},{"$f":"April!B40","v":0},{"$f":"April!C40","v":0},{"$f":"April!D40","v":0},{"$f":"April!E40","v":0},{"$f":"April!F40","v":0},{"$f":"April!G40","v":0},{"$f":"April!H40","v":0},{"$f":"April!I40","v":0},{"$f":"April!J40","v":0}]
[{"$f":"April!A41","v":"00:00:00"},{"$f":"April!B41","v":0},{"$f":"April!C41","v":0},{"$f":"April!D41","v":0},{"$f":"April!E41","v":0},{"$f":"April!F41","v":0},{"$f":"April!G41","v":0},{"$f":"April!H41","v":0},{"$f":"April!I41","v":0},{"$f":"April!J41","v":0}]
[{"$f":"April!A42","v":"00:00:00"},{"$f":"April!B42","v":0},{"$f":"April!C42","v":0},{"$f":"April!D42","v":0},{"$f":"April!E42","v":0},{"$f":"April!F42","v":0},{"$f":"April!G42","v":0},{"$f":"April!H42","v":0},{"$f":"April!I42","v":0},{"$f":"April!J42","v":0}]
[{"$f":"April!A43","v":"00:00:00"},{"$f":"April!B43","v":0},{"$f":"April!C43","v":0},{"$f":"April!D43","v":0},{"$f":"April!E43","v":0},{"$f":"April!F43","v":0},{"$f":"April!G43","v":0},{"$f":"April!H43","v":0},{"$f":"April!I43","v":0},{"$f":"April!J43","v":0}]
[{"$f":"April!A44","v":"00:00:00"},{"$f":"April!B44","v":0},{"$f":"April!C44","v":0},{"$f":"April!D44","v":0},{"$f":"April!E44","v":0},{"$f":"April!F44","v":0},{"$f":"April!G44","v":0},{"$f":"April!H44","v":0},{"$f":"April!I44","v":0},{"$f":"April!J44","v":0}]
[{"$f":"April!A45","v":"00:00:00"},{"$f":"April!B45","v":0},{"$f":"April!C45","v":0},{"$f":"April!D45","v":0},{"$f":"April!E45","v":0},{"$f":"April!F45","v":0},{"$f":"April!G45","v":0},{"$f":"April!H45","v":0},{"$f":"April!I45","v":0},{"$f":"April!J45","v":0}]
[{"$f":"April!A46","v":"00:00:00"},{"$f":"April!B46","v":0},{"$f":"April!C46","v":0},{"$f":"April!D46","v":0},{"$f":"April!E46","v":0},{"$f":"April!F46","v":0},{"$f":"April!G46","v":0},{"$f":"April!H46","v":0},{"$f":"April!I46","v":0},{"$f":"April!J46","v":0}]
[{"$f":"April!A47","v":"00:00:00"},{"$f":"April!B47","v":0},{"$f":"April!C47","v":0},{"$f":"April!D47","v":0},{"$f":"April!E47","v":0},{"$f":"April!F47","v":0},{"$f":"April!G47","v":0},{"$f":"April!H47","v":0},{"$f":"April!I47","v":0},{"$f":"April!J47","v":0}]
[{"$f":"April!A48","v":"00:00:00"},{"$f":"April!B48","v":0},{"$f":"April!C48","v":0},{"$f":"April!D48","v":0},{"$f":"April!E48","v":0},{"$f":"April!F48","v":0},{"$f":"April!G48","v":0},{"$f":"April!H48","v":0},{"$f":"April!I48","v":0},{"$f":"April!J48","v":0}]
[{"$f":"April!A49","v":"00:00:00"},{"$f":"April!B49","v":0},{"$f":"April!C49","v":0},{"$f":"April!D49","v":0},{"$f":"April!E49","v":0},{"$f":"April!F49","v":0},{"$f":"April!G49","v":0},{"$f":"April!H49","v":0},{"$f":"April!I49","v":0},{"$f":"April!J49","v":0}]
[{"$f":"April!A50","v":"00:00:00"},{"$f":"April!B50","v":0},{"$f":"April!C50","v":0},{"$f":"April!D50","v":0},{"$f":"April!E50","v":0},{"$f":"April!F50","v":0},{"$f":"April!G50","v":0},{"$f":"April!H50","v":0},{"$f":"April!I50","v":0},{"$f":"April!J50","v":0}]
[{"$f":"April!A51","v":"00:00:00"},{"$f":"April!B51","v":0},{"$f":"April!C51","v":0},{"$f":"April!D51","v":0},{"$f":"April!E51","v":0},{"$f":"April!F51","v":0},{"$f":"April!G51","v":0},{"$f":"April!H51","v":0},{"$f":"April!I51","v":0},{"$f":"April!J51","v":0}]
[{"$f":"April!A52","v":"00:00:00"},{"$f":"April!B52","v":0},{"$f":"April!C52","v":0},{"$f":"April!D52","v":0},{"$f":"April!E52","v":0},{"$f":"April!F52","v":0},{"$f":"April!G52","v":0},{"$f":"April!H52","v":0},{"$f":"April!I52","v":0},{"$f":"April!J52","v":0}]
[{"$f":"April!A53","v":"00:00:00"},{"$f":"April!B53","v":0},{"$f":"April!C53","v":0},{"$f":"April!D53","v":0},{"$f":"April!E53","v":0},{"$f":"April!F53","v":0},{"$f":"April!G53","v":0},{"$f":"April!H53","v":0},{"$f":"April!I53","v":0},{"$f":"April!J53","v":0}]
[{"$f":"April!A54","v":"00:00:00"},{"$f":"April!B54","v":0},{"$f":"April!C54","v":0},{"$f":"April!D54","v":0},{"$f":"April!E54","v":0},{"$f":"April!F54","v":0},{"$f":"April!G54","v":0},{"$f":"April!H54","v":0},{"$f":"April!I54","v":0},{"$f":"April!J54","v":0}]
[{"$f":"April!A55","v":"00:00:00"},{"$f":"April!B55","v":0},{"$f":"April!C55","v":0},{"$f":"April!D55","v":0},{"$f":"April!E55","v":0},{"$f":"April!F55","v":0},{"$f":"April!G55","v":0},{"$f":"April!H55","v":0},{"$f":"April!I55","v":0},{"$f":"April!J55","v":0}]
[{"$f":"April!A56","v":"00:00:00"},{"$f":"April!B56","v":0},{"$f":"April!C56","v":0},{"$f":"April!D56","v":0},{"$f":"April!E56","v":0},{"$f":"April!F56","v":0},{"$f":"April!G56","v":0},{"$f":"April!H56","v":0},{"$f":"April!I56","v":0},{"$f":"April!J56","v":0}]
[{"$f":"April!A57","v":"00:00:00"},{"$f":"April!B57","v":0},{"$f":"April!C57","v":0},{"$f":"April!D57","v":0},{"$f":"April!E57","v":0},{"$f":"April!F57","v":0},{"$f":"April!G57","v":0},{"$f":"April!H57","v":0},{"$f":"April!I57","v":0},{"$f":"April!J57","v":0}]
[{"$f":"April!A58","v":"00:00:00"},{"$f":"April!B58","v":0},{"$f":"April!C58","v":0},{"$f":"April!D58","v":0},{"$f":"April!E58","v":0},{"$f":"April!F58","v":0},{"$f":"April!G58","v":0},{"$f":"April!H58","v":0},{"$f":"April!I58","v":0},{"$f":"April!J58","v":0}]
[{"$f":"April!A59","v":"00:00:00"},{"$f":"April!B59","v":0},{"$f":"April!C59","v":0},{"$f":"April!D59","v":0},{"$f":"April!E59","v":0},{"$f":"April!F59","v":0},{"$f":"April!G59","v":0},{"$f":"April!H59","v":0},{"$f":"April!I59","v":0},{"$f":"April!J59","v":0}]
[{"$f":"April!A60","v":"00:00:00"},{"$f":"April!B60","v":0},{"$f":"April!C60","v":0},{"$f":"April!D60","v":0},{"$f":"April!E60","v":0},{"$f":"April!F60","v":0},{"$f":"April!G60","v":0},{"$f":"April!H60","v":0},{"$f":"April!I60","v":0},{"$f":"April!J60","v":0}]
[{"$f":"May!A9","v":"00:00:00"},{"$f":"May!B9","v":0},{"$f":"May!C9","v":0},{"$f":"May!D9","v":0},{"$f":"May!E9","v":0},{"$f":"May!F9","v":0},{"$f":"May!G9","v":0},{"$f":"May!H9","v":0},{"$f":"May!I9","v":0},{"$f":"May!J9","v":0}]
[{"$f":"May!A10","v":"00:00:00"},{"$f":"May!B10","v":0},{"$f":"May!C10","v":0},{"$f":"May!D10","v":0},{"$f":"May!E10","v":0},{"$f":"May!F10","v":0},{"$f":"May!G10","v":0},{"$f":"May!H10","v":0},{"$f":"May!I10","v":0},{"$f":"May!J10","v":0}]
[{"$f":"May!A11","v":"00:00:00"},{"$f":"May!B11","v":0},{"$f":"May!C11","v":0},{"$f":"May!D11","v":0},{"$f":"May!E11","v":0},{"$f":"May!F11","v":0},{"$f":"May!G11","v":0},{"$f":"May!H11","v":0},{"$f":"May!I11","v":0},{"$f":"May!J11","v":0}]
[{"$f":"May!A12","v":"00:00:00"},{"$f":"May!B12","v":0},{"$f":"May!C12","v":0},{"$f":"May!D12","v":0},{"$f":"May!E12","v":0},{"$f":"May!F12","v":0},{"$f":"May!G12","v":0},{"$f":"May!H12","v":0},{"$f":"May!I12","v":0},{"$f":"May!J12","v":0}]
[{"$f":"May!A13","v":"00:00:00"},{"$f":"May!B13","v":0},{"$f":"May!C13","v":0},{"$f":"May!D13","v":0},{"$f":"May!E13","v":0},{"$f":"May!F13","v":0},{"$f":"May!G13","v":0},{"$f":"May!H13","v":0},{"$f":"May!I13","v":0},{"$f":"May!J13","v":0}]
[{"$f":"May!A14","v":"00:00:00"},{"$f":"May!B14","v":0},{"$f":"May!C14","v":0},{"$f":"May!D14","v":0},{"$f":"May!E14","v":0},{"$f":"May!F14","v":0},{"$f":"May!G14","v":0},{"$f":"May!H14","v":0},{"$f":"May!I14","v":0},{"$f":"May!J14","v":0}]
[{"$f":"May!A15","v":"00:00:00"},{"$f":"May!B15","v":0},{"$f":"May!C15","v":0},{"$f":"May!D15","v":0},{"$f":"May!E15","v":0},{"$f":"May!F15","v":0},{"$f":"May!G15","v":0},{"$f":"May!H15","v":0},{"$f":"May!I15","v":0},{"$f":"May!J15","v":0}]
[{"$f":"May!A16","v":"00:00:00"},{"$f":"May!B16","v":0},{"$f":"May!C16","v":0},{"$f":"May!D16","v":0},{"$f":"May!E16","v":0},{"$f":"May!F16","v":0},{"$f":"May!G16","v":0},{"$f":"May!H16","v":0},{"$f":"May!I16","v":0},{"$f":"May!J16","v":0}]
[{"$f":"May!A17","v":"00:00:00"},{"$f":"May!B17","v":0},{"$f":"May!C17","v":0},{"$f":"May!D17","v":0},{"$f":"May!E17","v":0},{"$f":"May!F17","v":0},{"$f":"May!G17","v":0},{"$f":"May!H17","v":0},{"$f":"May!I17","v":0},{"$f":"May!J17","v":0}]
[{"$f":"May!A18","v":"00:00:00"},{"$f":"May!B18","v":0},{"$f":"May!C18","v":0},{"$f":"May!D18","v":0},{"$f":"May!E18","v":0},{"$f":"May!F18","v":0},{"$f":"May!G18","v":0},{"$f":"May!H18","v":0},{"$f":"May!I18","v":0},{"$f":"May!J18","v":0}]
[{"$f":"May!A19","v":"00:00:00"},{"$f":"May!B19","v":0},{"$f":"May!C19","v":0},{"$f":"May!D19","v":0},{"$f":"May!E19","v":0},{"$f":"May!F19","v":0},{"$f":"May!G19","v":0},{"$f":"May!H19","v":0},{"$f":"May!I19","v":0},{"$f":"May!J19","v":0}]
[{"$f":"May!A20","v":"00:00:00"},{"$f":"May!B20","v":0},{"$f":"May!C20","v":0},{"$f":"May!D20","v":0},{"$f":"May!E20","v":0},{"$f":"May!F20","v":0},{"$f":"May!G20","v":0},{"$f":"May!H20","v":0},{"$f":"May!I20","v":0},{"$f":"May!J20","v":0}]
[{"$f":"May!A21","v":"00:00:00"},{"$f":"May!B21","v":0},{"$f":"May!C21","v":0},{"$f":"May!D21","v":0},{"$f":"May!E21","v":0},{"$f":"May!F21","v":0},{"$f":"May!G21","v":0},{"$f":"May!H21","v":0},{"$f":"May!I21","v":0},{"$f":"May!J21","v":0}]
[{"$f":"May!A22","v":"00:00:00"},{"$f":"May!B22","v":0},{"$f":"May!C22","v":0},{"$f":"May!D22","v":0},{"$f":"May!E22","v":0},{"$f":"May!F22","v":0},{"$f":"May!G22","v":0},{"$f":"May!H22","v":0},{"$f":"May!I22","v":0},{"$f":"May!J22","v":0}]
[{"$f":"May!A23","v":"00:00:00"},{"$f":"May!B23","v":0},{"$f":"May!C23","v":0},{"$f":"May!D23","v":0},{"$f":"May!E23","v":0},{"$f":"May!F23","v":0},{"$f":"May!G23","v":0},{"$f":"May!H23","v":0},{"$f":"May!I23","v":0},{"$f":"May!J23","v":0}]
[{"$f":"May!A24","v":"00:00:00"},{"$f":"May!B24","v":0},{"$f":"May!C24","v":0},{"$f":"May!D24","v":0},{"$f":"May!E24","v":0},{"$f":"May!F24","v":0},{"$f":"May!G24","v":0},{"$f":"May!H24","v":0},{"$f":"May!I24","v":0},{"$f":"May!J24","v":0}]
[{"$f":"May!A25","v":"00:00:00"},{"$f":"May!B25","v":0},{"$f":"May!C25","v":0},{"$f":"May!D25","v":0},{"$f":"May!E25","v":0},{"$f":"May!F25","v":0},{"$f":"May!G25","v":0},{"$f":"May!H25","v":0},{"$f":"May!I25","v":0},{"$f":"May!J25","v":0}]
[{"$f":"May!A26","v":"00:00:00"},{"$f":"May!B26","v":0},{"$f":"May!C26","v":0},{"$f":"May!D26","v":0},{"$f":"May!E26","v":0},{"$f":"May!F26","v":0},{"$f":"May!G26","v":0},{"$f":"May!H26","v":0},{"$f":"May!I26","v":0},{"$f":"May!J26","v":0}]
[{"$f":"May!A27","v":"00:00:00"},{"$f":"May!B27","v":0},{"$f":"May!C27","v":0},{"$f":"May!D27","v":0},{"$f":"May!E27","v":0},{"$f":"May!F27","v":0},{"$f":"May!G27","v":0},{"$f":"May!H27","v":0},{"$f":"May!I27","v":0},{"$f":"May!J27","v":0}]
[{"$f":"May!A28","v":"00:00:00"},{"$f":"May!B28","v":0},{"$f":"May!C28","v":0},{"$f":"May!D28","v":0},{"$f":"May!E28","v":0},{"$f":"May!F28","v":0},{"$f":"May!G28","v":0},{"$f":"May!H28","v":0},{"$f":"May!I28","v":0},{"$f":"May!J28","v":0}]
[{"$f":"May!A29","v":"00:00:00"},{"$f":"May!B29","v":0},{"$f":"May!C29","v":0},{"$f":"May!D29","v":0},{"$f":"May!E29","v":0},{"$f":"May!F29","v":0},{"$f":"May!G29","v":0},{"$f":"May!H29","v":0},{"$f":"May!I29","v":0},{"$f":"May!J29","v":0}]
[{"$f":"May!A30","v":"00:00:00"},{"$f":"May!B30","v":0},{"$f":"May!C30","v":0},{"$f":"May!D30","v":0},{"$f":"May!E30","v":0},{"$f":"May!F30","v":0},{"$f":"May!G30","v":0},{"$f":"May!H30","v":0},{"$f":"May!I30","v":0},{"$f":"May!J30","v":0}]
[{"$f":"May!A31","v":"00:00:00"},{"$f":"May!B31","v":0},{"$f":"May!C31","v":0},{"$f":"May!D31","v":0},{"$f":"May!E31","v":0},{"$f":"May!F31","v":0},{"$f":"May!G31","v":0},{"$f":"May!H31","v":0},{"$f":"May!I31","v":0},{"$f":"May!J31","v":0}]
[{"$f":"May!A32","v":"00:00:00"},{"$f":"May!B32","v":0},{"$f":"May!C32","v":0},{"$f":"May!D32","v":0},{"$f":"May!E32","v":0},{"$f":"May!F32","v":0},{"$f":"May!G32","v":0},{"$f":"May!H32","v":0},{"$f":"May!I32","v":0},{"$f":"May!J32","v":0}]
[{"$f":"May!A33","v":"00:00:00"},{"$f":"May!B33","v":0},{"$f":"May!C33","v":0},{"$f":"May!D33","v":0},{"$f":"May!E33","v":0},{"$f":"May!F33","v":0},{"$f":"May!G33","v":0},{"$f":"May!H33","v":0},{"$f":"May!I33","v":0},{"$f":"May!J33","v":0}]
[{"$f":"May!A34","v":"00:00:00"},{"$f":"May!B34","v":0},{"$f":"May!C34","v":0},{"$f":"May!D34","v":0},{"$f":"May!E34","v":0},{"$f":"May!F34","v":0},{"$f":"May!G34","v":0},{"$f":"May!H34","v":0},{"$f":"May!I34","v":0},{"$f":"May!J34","v":0}]
[{"$f":"May!A35","v":"00:00:00"},{"$f":"May!B35","v":0},{"$f":"May!C35","v":0},{"$f":"May!D35","v":0},{"$f":"May!E35","v":0},{"$f":"May!F35","v":0},{"$f":"May!G35","v":0},{"$f":"May!H35","v":0},{"$f":"May!I35","v":0},{"$f":"May!J35","v":0}]
[{"$f":"May!A36","v":"00:00:00"},{"$f":"May!B36","v":0},{"$f":"May!C36","v":0},{"$f":"May!D36","v":0},{"$f":"May!E36","v":0},{"$f":"May!F36","v":0},{"$f":"May!G36","v":0},{"$f":"May!H36","v":0},{"$f":"May!I36","v":0},{"$f":"May!J36","v":0}]
[{"$f":"May!A37","v":"00:00:00"},{"$f":"May!B37","v":0},{"$f":"May!C37","v":0},{"$f":"May!D37","v":0},{"$f":"May!E37","v":0},{"$f":"May!F37","v":0},{"$f":"May!G37","v":0},{"$f":"May!H37","v":0},{"$f":"May!I37","v":0},{"$f":"May!J37","v":0}]
[{"$f":"May!A38","v":"00:00:00"},{"$f":"May!B38","v":0},{"$f":"May!C38","v":0},{"$f":"May!D38","v":0},{"$f":"May!E38","v":0},{"$f":"May!F38","v":0},{"$f":"May!G38","v":0},{"$f":"May!H38","v":0},{"$f":"May!I38","v":0},{"$f":"May!J38","v":0}]
[{"$f":"May!A39","v":"00:00:00"},{"$f":"May!B39","v":0},{"$f":"May!C39","v":0},{"$f":"May!D39","v":0},{"$f":"May!E39","v":0},{"$f":"May!F39","v":0},{"$f":"May!G39","v":0},{"$f":"May!H39","v":0},{"$f":"May!I39","v":0},{"$f":"May!J39","v":0}]
[{"$f":"May!A40","v":"00:00:00"},{"$f":"May!B40","v":0},{"$f":"May!C40","v":0},{"$f":"May!D40","v":0},{"$f":"May!E40","v":0},{"$f":"May!F40","v":0},{"$f":"May!G40","v":0},{"$f":"May!H40","v":0},{"$f":"May!I40","v":0},{"$f":"May!J40","v":0}]
[{"$f":"May!A41","v":"00:00:00"},{"$f":"May!B41","v":0},{"$f":"May!C41","v":0},{"$f":"May!D41","v":0},{"$f":"May!E41","v":0},{"$f":"May!F41","v":0},{"$f":"May!G41","v":0},{"$f":"May!H41","v":0},{"$f":"May!I41","v":0},{"$f":"May!J41","v":0}]
[{"$f":"May!A42","v":"00:00:00"},{"$f":"May!B42","v":0},{"$f":"May!C42","v":0},{"$f":"May!D42","v":0},{"$f":"May!E42","v":0},{"$f":"May!F42","v":0},{"$f":"May!G42","v":0},{"$f":"May!H42","v":0},{"$f":"May!I42","v":0},{"$f":"May!J42","v":0}]
[{"$f":"May!A43","v":"00:00:00"},{"$f":"May!B43","v":0},{"$f":"May!C43","v":0},{"$f":"May!D43","v":0},{"$f":"May!E43","v":0},{"$f":"May!F43","v":0},{"$f":"May!G43","v":0},{"$f":"May!H43","v":0},{"$f":"May!I43","v":0},{"$f":"May!J43","v":0}]
[{"$f":"May!A44","v":"00:00:00"},{"$f":"May!B44","v":0},{"$f":"May!C44","v":0},{"$f":"May!D44","v":0},{"$f":"May!E44","v":0},{"$f":"May!F44","v":0},{"$f":"May!G44","v":0},{"$f":"May!H44","v":0},{"$f":"May!I44","v":0},{"$f":"May!J44","v":0}]
[{"$f":"May!A45","v":"00:00:00"},{"$f":"May!B45","v":0},{"$f":"May!C45","v":0},{"$f":"May!D45","v":0},{"$f":"May!E45","v":0},{"$f":"May!F45","v":0},{"$f":"May!G45","v":0},{"$f":"May!H45","v":0},{"$f":"May!I45","v":0},{"$f":"May!J45","v":0}]
[{"$f":"May!A46","v":"00:00:00"},{"$f":"May!B46","v":0},{"$f":"May!C46","v":0},{"$f":"May!D46","v":0},{"$f":"May!E46","v":0},{"$f":"May!F46","v":0},{"$f":"May!G46","v":0},{"$f":"May!H46","v":0},{"$f":"May!I46","v":0},{"$f":"May!J46","v":0}]
[{"$f":"May!A47","v":"00:00:00"},{"$f":"May!B47","v":0},{"$f":"May!C47","v":0},{"$f":"May!D47","v":0},{"$f":"May!E47","v":0},{"$f":"May!F47","v":0},{"$f":"May!G47","v":0},{"$f":"May!H47","v":0},{"$f":"May!I47","v":0},{"$f":"May!J47","v":0}]
[{"$f":"May!A48","v":"00:00:00"},{"$f":"May!B48","v":0},{"$f":"May!C48","v":0},{"$f":"May!D48","v":0},{"$f":"May!E48","v":0},{"$f":"May!F48","v":0},{"$f":"May!G48","v":0},{"$f":"May!H48","v":0},{"$f":"May!I48","v":0},{"$f":"May!J48","v":0}]
[{"$f":"May!A49","v":"00:00:00"},{"$f":"May!B49","v":0},{"$f":"May!C49","v":0},{"$f":"May!D49","v":0},{"$f":"May!E49","v":0},{"$f":"May!F49","v":0},{"$f":"May!G49","v":0},{"$f":"May!H49","v":0},{"$f":"May!I49","v":0},{"$f":"May!J49","v":0}]
[{"$f":"May!A50","v":"00:00:00"},{"$f":"May!B50","v":0},{"$f":"May!C50","v":0},{"$f":"May!D50","v":0},{"$f":"May!E50","v":0},{"$f":"May!F50","v":0},{"$f":"May!G50","v":0},{"$f":"May!H50","v":0},{"$f":"May!I50","v":0},{"$f":"May!J50","v":0}]
[{"$f":"May!A51","v":"00:00:00"},{"$f":"May!B51","v":0},{"$f":"May!C51","v":0},{"$f":"May!D51","v":0},{"$f":"May!E51","v":0},{"$f":"May!F51","v":0},{"$f":"May!G51","v":0},{"$f":"May!H51","v":0},{"$f":"May!I51","v":0},{"$f":"May!J51","v":0}]
[{"$f":"May!A52","v":"00:00:00"},{"$f":"May!B52","v":0},{"$f":"May!C52","v":0},{"$f":"May!D52","v":0},{"$f":"May!E52","v":0},{"$f":"May!F52","v":0},{"$f":"May!G52","v":0},{"$f":"May!H52","v":0},{"$f":"May!I52","v":0},{"$f":"May!J52","v":0}]
[{"$f":"May!A53","v":"00:00:00"},{"$f":"May!B53","v":0},{"$f":"May!C53","v":0},{"$f":"May!D53","v":0},{"$f":"May!E53","v":0},{"$f":"May!F53","v":0},{"$f":"May!G53","v":0},{"$f":"May!H53","v":0},{"$f":"May!I53","v":0},{"$f":"May!J53","v":0}]
[{"$f":"May!A54","v":"00:00:00"},{"$f":"May!B54","v":0},{"$f":"May!C54","v":0},{"$f":"May!D54","v":0},{"$f":"May!E54","v":0},{"$f":"May!F54","v":0},{"$f":"May!G54","v":0},{"$f":"May!H54","v":0},{"$f":"May!I54","v":0},{"$f":"May!J54","v":0}]
[{"$f":"May!A55","v":"00:00:00"},{"$f":"May!B55","v":0},{"$f":"May!C55","v":0},{"$f":"May!D55","v":0},{"$f":"May!E55","v":0},{"$f":"May!F55","v":0},{"$f":"May!G55","v":0},{"$f":"May!H55","v":0},{"$f":"May!I55","v":0},{"$f":"May!J55","v":0}]
[{"$f":"May!A56","v":"00:00:00"},{"$f":"May!B56","v":0},{"$f":"May!C56","v":0},{"$f":"May!D56","v":0},{"$f":"May!E56","v":0},{"$f":"May!F56","v":0},{"$f":"May!G56","v":0},{"$f":"May!H56","v":0},{"$f":"May!I56","v":0},{"$f":"May!J56","v":0}]
[{"$f":"May!A57","v":"00:00:00"},{"$f":"May!B57","v":0},{"$f":"May!C57","v":0},{"$f":"May!D57","v":0},{"$f":"May!E57","v":0},{"$f":"May!F57","v":0},{"$f":"May!G57","v":0},{"$f":"May!H57","v":0},{"$f":"May!I57","v":0},{"$f":"May!J57","v":0}]
[{"$f":"May!A58","v":"00:00:00"},{"$f":"May!B58","v":0},{"$f":"May!C58","v":0},{"$f":"May!D58","v":0},{"$f":"May!E58","v":0},{"$f":"May!F58","v":0},{"$f":"May!G58","v":0},{"$f":"May!H58","v":0},{"$f":"May!I58","v":0},{"$f":"May!J58","v":0}]
[{"$f":"May!A59","v":"00:00:00"},{"$f":"May!B59","v":0},{"$f":"May!C59","v":0},{"$f":"May!D59","v":0},{"$f":"May!E59","v":0},{"$f":"May!F59","v":0},{"$f":"May!G59","v":0},{"$f":"May!H59","v":0},{"$f":"May!I59","v":0},{"$f":"May!J59","v":0}]
[{"$f":"May!A60","v":"00:00:00"},{"$f":"May!B60","v":0},{"$f":"May!C60","v":0},{"$f":"May!D60","v":0},{"$f":"May!E60","v":0},{"$f":"May!F60","v":0},{"$f":"May!G60","v":0},{"$f":"May!H60","v":0},{"$f":"May!I60","v":0},{"$f":"May!J60","v":0}]
[{"$f":"June!A9","v":"00:00:00"},{"$f":"June!B9","v":0},{"$f":"June!C9","v":0},{"$f":"June!D9","v":0},{"$f":"June!E9","v":0},{"$f":"June!F9","v":0},{"$f":"June!G9","v":0},{"$f":"June!H9","v":0},{"$f":"June!I9","v":0},{"$f":"June!J9","v":0}]
[{"$f":"June!A10","v":"00:00:00"},{"$f":"June!B10","v":0},{"$f":"June!C10","v":0},{"$f":"June!D10","v":0},{"$f":"June!E10","v":0},{"$f":"June!F10","v":0},{"$f":"June!G10","v":0},{"$f":"June!H10","v":0},{"$f":"June!I10","v":0},{"$f":"June!J10","v":0}]
[{"$f":"June!A11","v":"00:00:00"},{"$f":"June!B11","v":0},{"$f":"June!C11","v":0},{"$f":"June!D11","v":0},{"$f":"June!E11","v":0},{"$f":"June!F11","v":0},{"$f":"June!G11","v":0},{"$f":"June!H11","v":0},{"$f":"June!I11","v":0},{"$f":"June!J11","v":0}]
[{"$f":"June!A12","v":"00:00:00"},{"$f":"June!B12","v":0},{"$f":"June!C12","v":0},{"$f":"June!D12","v":0},{"$f":"June!E12","v":0},{"$f":"June!F12","v":0},{"$f":"June!G12","v":0},{"$f":"June!H12","v":0},{"$f":"June!I12","v":0},{"$f":"June!J12","v":0}]
[{"$f":"June!A13","v":"00:00:00"},{"$f":"June!B13","v":0},{"$f":"June!C13","v":0},{"$f":"June!D13","v":0},{"$f":"June!E13","v":0},{"$f":"June!F13","v":0},{"$f":"June!G13","v":0},{"$f":"June!H13","v":0},{"$f":"June!I13","v":0},{"$f":"June!J13","v":0}]
[{"$f":"June!A14","v":"00:00:00"},{"$f":"June!B14","v":0},{"$f":"June!C14","v":0},{"$f":"June!D14","v":0},{"$f":"June!E14","v":0},{"$f":"June!F14","v":0},{"$f":"June!G14","v":0},{"$f":"June!H14","v":0},{"$f":"June!I14","v":0},{"$f":"June!J14","v":0}]
[{"$f":"June!A15","v":"00:00:00"},{"$f":"June!B15","v":0},{"$f":"June!C15","v":0},{"$f":"June!D15","v":0},{"$f":"June!E15","v":0},{"$f":"June!F15","v":0},{"$f":"June!G15","v":0},{"$f":"June!H15","v":0},{"$f":"June!I15","v":0},{"$f":"June!J15","v":0}]
[{"$f":"June!A16","v":"00:00:00"},{"$f":"June!B16","v":0},{"$f":"June!C16","v":0},{"$f":"June!D16","v":0},{"$f":"June!E16","v":0},{"$f":"June!F16","v":0},{"$f":"June!G16","v":0},{"$f":"June!H16","v":0},{"$f":"June!I16","v":0},{"$f":"June!J16","v":0}]
[{"$f":"June!A17","v":"00:00:00"},{"$f":"June!B17","v":0},{"$f":"June!C17","v":0},{"$f":"June!D17","v":0},{"$f":"June!E17","v":0},{"$f":"June!F17","v":0},{"$f":"June!G17","v":0},{"$f":"June!H17","v":0},{"$f":"June!I17","v":0},{"$f":"June!J17","v":0}]
[{"$f":"June!A18","v":"00:00:00"},{"$f":"June!B18","v":0},{"$f":"June!C18","v":0},{"$f":"June!D18","v":0},{"$f":"June!E18","v":0},{"$f":"June!F18","v":0},{"$f":"June!G18","v":0},{"$f":"June!H18","v":0},{"$f":"June!I18","v":0},{"$f":"June!J18","v":0}]
[{"$f":"June!A19","v":"00:00:00"},{"$f":"June!B19","v":0},{"$f":"June!C19","v":0},{"$f":"June!D19","v":0},{"$f":"June!E19","v":0},{"$f":"June!F19","v":0},{"$f":"June!G19","v":0},{"$f":"June!H19","v":0},{"$f":"June!I19","v":0},{"$f":"June!J19","v":0}]
[{"$f":"June!A20","v":"00:00:00"},{"$f":"June!B20","v":0},{"$f":"June!C20","v":0},{"$f":"June!D20","v":0},{"$f":"June!E20","v":0},{"$f":"June!F20","v":0},{"$f":"June!G20","v":0},{"$f":"June!H20","v":0},{"$f":"June!I20","v":0},{"$f":"June!J20","v":0}]
[{"$f":"June!A21","v":"00:00:00"},{"$f":"June!B21","v":0},{"$f":"June!C21","v":0},{"$f":"June!D21","v":0},{"$f":"June!E21","v":0},{"$f":"June!F21","v":0},{"$f":"June!G21","v":0},{"$f":"June!H21","v":0},{"$f":"June!I21","v":0},{"$f":"June!J21","v":0}]
[{"$f":"June!A22","v":"00:00:00"},{"$f":"June!B22","v":0},{"$f":"June!C22","v":0},{"$f":"June!D22","v":0},{"$f":"June!E22","v":0},{"$f":"June!F22","v":0},{"$f":"June!G22","v":0},{"$f":"June!H22","v":0},{"$f":"June!I22","v":0},{"$f":"June!J22","v":0}]
[{"$f":"June!A23","v":"00:00:00"},{"$f":"June!B23","v":0},{"$f":"June!C23","v":0},{"$f":"June!D23","v":0},{"$f":"June!E23","v":0},{"$f":"June!F23","v":0},{"$f":"June!G23","v":0},{"$f":"June!H23","v":0},{"$f":"June!I23","v":0},{"$f":"June!J23","v":0}]
[{"$f":"June!A24","v":"00:00:00"},{"$f":"June!B24","v":0},{"$f":"June!C24","v":0},{"$f":"June!D24","v":0},{"$f":"June!E24","v":0},{"$f":"June!F24","v":0},{"$f":"June!G24","v":0},{"$f":"June!H24","v":0},{"$f":"June!I24","v":0},{"$f":"June!J24","v":0}]
[{"$f":"June!A25","v":"00:00:00"},{"$f":"June!B25","v":0},{"$f":"June!C25","v":0},{"$f":"June!D25","v":0},{"$f":"June!E25","v":0},{"$f":"June!F25","v":0},{"$f":"June!G25","v":0},{"$f":"June!H25","v":0},{"$f":"June!I25","v":0},{"$f":"June!J25","v":0}]
[{"$f":"June!A26","v":"00:00:00"},{"$f":"June!B26","v":0},{"$f":"June!C26","v":0},{"$f":"June!D26","v":0},{"$f":"June!E26","v":0},{"$f":"June!F26","v":0},{"$f":"June!G26","v":0},{"$f":"June!H26","v":0},{"$f":"June!I26","v":0},{"$f":"June!J26","v":0}]
[{"$f":"June!A27","v":"00:00:00"},{"$f":"June!B27","v":0},{"$f":"June!C27","v":0},{"$f":"June!D27","v":0},{"$f":"June!E27","v":0},{"$f":"June!F27","v":0},{"$f":"June!G27","v":0},{"$f":"June!H27","v":0},{"$f":"June!I27","v":0},{"$f":"June!J27","v":0}]
[{"$f":"June!A28","v":"00:00:00"},{"$f":"June!B28","v":0},{"$f":"June!C28","v":0},{"$f":"June!D28","v":0},{"$f":"June!E28","v":0},{"$f":"June!F28","v":0},{"$f":"June!G28","v":0},{"$f":"June!H28","v":0},{"$f":"June!I28","v":0},{"$f":"June!J28","v":0}]
[{"$f":"June!A29","v":"00:00:00"},{"$f":"June!B29","v":0},{"$f":"June!C29","v":0},{"$f":"June!D29","v":0},{"$f":"June!E29","v":0},{"$f":"June!F29","v":0},{"$f":"June!G29","v":0},{"$f":"June!H29","v":0},{"$f":"June!I29","v":0},{"$f":"June!J29","v":0}]
[{"$f":"June!A30","v":"00:00:00"},{"$f":"June!B30","v":0},{"$f":"June!C30","v":0},{"$f":"June!D30","v":0},{"$f":"June!E30","v":0},{"$f":"June!F30","v":0},{"$f":"June!G30","v":0},{"$f":"June!H30","v":0},{"$f":"June!I30","v":0},{"$f":"June!J30","v":0}]
[{"$f":"June!A31","v":"00:00:00"},{"$f":"June!B31","v":0},{"$f":"June!C31","v":0},{"$f":"June!D31","v":0},{"$f":"June!E31","v":0},{"$f":"June!F31","v":0},{"$f":"June!G31","v":0},{"$f":"June!H31","v":0},{"$f":"June!I31","v":0},{"$f":"June!J31","v":0}]
[{"$f":"June!A32","v":"00:00:00"},{"$f":"June!B32","v":0},{"$f":"June!C32","v":0},{"$f":"June!D32","v":0},{"$f":"June!E32","v":0},{"$f":"June!F32","v":0},{"$f":"June!G32","v":0},{"$f":"June!H32","v":0},{"$f":"June!I32","v":0},{"$f":"June!J32","v":0}]
[{"$f":"June!A33","v":"00:00:00"},{"$f":"June!B33","v":0},{"$f":"June!C33","v":0},{"$f":"June!D33","v":0},{"$f":"June!E33","v":0},{"$f":"June!F33","v":0},{"$f":"June!G33","v":0},{"$f":"June!H33","v":0},{"$f":"June!I33","v":0},{"$f":"June!J33","v":0}]
[{"$f":"June!A34","v":"00:00:00"},{"$f":"June!B34","v":0},{"$f":"June!C34","v":0},{"$f":"June!D34","v":0},{"$f":"June!E34","v":0},{"$f":"June!F34","v":0},{"$f":"June!G34","v":0},{"$f":"June!H34","v":0},{"$f":"June!I34","v":0},{"$f":"June!J34","v":0}]
[{"$f":"June!A35","v":"00:00:00"},{"$f":"June!B35","v":0},{"$f":"June!C35","v":0},{"$f":"June!D35","v":0},{"$f":"June!E35","v":0},{"$f":"June!F35","v":0},{"$f":"June!G35","v":0},{"$f":"June!H35","v":0},{"$f":"June!I35","v":0},{"$f":"June!J35","v":0}]
[{"$f":"June!A36","v":"00:00:00"},{"$f":"June!B36","v":0},{"$f":"June!C36","v":0},{"$f":"June!D36","v":0},{"$f":"June!E36","v":0},{"$f":"June!F36","v":0},{"$f":"June!G36","v":0},{"$f":"June!H36","v":0},{"$f":"June!I36","v":0},{"$f":"June!J36","v":0}]
[{"$f":"June!A37","v":"00:00:00"},{"$f":"June!B37","v":0},{"$f":"June!C37","v":0},{"$f":"June!D37","v":0},{"$f":"June!E37","v":0},{"$f":"June!F37","v":0},{"$f":"June!G37","v":0},{"$f":"June!H37","v":0},{"$f":"June!I37","v":0},{"$f":"June!J37","v":0}]
[{"$f":"June!A38","v":"00:00:00"},{"$f":"June!B38","v":0},{"$f":"June!C38","v":0},{"$f":"June!D38","v":0},{"$f":"June!E38","v":0},{"$f":"June!F38","v":0},{"$f":"June!G38","v":0},{"$f":"June!H38","v":0},{"$f":"June!I38","v":0},{"$f":"June!J38","v":0}]
[{"$f":"June!A39","v":"00:00:00"},{"$f":"June!B39","v":0},{"$f":"June!C39","v":0},{"$f":"June!D39","v":0},{"$f":"June!E39","v":0},{"$f":"June!F39","v":0},{"$f":"June!G39","v":0},{"$f":"June!H39","v":0},{"$f":"June!I39","v":0},{"$f":"June!J39","v":0}]
[{"$f":"June!A40","v":"00:00:00"},{"$f":"June!B40","v":0},{"$f":"June!C40","v":0},{"$f":"June!D40","v":0},{"$f":"June!E40","v":0},{"$f":"June!F40","v":0},{"$f":"June!G40","v":0},{"$f":"June!H40","v":0},{"$f":"June!I40","v":0},{"$f":"June!J40","v":0}]
[{"$f":"June!A41","v":"00:00:00"},{"$f":"June!B41","v":0},{"$f":"June!C41","v":0},{"$f":"June!D41","v":0},{"$f":"June!E41","v":0},{"$f":"June!F41","v":0},{"$f":"June!G41","v":0},{"$f":"June!H41","v":0},{"$f":"June!I41","v":0},{"$f":"June!J41","v":0}]
[{"$f":"June!A42","v":"00:00:00"},{"$f":"June!B42","v":0},{"$f":"June!C42","v":0},{"$f":"June!D42","v":0},{"$f":"June!E42","v":0},{"$f":"June!F42","v":0},{"$f":"June!G42","v":0},{"$f":"June!H42","v":0},{"$f":"June!I42","v":0},{"$f":"June!J42","v":0}]
[{"$f":"June!A43","v":"00:00:00"},{"$f":"June!B43","v":0},{"$f":"June!C43","v":0},{"$f":"June!D43","v":0},{"$f":"June!E43","v":0},{"$f":"June!F43","v":0},{"$f":"June!G43","v":0},{"$f":"June!H43","v":0},{"$f":"June!I43","v":0},{"$f":"June!J43","v":0}]
[{"$f":"June!A44","v":"00:00:00"},{"$f":"June!B44","v":0},{"$f":"June!C44","v":0},{"$f":"June!D44","v":0},{"$f":"June!E44","v":0},{"$f":"June!F44","v":0},{"$f":"June!G44","v":0},{"$f":"June!H44","v":0},{"$f":"June!I44","v":0},{"$f":"June!J44","v":0}]
[{"$f":"June!A45","v":"00:00:00"},{"$f":"June!B45","v":0},{"$f":"June!C45","v":0},{"$f":"June!D45","v":0},{"$f":"June!E45","v":0},{"$f":"June!F45","v":0},{"$f":"June!G45","v":0},{"$f":"June!H45","v":0},{"$f":"June!I45","v":0},{"$f":"June!J45","v":0}]
[{"$f":"June!A46","v":"00:00:00"},{"$f":"June!B46","v":0},{"$f":"June!C46","v":0},{"$f":"June!D46","v":0},{"$f":"June!E46","v":0},{"$f":"June!F46","v":0},{"$f":"June!G46","v":0},{"$f":"June!H46","v":0},{"$f":"June!I46","v":0},{"$f":"June!J46","v":0}]
[{"$f":"June!A47","v":"00:00:00"},{"$f":"June!B47","v":0},{"$f":"June!C47","v":0},{"$f":"June!D47","v":0},{"$f":"June!E47","v":0},{"$f":"June!F47","v":0},{"$f":"June!G47","v":0},{"$f":"June!H47","v":0},{"$f":"June!I47","v":0},{"$f":"June!J47","v":0}]
[{"$f":"June!A48","v":"00:00:00"},{"$f":"June!B48","v":0},{"$f":"June!C48","v":0},{"$f":"June!D48","v":0},{"$f":"June!E48","v":0},{"$f":"June!F48","v":0},{"$f":"June!G48","v":0},{"$f":"June!H48","v":0},{"$f":"June!I48","v":0},{"$f":"June!J48","v":0}]
[{"$f":"June!A49","v":"00:00:00"},{"$f":"June!B49","v":0},{"$f":"June!C49","v":0},{"$f":"June!D49","v":0},{"$f":"June!E49","v":0},{"$f":"June!F49","v":0},{"$f":"June!G49","v":0},{"$f":"June!H49","v":0},{"$f":"June!I49","v":0},{"$f":"June!J49","v":0}]
[{"$f":"June!A50","v":"00:00:00"},{"$f":"June!B50","v":0},{"$f":"June!C50","v":0},{"$f":"June!D50","v":0},{"$f":"June!E50","v":0},{"$f":"June!F50","v":0},{"$f":"June!G50","v":0},{"$f":"June!H50","v":0},{"$f":"June!I50","v":0},{"$f":"June!J50","v":0}]
[{"$f":"June!A51","v":"00:00:00"},{"$f":"June!B51","v":0},{"$f":"June!C51","v":0},{"$f":"June!D51","v":0},{"$f":"June!E51","v":0},{"$f":"June!F51","v":0},{"$f":"June!G51","v":0},{"$f":"June!H51","v":0},{"$f":"June!I51","v":0},{"$f":"June!J51","v":0}]
[{"$f":"June!A52","v":"00:00:00"},{"$f":"June!B52","v":0},{"$f":"June!C52","v":0},{"$f":"June!D52","v":0},{"$f":"June!E52","v":0},{"$f":"June!F52","v":0},{"$f":"June!G52","v":0},{"$f":"June!H52","v":0},{"$f":"June!I52","v":0},{"$f":"June!J52","v":0}]
[{"$f":"June!A53","v":"00:00:00"},{"$f":"June!B53","v":0},{"$f":"June!C53","v":0},{"$f":"June!D53","v":0},{"$f":"June!E53","v":0},{"$f":"June!F53","v":0},{"$f":"June!G53","v":0},{"$f":"June!H53","v":0},{"$f":"June!I53","v":0},{"$f":"June!J53","v":0}]
[{"$f":"June!A54","v":"00:00:00"},{"$f":"June!B54","v":0},{"$f":"June!C54","v":0},{"$f":"June!D54","v":0},{"$f":"June!E54","v":0},{"$f":"June!F54","v":0},{"$f":"June!G54","v":0},{"$f":"June!H54","v":0},{"$f":"June!I54","v":0},{"$f":"June!J54","v":0}]
[{"$f":"June!A55","v":"00:00:00"},{"$f":"June!B55","v":0},{"$f":"June!C55","v":0},{"$f":"June!D55","v":0},{"$f":"June!E55","v":0},{"$f":"June!F55","v":0},{"$f":"June!G55","v":0},{"$f":"June!H55","v":0},{"$f":"June!I55","v":0},{"$f":"June!J55","v":0}]
[{"$f":"June!A56","v":"00:00:00"},{"$f":"June!B56","v":0},{"$f":"June!C56","v":0},{"$f":"June!D56","v":0},{"$f":"June!E56","v":0},{"$f":"June!F56","v":0},{"$f":"June!G56","v":0},{"$f":"June!H56","v":0},{"$f":"June!I56","v":0},{"$f":"June!J56","v":0}]
[{"$f":"June!A57","v":"00:00:00"},{"$f":"June!B57","v":0},{"$f":"June!C57","v":0},{"$f":"June!D57","v":0},{"$f":"June!E57","v":0},{"$f":"June!F57","v":0},{"$f":"June!G57","v":0},{"$f":"June!H57","v":0},{"$f":"June!I57","v":0},{"$f":"June!J57","v":0}]
[{"$f":"June!A58","v":"00:00:00"},{"$f":"June!B58","v":0},{"$f":"June!C58","v":0},{"$f":"June!D58","v":0},{"$f":"June!E58","v":0},{"$f":"June!F58","v":0},{"$f":"June!G58","v":0},{"$f":"June!H58","v":0},{"$f":"June!I58","v":0},{"$f":"June!J58","v":0}]
[{"$f":"June!A59","v":"00:00:00"},{"$f":"June!B59","v":0},{"$f":"June!C59","v":0},{"$f":"June!D59","v":0},{"$f":"June!E59","v":0},{"$f":"June!F59","v":0},{"$f":"June!G59","v":0},{"$f":"June!H59","v":0},{"$f":"June!I59","v":0},{"$f":"June!J59","v":0}]
[{"$f":"June!A60","v":"00:00:00"},{"$f":"June!B60","v":0},{"$f":"June!C60","v":0},{"$f":"June!D60","v":0},{"$f":"June!E60","v":0},{"$f":"June!F60","v":0},{"$f":"June!G60","v":0},{"$f":"June!H60","v":0},{"$f":"June!I60","v":0},{"$f":"June!J60","v":0}]
[{"$f":"July!A9","v":"00:00:00"},{"$f":"July!B9","v":0},{"$f":"July!C9","v":0},{"$f":"July!D9","v":0},{"$f":"July!E9","v":0},{"$f":"July!F9","v":0},{"$f":"July!G9","v":0},{"$f":"July!H9","v":0},{"$f":"July!I9","v":0},{"$f":"July!J9","v":0}]
[{"$f":"July!A10","v":"00:00:00"},{"$f":"July!B10","v":0},{"$f":"July!C10","v":0},{"$f":"July!D10","v":0},{"$f":"July!E10","v":0},{"$f":"July!F10","v":0},{"$f":"July!G10","v":0},{"$f":"July!H10","v":0},{"$f":"July!I10","v":0},{"$f":"July!J10","v":0}]
[{"$f":"July!A11","v":"00:00:00"},{"$f":"July!B11","v":0},{"$f":"July!C11","v":0},{"$f":"July!D11","v":0},{"$f":"July!E11","v":0},{"$f":"July!F11","v":0},{"$f":"July!G11","v":0},{"$f":"July!H11","v":0},{"$f":"July!I11","v":0},{"$f":"July!J11","v":0}]
[{"$f":"July!A12","v":"00:00:00"},{"$f":"July!B12","v":0},{"$f":"July!C12","v":0},{"$f":"July!D12","v":0},{"$f":"July!E12","v":0},{"$f":"July!F12","v":0},{"$f":"July!G12","v":0},{"$f":"July!H12","v":0},{"$f":"July!I12","v":0},{"$f":"July!J12","v":0}]
[{"$f":"July!A13","v":"00:00:00"},{"$f":"July!B13","v":0},{"$f":"July!C13","v":0},{"$f":"July!D13","v":0},{"$f":"July!E13","v":0},{"$f":"July!F13","v":0},{"$f":"July!G13","v":0},{"$f":"July!H13","v":0},{"$f":"July!I13","v":0},{"$f":"July!J13","v":0}]
[{"$f":"July!A14","v":"00:00:00"},{"$f":"July!B14","v":0},{"$f":"July!C14","v":0},{"$f":"July!D14","v":0},{"$f":"July!E14","v":0},{"$f":"July!F14","v":0},{"$f":"July!G14","v":0},{"$f":"July!H14","v":0},{"$f":"July!I14","v":0},{"$f":"July!J14","v":0}]
[{"$f":"July!A15","v":"00:00:00"},{"$f":"July!B15","v":0},{"$f":"July!C15","v":0},{"$f":"July!D15","v":0},{"$f":"July!E15","v":0},{"$f":"July!F15","v":0},{"$f":"July!G15","v":0},{"$f":"July!H15","v":0},{"$f":"July!I15","v":0},{"$f":"July!J15","v":0}]
[{"$f":"July!A16","v":"00:00:00"},{"$f":"July!B16","v":0},{"$f":"July!C16","v":0},{"$f":"July!D16","v":0},{"$f":"July!E16","v":0},{"$f":"July!F16","v":0},{"$f":"July!G16","v":0},{"$f":"July!H16","v":0},{"$f":"July!I16","v":0},{"$f":"July!J16","v":0}]
[{"$f":"July!A17","v":"00:00:00"},{"$f":"July!B17","v":0},{"$f":"July!C17","v":0},{"$f":"July!D17","v":0},{"$f":"July!E17","v":0},{"$f":"July!F17","v":0},{"$f":"July!G17","v":0},{"$f":"July!H17","v":0},{"$f":"July!I17","v":0},{"$f":"July!J17","v":0}]
[{"$f":"July!A18","v":"00:00:00"},{"$f":"July!B18","v":0},{"$f":"July!C18","v":0},{"$f":"July!D18","v":0},{"$f":"July!E18","v":0},{"$f":"July!F18","v":0},{"$f":"July!G18","v":0},{"$f":"July!H18","v":0},{"$f":"July!I18","v":0},{"$f":"July!J18","v":0}]
[{"$f":"July!A19","v":"00:00:00"},{"$f":"July!B19","v":0},{"$f":"July!C19","v":0},{"$f":"July!D19","v":0},{"$f":"July!E19","v":0},{"$f":"July!F19","v":0},{"$f":"July!G19","v":0},{"$f":"July!H19","v":0},{"$f":"July!I19","v":0},{"$f":"July!J19","v":0}]
[{"$f":"July!A20","v":"00:00:00"},{"$f":"July!B20","v":0},{"$f":"July!C20","v":0},{"$f":"July!D20","v":0},{"$f":"July!E20","v":0},{"$f":"July!F20","v":0},{"$f":"July!G20","v":0},{"$f":"July!H20","v":0},{"$f":"July!I20","v":0},{"$f":"July!J20","v":0}]
[{"$f":"July!A21","v":"00:00:00"},{"$f":"July!B21","v":0},{"$f":"July!C21","v":0},{"$f":"July!D21","v":0},{"$f":"July!E21","v":0},{"$f":"July!F21","v":0},{"$f":"July!G21","v":0},{"$f":"July!H21","v":0},{"$f":"July!I21","v":0},{"$f":"July!J21","v":0}]
[{"$f":"July!A22","v":"00:00:00"},{"$f":"July!B22","v":0},{"$f":"July!C22","v":0},{"$f":"July!D22","v":0},{"$f":"July!E22","v":0},{"$f":"July!F22","v":0},{"$f":"July!G22","v":0},{"$f":"July!H22","v":0},{"$f":"July!I22","v":0},{"$f":"July!J22","v":0}]
[{"$f":"July!A23","v":"00:00:00"},{"$f":"July!B23","v":0},{"$f":"July!C23","v":0},{"$f":"July!D23","v":0},{"$f":"July!E23","v":0},{"$f":"July!F23","v":0},{"$f":"July!G23","v":0},{"$f":"July!H23","v":0},{"$f":"July!I23","v":0},{"$f":"July!J23","v":0}]
[{"$f":"July!A24","v":"00:00:00"},{"$f":"July!B24","v":0},{"$f":"July!C24","v":0},{"$f":"July!D24","v":0},{"$f":"July!E24","v":0},{"$f":"July!F24","v":0},{"$f":"July!G24","v":0},{"$f":"July!H24","v":0},{"$f":"July!I24","v":0},{"$f":"July!J24","v":0}]
[{"$f":"July!A25","v":"00:00:00"},{"$f":"July!B25","v":0},{"$f":"July!C25","v":0},{"$f":"July!D25","v":0},{"$f":"July!E25","v":0},{"$f":"July!F25","v":0},{"$f":"July!G25","v":0},{"$f":"July!H25","v":0},{"$f":"July!I25","v":0},{"$f":"July!J25","v":0}]
[{"$f":"July!A26","v":"00:00:00"},{"$f":"July!B26","v":0},{"$f":"July!C26","v":0},{"$f":"July!D26","v":0},{"$f":"July!E26","v":0},{"$f":"July!F26","v":0},{"$f":"July!G26","v":0},{"$f":"July!H26","v":0},{"$f":"July!I26","v":0},{"$f":"July!J26","v":0}]
[{"$f":"July!A27","v":"00:00:00"},{"$f":"July!B27","v":0},{"$f":"July!C27","v":0},{"$f":"July!D27","v":0},{"$f":"July!E27","v":0},{"$f":"July!F27","v":0},{"$f":"July!G27","v":0},{"$f":"July!H27","v":0},{"$f":"July!I27","v":0},{"$f":"July!J27","v":0}]
[{"$f":"July!A28","v":"00:00:00"},{"$f":"July!B28","v":0},{"$f":"July!C28","v":0},{"$f":"July!D28","v":0},{"$f":"July!E28","v":0},{"$f":"July!F28","v":0},{"$f":"July!G28","v":0},{"$f":"July!H28","v":0},{"$f":"July!I28","v":0},{"$f":"July!J28","v":0}]
[{"$f":"July!A29","v":"00:00:00"},{"$f":"July!B29","v":0},{"$f":"July!C29","v":0},{"$f":"July!D29","v":0},{"$f":"July!E29","v":0},{"$f":"July!F29","v":0},{"$f":"July!G29","v":0},{"$f":"July!H29","v":0},{"$f":"July!I29","v":0},{"$f":"July!J29","v":0}]
[{"$f":"July!A30","v":"00:00:00"},{"$f":"July!B30","v":0},{"$f":"July!C30","v":0},{"$f":"July!D30","v":0},{"$f":"July!E30","v":0},{"$f":"July!F30","v":0},{"$f":"July!G30","v":0},{"$f":"July!H30","v":0},{"$f":"July!I30","v":0},{"$f":"July!J30","v":0}]
[{"$f":"July!A31","v":"00:00:00"},{"$f":"July!B31","v":0},{"$f":"July!C31","v":0},{"$f":"July!D31","v":0},{"$f":"July!E31","v":0},{"$f":"July!F31","v":0},{"$f":"July!G31","v":0},{"$f":"July!H31","v":0},{"$f":"July!I31","v":0},{"$f":"July!J31","v":0}]
[{"$f":"July!A32","v":"00:00:00"},{"$f":"July!B32","v":0},{"$f":"July!C32","v":0},{"$f":"July!D32","v":0},{"$f":"July!E32","v":0},{"$f":"July!F32","v":0},{"$f":"July!G32","v":0},{"$f":"July!H32","v":0},{"$f":"July!I32","v":0},{"$f":"July!J32","v":0}]
[{"$f":"July!A33","v":"00:00:00"},{"$f":"July!B33","v":0},{"$f":"July!C33","v":0},{"$f":"July!D33","v":0},{"$f":"July!E33","v":0},{"$f":"July!F33","v":0},{"$f":"July!G33","v":0},{"$f":"July!H33","v":0},{"$f":"July!I33","v":0},{"$f":"July!J33","v":0}]
[{"$f":"July!A34","v":"00:00:00"},{"$f":"July!B34","v":0},{"$f":"July!C34","v":0},{"$f":"July!D34","v":0},{"$f":"July!E34","v":0},{"$f":"July!F34","v":0},{"$f":"July!G34","v":0},{"$f":"July!H34","v":0},{"$f":"July!I34","v":0},{"$f":"July!J34","v":0}]
[{"$f":"July!A35","v":"00:00:00"},{"$f":"July!B35","v":0},{"$f":"July!C35","v":0},{"$f":"July!D35","v":0},{"$f":"July!E35","v":0},{"$f":"July!F35","v":0},{"$f":"July!G35","v":0},{"$f":"July!H35","v":0},{"$f":"July!I35","v":0},{"$f":"July!J35","v":0}]
[{"$f":"July!A36","v":"00:00:00"},{"$f":"July!B36","v":0},{"$f":"July!C36","v":0},{"$f":"July!D36","v":0},{"$f":"July!E36","v":0},{"$f":"July!F36","v":0},{"$f":"July!G36","v":0},{"$f":"July!H36","v":0},{"$f":"July!I36","v":0},{"$f":"July!J36","v":0}]
[{"$f":"July!A37","v":"00:00:00"},{"$f":"July!B37","v":0},{"$f":"July!C37","v":0},{"$f":"July!D37","v":0},{"$f":"July!E37","v":0},{"$f":"July!F37","v":0},{"$f":"July!G37","v":0},{"$f":"July!H37","v":0},{"$f":"July!I37","v":0},{"$f":"July!J37","v":0}]
[{"$f":"July!A38","v":"00:00:00"},{"$f":"July!B38","v":0},{"$f":"July!C38","v":0},{"$f":"July!D38","v":0},{"$f":"July!E38","v":0},{"$f":"July!F38","v":0},{"$f":"July!G38","v":0},{"$f":"July!H38","v":0},{"$f":"July!I38","v":0},{"$f":"July!J38","v":0}]
[{"$f":"July!A39","v":"00:00:00"},{"$f":"July!B39","v":0},{"$f":"July!C39","v":0},{"$f":"July!D39","v":0},{"$f":"July!E39","v":0},{"$f":"July!F39","v":0},{"$f":"July!G39","v":0},{"$f":"July!H39","v":0},{"$f":"July!I39","v":0},{"$f":"July!J39","v":0}]
[{"$f":"July!A40","v":"00:00:00"},{"$f":"July!B40","v":0},{"$f":"July!C40","v":0},{"$f":"July!D40","v":0},{"$f":"July!E40","v":0},{"$f":"July!F40","v":0},{"$f":"July!G40","v":0},{"$f":"July!H40","v":0},{"$f":"July!I40","v":0},{"$f":"July!J40","v":0}]
[{"$f":"July!A41","v":"00:00:00"},{"$f":"July!B41","v":0},{"$f":"July!C41","v":0},{"$f":"July!D41","v":0},{"$f":"July!E41","v":0},{"$f":"July!F41","v":0},{"$f":"July!G41","v":0},{"$f":"July!H41","v":0},{"$f":"July!I41","v":0},{"$f":"July!J41","v":0}]
[{"$f":"July!A42","v":"00:00:00"},{"$f":"July!B42","v":0},{"$f":"July!C42","v":0},{"$f":"July!D42","v":0},{"$f":"July!E42","v":0},{"$f":"July!F42","v":0},{"$f":"July!G42","v":0},{"$f":"July!H42","v":0},{"$f":"July!I42","v":0},{"$f":"July!J42","v":0}]
[{"$f":"July!A43","v":"00:00:00"},{"$f":"July!B43","v":0},{"$f":"July!C43","v":0},{"$f":"July!D43","v":0},{"$f":"July!E43","v":0},{"$f":"July!F43","v":0},{"$f":"July!G43","v":0},{"$f":"July!H43","v":0},{"$f":"July!I43","v":0},{"$f":"July!J43","v":0}]
[{"$f":"July!A44","v":"00:00:00"},{"$f":"July!B44","v":0},{"$f":"July!C44","v":0},{"$f":"July!D44","v":0},{"$f":"July!E44","v":0},{"$f":"July!F44","v":0},{"$f":"July!G44","v":0},{"$f":"July!H44","v":0},{"$f":"July!I44","v":0},{"$f":"July!J44","v":0}]
[{"$f":"July!A45","v":"00:00:00"},{"$f":"July!B45","v":0},{"$f":"July!C45","v":0},{"$f":"July!D45","v":0},{"$f":"July!E45","v":0},{"$f":"July!F45","v":0},{"$f":"July!G45","v":0},{"$f":"July!H45","v":0},{"$f":"July!I45","v":0},{"$f":"July!J45","v":0}]
[{"$f":"July!A46","v":"00:00:00"},{"$f":"July!B46","v":0},{"$f":"July!C46","v":0},{"$f":"July!D46","v":0},{"$f":"July!E46","v":0},{"$f":"July!F46","v":0},{"$f":"July!G46","v":0},{"$f":"July!H46","v":0},{"$f":"July!I46","v":0},{"$f":"July!J46","v":0}]
[{"$f":"July!A47","v":"00:00:00"},{"$f":"July!B47","v":0},{"$f":"July!C47","v":0},{"$f":"July!D47","v":0},{"$f":"July!E47","v":0},{"$f":"July!F47","v":0},{"$f":"July!G47","v":0},{"$f":"July!H47","v":0},{"$f":"July!I47","v":0},{"$f":"July!J47","v":0}]
[{"$f":"July!A48","v":"00:00:00"},{"$f":"July!B48","v":0},{"$f":"July!C48","v":0},{"$f":"July!D48","v":0},{"$f":"July!E48","v":0},{"$f":"July!F48","v":0},{"$f":"July!G48","v":0},{"$f":"July!H48","v":0},{"$f":"July!I48","v":0},{"$f":"July!J48","v":0}]
[{"$f":"July!A49","v":"00:00:00"},{"$f":"July!B49","v":0},{"$f":"July!C49","v":0},{"$f":"July!D49","v":0},{"$f":"July!E49","v":0},{"$f":"July!F49","v":0},{"$f":"July!G49","v":0},{"$f":"July!H49","v":0},{"$f":"July!I49","v":0},{"$f":"July!J49","v":0}]
[{"$f":"July!A50","v":"00:00:00"},{"$f":"July!B50","v":0},{"$f":"July!C50","v":0},{"$f":"July!D50","v":0},{"$f":"July!E50","v":0},{"$f":"July!F50","v":0},{"$f":"July!G50","v":0},{"$f":"July!H50","v":0},{"$f":"July!I50","v":0},{"$f":"July!J50","v":0}]
[{"$f":"July!A51","v":"00:00:00"},{"$f":"July!B51","v":0},{"$f":"July!C51","v":0},{"$f":"July!D51","v":0},{"$f":"July!E51","v":0},{"$f":"July!F51","v":0},{"$f":"July!G51","v":0},{"$f":"July!H51","v":0},{"$f":"July!I51","v":0},{"$f":"July!J51","v":0}]
[{"$f":"July!A52","v":"00:00:00"},{"$f":"July!B52","v":0},{"$f":"July!C52","v":0},{"$f":"July!D52","v":0},{"$f":"July!E52","v":0},{"$f":"July!F52","v":0},{"$f":"July!G52","v":0},{"$f":"July!H52","v":0},{"$f":"July!I52","v":0},{"$f":"July!J52","v":0}]
[{"$f":"July!A53","v":"00:00:00"},{"$f":"July!B53","v":0},{"$f":"July!C53","v":0},{"$f":"July!D53","v":0},{"$f":"July!E53","v":0},{"$f":"July!F53","v":0},{"$f":"July!G53","v":0},{"$f":"July!H53","v":0},{"$f":"July!I53","v":0},{"$f":"July!J53","v":0}]
[{"$f":"July!A54","v":"00:00:00"},{"$f":"July!B54","v":0},{"$f":"July!C54","v":0},{"$f":"July!D54","v":0},{"$f":"July!E54","v":0},{"$f":"July!F54","v":0},{"$f":"July!G54","v":0},{"$f":"July!H54","v":0},{"$f":"July!I54","v":0},{"$f":"July!J54","v":0}]
[{"$f":"July!A55","v":"00:00:00"},{"$f":"July!B55","v":0},{"$f":"July!C55","v":0},{"$f":"July!D55","v":0},{"$f":"July!E55","v":0},{"$f":"July!F55","v":0},{"$f":"July!G55","v":0},{"$f":"July!H55","v":0},{"$f":"July!I55","v":0},{"$f":"July!J55","v":0}]
[{"$f":"July!A56","v":"00:00:00"},{"$f":"July!B56","v":0},{"$f":"July!C56","v":0},{"$f":"July!D56","v":0},{"$f":"July!E56","v":0},{"$f":"July!F56","v":0},{"$f":"July!G56","v":0},{"$f":"July!H56","v":0},{"$f":"July!I56","v":0},{"$f":"July!J56","v":0}]
[{"$f":"July!A57","v":"00:00:00"},{"$f":"July!B57","v":0},{"$f":"July!C57","v":0},{"$f":"July!D57","v":0},{"$f":"July!E57","v":0},{"$f":"July!F57","v":0},{"$f":"July!G57","v":0},{"$f":"July!H57","v":0},{"$f":"July!I57","v":0},{"$f":"July!J57","v":0}]
[{"$f":"July!A58","v":"00:00:00"},{"$f":"July!B58","v":0},{"$f":"July!C58","v":0},{"$f":"July!D58","v":0},{"$f":"July!E58","v":0},{"$f":"July!F58","v":0},{"$f":"July!G58","v":0},{"$f":"July!H58","v":0},{"$f":"July!I58","v":0},{"$f":"July!J58","v":0}]
[{"$f":"July!A59","v":"00:00:00"},{"$f":"July!B59","v":0},{"$f":"July!C59","v":0},{"$f":"July!D59","v":0},{"$f":"July!E59","v":0},{"$f":"July!F59","v":0},{"$f":"July!G59","v":0},{"$f":"July!H59","v":0},{"$f":"July!I59","v":0},{"$f":"July!J59","v":0}]
[{"$f":"July!A60","v":"00:00:00"},{"$f":"July!B60","v":0},{"$f":"July!C60","v":0},{"$f":"July!D60","v":0},{"$f":"July!E60","v":0},{"$f":"July!F60","v":0},{"$f":"July!G60","v":0},{"$f":"July!H60","v":0},{"$f":"July!I60","v":0},{"$f":"July!J60","v":0}]
[{"$f":"August!A9","v":"00:00:00"},{"$f":"August!B9","v":0},{"$f":"August!C9","v":0},{"$f":"August!D9","v":0},{"$f":"August!E9","v":0},{"$f":"August!F9","v":0},{"$f":"August!G9","v":0},{"$f":"August!H9","v":0},{"$f":"August!I9","v":0},{"$f":"August!J9","v":0}]
[{"$f":"August!A10","v":"00:00:00"},{"$f":"August!B10","v":0},{"$f":"August!C10","v":0},{"$f":"August!D10","v":0},{"$f":"August!E10","v":0},{"$f":"August!F10","v":0},{"$f":"August!G10","v":0},{"$f":"August!H10","v":0},{"$f":"August!I10","v":0},{"$f":"August!J10","v":0}]
[{"$f":"August!A11","v":"00:00:00"},{"$f":"August!B11","v":0},{"$f":"August!C11","v":0},{"$f":"August!D11","v":0},{"$f":"August!E11","v":0},{"$f":"August!F11","v":0},{"$f":"August!G11","v":0},{"$f":"August!H11","v":0},{"$f":"August!I11","v":0},{"$f":"August!J11","v":0}]
[{"$f":"August!A12","v":"00:00:00"},{"$f":"August!B12","v":0},{"$f":"August!C12","v":0},{"$f":"August!D12","v":0},{"$f":"August!E12","v":0},{"$f":"August!F12","v":0},{"$f":"August!G12","v":0},{"$f":"August!H12","v":0},{"$f":"August!I12","v":0},{"$f":"August!J12","v":0}]
[{"$f":"August!A13","v":"00:00:00"},{"$f":"August!B13","v":0},{"$f":"August!C13","v":0},{"$f":"August!D13","v":0},{"$f":"August!E13","v":0},{"$f":"August!F13","v":0},{"$f":"August!G13","v":0},{"$f":"August!H13","v":0},{"$f":"August!I13","v":0},{"$f":"August!J13","v":0}]
[{"$f":"August!A14","v":"00:00:00"},{"$f":"August!B14","v":0},{"$f":"August!C14","v":0},{"$f":"August!D14","v":0},{"$f":"August!E14","v":0},{"$f":"August!F14","v":0},{"$f":"August!G14","v":0},{"$f":"August!H14","v":0},{"$f":"August!I14","v":0},{"$f":"August!J14","v":0}]
[{"$f":"August!A15","v":"00:00:00"},{"$f":"August!B15","v":0},{"$f":"August!C15","v":0},{"$f":"August!D15","v":0},{"$f":"August!E15","v":0},{"$f":"August!F15","v":0},{"$f":"August!G15","v":0},{"$f":"August!H15","v":0},{"$f":"August!I15","v":0},{"$f":"August!J15","v":0}]
[{"$f":"August!A16","v":"00:00:00"},{"$f":"August!B16","v":0},{"$f":"August!C16","v":0},{"$f":"August!D16","v":0},{"$f":"August!E16","v":0},{"$f":"August!F16","v":0},{"$f":"August!G16","v":0},{"$f":"August!H16","v":0},{"$f":"August!I16","v":0},{"$f":"August!J16","v":0}]
[{"$f":"August!A17","v":"00:00:00"},{"$f":"August!B17","v":0},{"$f":"August!C17","v":0},{"$f":"August!D17","v":0},{"$f":"August!E17","v":0},{"$f":"August!F17","v":0},{"$f":"August!G17","v":0},{"$f":"August!H17","v":0},{"$f":"August!I17","v":0},{"$f":"August!J17","v":0}]
[{"$f":"August!A18","v":"00:00:00"},{"$f":"August!B18","v":0},{"$f":"August!C18","v":0},{"$f":"August!D18","v":0},{"$f":"August!E18","v":0},{"$f":"August!F18","v":0},{"$f":"August!G18","v":0},{"$f":"August!H18","v":0},{"$f":"August!I18","v":0},{"$f":"August!J18","v":0}]
[{"$f":"August!A19","v":"00:00:00"},{"$f":"August!B19","v":0},{"$f":"August!C19","v":0},{"$f":"August!D19","v":0},{"$f":"August!E19","v":0},{"$f":"August!F19","v":0},{"$f":"August!G19","v":0},{"$f":"August!H19","v":0},{"$f":"August!I19","v":0},{"$f":"August!J19","v":0}]
[{"$f":"August!A20","v":"00:00:00"},{"$f":"August!B20","v":0},{"$f":"August!C20","v":0},{"$f":"August!D20","v":0},{"$f":"August!E20","v":0},{"$f":"August!F20","v":0},{"$f":"August!G20","v":0},{"$f":"August!H20","v":0},{"$f":"August!I20","v":0},{"$f":"August!J20","v":0}]
[{"$f":"August!A21","v":"00:00:00"},{"$f":"August!B21","v":0},{"$f":"August!C21","v":0},{"$f":"August!D21","v":0},{"$f":"August!E21","v":0},{"$f":"August!F21","v":0},{"$f":"August!G21","v":0},{"$f":"August!H21","v":0},{"$f":"August!I21","v":0},{"$f":"August!J21","v":0}]
[{"$f":"August!A22","v":"00:00:00"},{"$f":"August!B22","v":0},{"$f":"August!C22","v":0},{"$f":"August!D22","v":0},{"$f":"August!E22","v":0},{"$f":"August!F22","v":0},{"$f":"August!G22","v":0},{"$f":"August!H22","v":0},{"$f":"August!I22","v":0},{"$f":"August!J22","v":0}]
[{"$f":"August!A23","v":"00:00:00"},{"$f":"August!B23","v":0},{"$f":"August!C23","v":0},{"$f":"August!D23","v":0},{"$f":"August!E23","v":0},{"$f":"August!F23","v":0},{"$f":"August!G23","v":0},{"$f":"August!H23","v":0},{"$f":"August!I23","v":0},{"$f":"August!J23","v":0}]
[{"$f":"August!A24","v":"00:00:00"},{"$f":"August!B24","v":0},{"$f":"August!C24","v":0},{"$f":"August!D24","v":0},{"$f":"August!E24","v":0},{"$f":"August!F24","v":0},{"$f":"August!G24","v":0},{"$f":"August!H24","v":0},{"$f":"August!I24","v":0},{"$f":"August!J24","v":0}]
[{"$f":"August!A25","v":"00:00:00"},{"$f":"August!B25","v":0},{"$f":"August!C25","v":0},{"$f":"August!D25","v":0},{"$f":"August!E25","v":0},{"$f":"August!F25","v":0},{"$f":"August!G25","v":0},{"$f":"August!H25","v":0},{"$f":"August!I25","v":0},{"$f":"August!J25","v":0}]
[{"$f":"August!A26","v":"00:00:00"},{"$f":"August!B26","v":0},{"$f":"August!C26","v":0},{"$f":"August!D26","v":0},{"$f":"August!E26","v":0},{"$f":"August!F26","v":0},{"$f":"August!G26","v":0},{"$f":"August!H26","v":0},{"$f":"August!I26","v":0},{"$f":"August!J26","v":0}]
[{"$f":"August!A27","v":"00:00:00"},{"$f":"August!B27","v":0},{"$f":"August!C27","v":0},{"$f":"August!D27","v":0},{"$f":"August!E27","v":0},{"$f":"August!F27","v":0},{"$f":"August!G27","v":0},{"$f":"August!H27","v":0},{"$f":"August!I27","v":0},{"$f":"August!J27","v":0}]
[{"$f":"August!A28","v":"00:00:00"},{"$f":"August!B28","v":0},{"$f":"August!C28","v":0},{"$f":"August!D28","v":0},{"$f":"August!E28","v":0},{"$f":"August!F28","v":0},{"$f":"August!G28","v":0},{"$f":"August!H28","v":0},{"$f":"August!I28","v":0},{"$f":"August!J28","v":0}]
[{"$f":"August!A29","v":"00:00:00"},{"$f":"August!B29","v":0},{"$f":"August!C29","v":0},{"$f":"August!D29","v":0},{"$f":"August!E29","v":0},{"$f":"August!F29","v":0},{"$f":"August!G29","v":0},{"$f":"August!H29","v":0},{"$f":"August!I29","v":0},{"$f":"August!J29","v":0}]
[{"$f":"August!A30","v":"00:00:00"},{"$f":"August!B30","v":0},{"$f":"August!C30","v":0},{"$f":"August!D30","v":0},{"$f":"August!E30","v":0},{"$f":"August!F30","v":0},{"$f":"August!G30","v":0},{"$f":"August!H30","v":0},{"$f":"August!I30","v":0},{"$f":"August!J30","v":0}]
[{"$f":"August!A31","v":"00:00:00"},{"$f":"August!B31","v":0},{"$f":"August!C31","v":0},{"$f":"August!D31","v":0},{"$f":"August!E31","v":0},{"$f":"August!F31","v":0},{"$f":"August!G31","v":0},{"$f":"August!H31","v":0},{"$f":"August!I31","v":0},{"$f":"August!J31","v":0}]
[{"$f":"August!A32","v":"00:00:00"},{"$f":"August!B32","v":0},{"$f":"August!C32","v":0},{"$f":"August!D32","v":0},{"$f":"August!E32","v":0},{"$f":"August!F32","v":0},{"$f":"August!G32","v":0},{"$f":"August!H32","v":0},{"$f":"August!I32","v":0},{"$f":"August!J32","v":0}]
[{"$f":"August!A33","v":"00:00:00"},{"$f":"August!B33","v":0},{"$f":"August!C33","v":0},{"$f":"August!D33","v":0},{"$f":"August!E33","v":0},{"$f":"August!F33","v":0},{"$f":"August!G33","v":0},{"$f":"August!H33","v":0},{"$f":"August!I33","v":0},{"$f":"August!J33","v":0}]
[{"$f":"August!A34","v":"00:00:00"},{"$f":"August!B34","v":0},{"$f":"August!C34","v":0},{"$f":"August!D34","v":0},{"$f":"August!E34","v":0},{"$f":"August!F34","v":0},{"$f":"August!G34","v":0},{"$f":"August!H34","v":0},{"$f":"August!I34","v":0},{"$f":"August!J34","v":0}]
[{"$f":"August!A35","v":"00:00:00"},{"$f":"August!B35","v":0},{"$f":"August!C35","v":0},{"$f":"August!D35","v":0},{"$f":"August!E35","v":0},{"$f":"August!F35","v":0},{"$f":"August!G35","v":0},{"$f":"August!H35","v":0},{"$f":"August!I35","v":0},{"$f":"August!J35","v":0}]
[{"$f":"August!A36","v":"00:00:00"},{"$f":"August!B36","v":0},{"$f":"August!C36","v":0},{"$f":"August!D36","v":0},{"$f":"August!E36","v":0},{"$f":"August!F36","v":0},{"$f":"August!G36","v":0},{"$f":"August!H36","v":0},{"$f":"August!I36","v":0},{"$f":"August!J36","v":0}]
[{"$f":"August!A37","v":"00:00:00"},{"$f":"August!B37","v":0},{"$f":"August!C37","v":0},{"$f":"August!D37","v":0},{"$f":"August!E37","v":0},{"$f":"August!F37","v":0},{"$f":"August!G37","v":0},{"$f":"August!H37","v":0},{"$f":"August!I37","v":0},{"$f":"August!J37","v":0}]
[{"$f":"August!A38","v":"00:00:00"},{"$f":"August!B38","v":0},{"$f":"August!C38","v":0},{"$f":"August!D38","v":0},{"$f":"August!E38","v":0},{"$f":"August!F38","v":0},{"$f":"August!G38","v":0},{"$f":"August!H38","v":0},{"$f":"August!I38","v":0},{"$f":"August!J38","v":0}]
[{"$f":"August!A39","v":"00:00:00"},{"$f":"August!B39","v":0},{"$f":"August!C39","v":0},{"$f":"August!D39","v":0},{"$f":"August!E39","v":0},{"$f":"August!F39","v":0},{"$f":"August!G39","v":0},{"$f":"August!H39","v":0},{"$f":"August!I39","v":0},{"$f":"August!J39","v":0}]
[{"$f":"August!A40","v":"00:00:00"},{"$f":"August!B40","v":0},{"$f":"August!C40","v":0},{"$f":"August!D40","v":0},{"$f":"August!E40","v":0},{"$f":"August!F40","v":0},{"$f":"August!G40","v":0},{"$f":"August!H40","v":0},{"$f":"August!I40","v":0},{"$f":"August!J40","v":0}]
[{"$f":"August!A41","v":"00:00:00"},{"$f":"August!B41","v":0},{"$f":"August!C41","v":0},{"$f":"August!D41","v":0},{"$f":"August!E41","v":0},{"$f":"August!F41","v":0},{"$f":"August!G41","v":0},{"$f":"August!H41","v":0},{"$f":"August!I41","v":0},{"$f":"August!J41","v":0}]
[{"$f":"August!A42","v":"00:00:00"},{"$f":"August!B42","v":0},{"$f":"August!C42","v":0},{"$f":"August!D42","v":0},{"$f":"August!E42","v":0},{"$f":"August!F42","v":0},{"$f":"August!G42","v":0},{"$f":"August!H42","v":0},{"$f":"August!I42","v":0},{"$f":"August!J42","v":0}]
[{"$f":"August!A43","v":"00:00:00"},{"$f":"August!B43","v":0},{"$f":"August!C43","v":0},{"$f":"August!D43","v":0},{"$f":"August!E43","v":0},{"$f":"August!F43","v":0},{"$f":"August!G43","v":0},{"$f":"August!H43","v":0},{"$f":"August!I43","v":0},{"$f":"August!J43","v":0}]
[{"$f":"August!A44","v":"00:00:00"},{"$f":"August!B44","v":0},{"$f":"August!C44","v":0},{"$f":"August!D44","v":0},{"$f":"August!E44","v":0},{"$f":"August!F44","v":0},{"$f":"August!G44","v":0},{"$f":"August!H44","v":0},{"$f":"August!I44","v":0},{"$f":"August!J44","v":0}]
[{"$f":"August!A45","v":"00:00:00"},{"$f":"August!B45","v":0},{"$f":"August!C45","v":0},{"$f":"August!D45","v":0},{"$f":"August!E45","v":0},{"$f":"August!F45","v":0},{"$f":"August!G45","v":0},{"$f":"August!H45","v":0},{"$f":"August!I45","v":0},{"$f":"August!J45","v":0}]
[{"$f":"August!A46","v":"00:00:00"},{"$f":"August!B46","v":0},{"$f":"August!C46","v":0},{"$f":"August!D46","v":0},{"$f":"August!E46","v":0},{"$f":"August!F46","v":0},{"$f":"August!G46","v":0},{"$f":"August!H46","v":0},{"$f":"August!I46","v":0},{"$f":"August!J46","v":0}]
[{"$f":"August!A47","v":"00:00:00"},{"$f":"August!B47","v":0},{"$f":"August!C47","v":0},{"$f":"August!D47","v":0},{"$f":"August!E47","v":0},{"$f":"August!F47","v":0},{"$f":"August!G47","v":0},{"$f":"August!H47","v":0},{"$f":"August!I47","v":0},{"$f":"August!J47","v":0}]
[{"$f":"August!A48","v":"00:00:00"},{"$f":"August!B48","v":0},{"$f":"August!C48","v":0},{"$f":"August!D48","v":0},{"$f":"August!E48","v":0},{"$f":"August!F48","v":0},{"$f":"August!G48","v":0},{"$f":"August!H48","v":0},{"$f":"August!I48","v":0},{"$f":"August!J48","v":0}]
[{"$f":"August!A49","v":"00:00:00"},{"$f":"August!B49","v":0},{"$f":"August!C49","v":0},{"$f":"August!D49","v":0},{"$f":"August!E49","v":0},{"$f":"August!F49","v":0},{"$f":"August!G49","v":0},{"$f":"August!H49","v":0},{"$f":"August!I49","v":0},{"$f":"August!J49","v":0}]
[{"$f":"August!A50","v":"00:00:00"},{"$f":"August!B50","v":0},{"$f":"August!C50","v":0},{"$f":"August!D50","v":0},{"$f":"August!E50","v":0},{"$f":"August!F50","v":0},{"$f":"August!G50","v":0},{"$f":"August!H50","v":0},{"$f":"August!I50","v":0},{"$f":"August!J50","v":0}]
[{"$f":"August!A51","v":"00:00:00"},{"$f":"August!B51","v":0},{"$f":"August!C51","v":0},{"$f":"August!D51","v":0},{"$f":"August!E51","v":0},{"$f":"August!F51","v":0},{"$f":"August!G51","v":0},{"$f":"August!H51","v":0},{"$f":"August!I51","v":0},{"$f":"August!J51","v":0}]
[{"$f":"August!A52","v":"00:00:00"},{"$f":"August!B52","v":0},{"$f":"August!C52","v":0},{"$f":"August!D52","v":0},{"$f":"August!E52","v":0},{"$f":"August!F52","v":0},{"$f":"August!G52","v":0},{"$f":"August!H52","v":0},{"$f":"August!I52","v":0},{"$f":"August!J52","v":0}]
[{"$f":"August!A53","v":"00:00:00"},{"$f":"August!B53","v":0},{"$f":"August!C53","v":0},{"$f":"August!D53","v":0},{"$f":"August!E53","v":0},{"$f":"August!F53","v":0},{"$f":"August!G53","v":0},{"$f":"August!H53","v":0},{"$f":"August!I53","v":0},{"$f":"August!J53","v":0}]
[{"$f":"August!A54","v":"00:00:00"},{"$f":"August!B54","v":0},{"$f":"August!C54","v":0},{"$f":"August!D54","v":0},{"$f":"August!E54","v":0},{"$f":"August!F54","v":0},{"$f":"August!G54","v":0},{"$f":"August!H54","v":0},{"$f":"August!I54","v":0},{"$f":"August!J54","v":0}]
[{"$f":"August!A55","v":"00:00:00"},{"$f":"August!B55","v":0},{"$f":"August!C55","v":0},{"$f":"August!D55","v":0},{"$f":"August!E55","v":0},{"$f":"August!F55","v":0},{"$f":"August!G55","v":0},{"$f":"August!H55","v":0},{"$f":"August!I55","v":0},{"$f":"August!J55","v":0}]
[{"$f":"August!A56","v":"00:00:00"},{"$f":"August!B56","v":0},{"$f":"August!C56","v":0},{"$f":"August!D56","v":0},{"$f":"August!E56","v":0},{"$f":"August!F56","v":0},{"$f":"August!G56","v":0},{"$f":"August!H56","v":0},{"$f":"August!I56","v":0},{"$f":"August!J56","v":0}]
[{"$f":"August!A57","v":"00:00:00"},{"$f":"August!B57","v":0},{"$f":"August!C57","v":0},{"$f":"August!D57","v":0},{"$f":"August!E57","v":0},{"$f":"August!F57","v":0},{"$f":"August!G57","v":0},{"$f":"August!H57","v":0},{"$f":"August!I57","v":0},{"$f":"August!J57","v":0}]
[{"$f":"August!A58","v":"00:00:00"},{"$f":"August!B58","v":0},{"$f":"August!C58","v":0},{"$f":"August!D58","v":0},{"$f":"August!E58","v":0},{"$f":"August!F58","v":0},{"$f":"August!G58","v":0},{"$f":"August!H58","v":0},{"$f":"August!I58","v":0},{"$f":"August!J58","v":0}]
[{"$f":"August!A59","v":"00:00:00"},{"$f":"August!B59","v":0},{"$f":"August!C59","v":0},{"$f":"August!D59","v":0},{"$f":"August!E59","v":0},{"$f":"August!F59","v":0},{"$f":"August!G59","v":0},{"$f":"August!H59","v":0},{"$f":"August!I59","v":0},{"$f":"August!J59","v":0}]
[{"$f":"August!A60","v":"00:00:00"},{"$f":"August!B60","v":0},{"$f":"August!C60","v":0},{"$f":"August!D60","v":0},{"$f":"August!E60","v":0},{"$f":"August!F60","v":0},{"$f":"August!G60","v":0},{"$f":"August!H60","v":0},{"$f":"August!I60","v":0},{"$f":"August!J60","v":0}]
[{"$f":"September!A9","v":"00:00:00"},{"$f":"September!B9","v":0},{"$f":"September!C9","v":0},{"$f":"September!D9","v":0},{"$f":"September!E9","v":0},{"$f":"September!F9","v":0},{"$f":"September!G9","v":0},{"$f":"September!H9","v":0},{"$f":"September!I9","v":0},{"$f":"September!J9","v":0}]
[{"$f":"September!A10","v":"00:00:00"},{"$f":"September!B10","v":0},{"$f":"September!C10","v":0},{"$f":"September!D10","v":0},{"$f":"September!E10","v":0},{"$f":"September!F10","v":0},{"$f":"September!G10","v":0},{"$f":"September!H10","v":0},{"$f":"September!I10","v":0},{"$f":"September!J10","v":0}]
[{"$f":"September!A11","v":"00:00:00"},{"$f":"September!B11","v":0},{"$f":"September!C11","v":0},{"$f":"September!D11","v":0},{"$f":"September!E11","v":0},{"$f":"September!F11","v":0},{"$f":"September!G11","v":0},{"$f":"September!H11","v":0},{"$f":"September!I11","v":0},{"$f":"September!J11","v":0}]
[{"$f":"September!A12","v":"00:00:00"},{"$f":"September!B12","v":0},{"$f":"September!C12","v":0},{"$f":"September!D12","v":0},{"$f":"September!E12","v":0},{"$f":"September!F12","v":0},{"$f":"September!G12","v":0},{"$f":"September!H12","v":0},{"$f":"September!I12","v":0},{"$f":"September!J12","v":0}]
[{"$f":"September!A13","v":"00:00:00"},{"$f":"September!B13","v":0},{"$f":"September!C13","v":0},{"$f":"September!D13","v":0},{"$f":"September!E13","v":0},{"$f":"September!F13","v":0},{"$f":"September!G13","v":0},{"$f":"September!H13","v":0},{"$f":"September!I13","v":0},{"$f":"September!J13","v":0}]
[{"$f":"September!A14","v":"00:00:00"},{"$f":"September!B14","v":0},{"$f":"September!C14","v":0},{"$f":"September!D14","v":0},{"$f":"September!E14","v":0},{"$f":"September!F14","v":0},{"$f":"September!G14","v":0},{"$f":"September!H14","v":0},{"$f":"September!I14","v":0},{"$f":"September!J14","v":0}]
[{"$f":"September!A15","v":"00:00:00"},{"$f":"September!B15","v":0},{"$f":"September!C15","v":0},{"$f":"September!D15","v":0},{"$f":"September!E15","v":0},{"$f":"September!F15","v":0},{"$f":"September!G15","v":0},{"$f":"September!H15","v":0},{"$f":"September!I15","v":0},{"$f":"September!J15","v":0}]
[{"$f":"September!A16","v":"00:00:00"},{"$f":"September!B16","v":0},{"$f":"September!C16","v":0},{"$f":"September!D16","v":0},{"$f":"September!E16","v":0},{"$f":"September!F16","v":0},{"$f":"September!G16","v":0},{"$f":"September!H16","v":0},{"$f":"September!I16","v":0},{"$f":"September!J16","v":0}]
[{"$f":"September!A17","v":"00:00:00"},{"$f":"September!B17","v":0},{"$f":"September!C17","v":0},{"$f":"September!D17","v":0},{"$f":"September!E17","v":0},{"$f":"September!F17","v":0},{"$f":"September!G17","v":0},{"$f":"September!H17","v":0},{"$f":"September!I17","v":0},{"$f":"September!J17","v":0}]
[{"$f":"September!A18","v":"00:00:00"},{"$f":"September!B18","v":0},{"$f":"September!C18","v":0},{"$f":"September!D18","v":0},{"$f":"September!E18","v":0},{"$f":"September!F18","v":0},{"$f":"September!G18","v":0},{"$f":"September!H18","v":0},{"$f":"September!I18","v":0},{"$f":"September!J18","v":0}]
[{"$f":"September!A19","v":"00:00:00"},{"$f":"September!B19","v":0},{"$f":"September!C19","v":0},{"$f":"September!D19","v":0},{"$f":"September!E19","v":0},{"$f":"September!F19","v":0},{"$f":"September!G19","v":0},{"$f":"September!H19","v":0},{"$f":"September!I19","v":0},{"$f":"September!J19","v":0}]
[{"$f":"September!A20","v":"00:00:00"},{"$f":"September!B20","v":0},{"$f":"September!C20","v":0},{"$f":"September!D20","v":0},{"$f":"September!E20","v":0},{"$f":"September!F20","v":0},{"$f":"September!G20","v":0},{"$f":"September!H20","v":0},{"$f":"September!I20","v":0},{"$f":"September!J20","v":0}]
[{"$f":"September!A21","v":"00:00:00"},{"$f":"September!B21","v":0},{"$f":"September!C21","v":0},{"$f":"September!D21","v":0},{"$f":"September!E21","v":0},{"$f":"September!F21","v":0},{"$f":"September!G21","v":0},{"$f":"September!H21","v":0},{"$f":"September!I21","v":0},{"$f":"September!J21","v":0}]
[{"$f":"September!A22","v":"00:00:00"},{"$f":"September!B22","v":0},{"$f":"September!C22","v":0},{"$f":"September!D22","v":0},{"$f":"September!E22","v":0},{"$f":"September!F22","v":0},{"$f":"September!G22","v":0},{"$f":"September!H22","v":0},{"$f":"September!I22","v":0},{"$f":"September!J22","v":0}]
[{"$f":"September!A23","v":"00:00:00"},{"$f":"September!B23","v":0},{"$f":"September!C23","v":0},{"$f":"September!D23","v":0},{"$f":"September!E23","v":0},{"$f":"September!F23","v":0},{"$f":"September!G23","v":0},{"$f":"September!H23","v":0},{"$f":"September!I23","v":0},{"$f":"September!J23","v":0}]
[{"$f":"September!A24","v":"00:00:00"},{"$f":"September!B24","v":0},{"$f":"September!C24","v":0},{"$f":"September!D24","v":0},{"$f":"September!E24","v":0},{"$f":"September!F24","v":0},{"$f":"September!G24","v":0},{"$f":"September!H24","v":0},{"$f":"September!I24","v":0},{"$f":"September!J24","v":0}]
[{"$f":"September!A25","v":"00:00:00"},{"$f":"September!B25","v":0},{"$f":"September!C25","v":0},{"$f":"September!D25","v":0},{"$f":"September!E25","v":0},{"$f":"September!F25","v":0},{"$f":"September!G25","v":0},{"$f":"September!H25","v":0},{"$f":"September!I25","v":0},{"$f":"September!J25","v":0}]
[{"$f":"September!A26","v":"00:00:00"},{"$f":"September!B26","v":0},{"$f":"September!C26","v":0},{"$f":"September!D26","v":0},{"$f":"September!E26","v":0},{"$f":"September!F26","v":0},{"$f":"September!G26","v":0},{"$f":"September!H26","v":0},{"$f":"September!I26","v":0},{"$f":"September!J26","v":0}]
[{"$f":"September!A27","v":"00:00:00"},{"$f":"September!B27","v":0},{"$f":"September!C27","v":0},{"$f":"September!D27","v":0},{"$f":"September!E27","v":0},{"$f":"September!F27","v":0},{"$f":"September!G27","v":0},{"$f":"September!H27","v":0},{"$f":"September!I27","v":0},{"$f":"September!J27","v":0}]
[{"$f":"September!A28","v":"00:00:00"},{"$f":"September!B28","v":0},{"$f":"September!C28","v":0},{"$f":"September!D28","v":0},{"$f":"September!E28","v":0},{"$f":"September!F28","v":0},{"$f":"September!G28","v":0},{"$f":"September!H28","v":0},{"$f":"September!I28","v":0},{"$f":"September!J28","v":0}]
[{"$f":"September!A29","v":"00:00:00"},{"$f":"September!B29","v":0},{"$f":"September!C29","v":0},{"$f":"September!D29","v":0},{"$f":"September!E29","v":0},{"$f":"September!F29","v":0},{"$f":"September!G29","v":0},{"$f":"September!H29","v":0},{"$f":"September!I29","v":0},{"$f":"September!J29","v":0}]
[{"$f":"September!A30","v":"00:00:00"},{"$f":"September!B30","v":0},{"$f":"September!C30","v":0},{"$f":"September!D30","v":0},{"$f":"September!E30","v":0},{"$f":"September!F30","v":0},{"$f":"September!G30","v":0},{"$f":"September!H30","v":0},{"$f":"September!I30","v":0},{"$f":"September!J30","v":0}]
[{"$f":"September!A31","v":"00:00:00"},{"$f":"September!B31","v":0},{"$f":"September!C31","v":0},{"$f":"September!D31","v":0},{"$f":"September!E31","v":0},{"$f":"September!F31","v":0},{"$f":"September!G31","v":0},{"$f":"September!H31","v":0},{"$f":"September!I31","v":0},{"$f":"September!J31","v":0}]
[{"$f":"September!A32","v":"00:00:00"},{"$f":"September!B32","v":0},{"$f":"September!C32","v":0},{"$f":"September!D32","v":0},{"$f":"September!E32","v":0},{"$f":"September!F32","v":0},{"$f":"September!G32","v":0},{"$f":"September!H32","v":0},{"$f":"September!I32","v":0},{"$f":"September!J32","v":0}]
[{"$f":"September!A33","v":"00:00:00"},{"$f":"September!B33","v":0},{"$f":"September!C33","v":0},{"$f":"September!D33","v":0},{"$f":"September!E33","v":0},{"$f":"September!F33","v":0},{"$f":"September!G33","v":0},{"$f":"September!H33","v":0},{"$f":"September!I33","v":0},{"$f":"September!J33","v":0}]
[{"$f":"September!A34","v":"00:00:00"},{"$f":"September!B34","v":0},{"$f":"September!C34","v":0},{"$f":"September!D34","v":0},{"$f":"September!E34","v":0},{"$f":"September!F34","v":0},{"$f":"September!G34","v":0},{"$f":"September!H34","v":0},{"$f":"September!I34","v":0},{"$f":"September!J34","v":0}]
[{"$f":"September!A35","v":"00:00:00"},{"$f":"September!B35","v":0},{"$f":"September!C35","v":0},{"$f":"September!D35","v":0},{"$f":"September!E35","v":0},{"$f":"September!F35","v":0},{"$f":"September!G35","v":0},{"$f":"September!H35","v":0},{"$f":"September!I35","v":0},{"$f":"September!J35","v":0}]
[{"$f":"September!A36","v":"00:00:00"},{"$f":"September!B36","v":0},{"$f":"September!C36","v":0},{"$f":"September!D36","v":0},{"$f":"September!E36","v":0},{"$f":"September!F36","v":0},{"$f":"September!G36","v":0},{"$f":"September!H36","v":0},{"$f":"September!I36","v":0},{"$f":"September!J36","v":0}]
[{"$f":"September!A37","v":"00:00:00"},{"$f":"September!B37","v":0},{"$f":"September!C37","v":0},{"$f":"September!D37","v":0},{"$f":"September!E37","v":0},{"$f":"September!F37","v":0},{"$f":"September!G37","v":0},{"$f":"September!H37","v":0},{"$f":"September!I37","v":0},{"$f":"September!J37","v":0}]
[{"$f":"September!A38","v":"00:00:00"},{"$f":"September!B38","v":0},{"$f":"September!C38","v":0},{"$f":"September!D38","v":0},{"$f":"September!E38","v":0},{"$f":"September!F38","v":0},{"$f":"September!G38","v":0},{"$f":"September!H38","v":0},{"$f":"September!I38","v":0},{"$f":"September!J38","v":0}]
[{"$f":"September!A39","v":"00:00:00"},{"$f":"September!B39","v":0},{"$f":"September!C39","v":0},{"$f":"September!D39","v":0},{"$f":"September!E39","v":0},{"$f":"September!F39","v":0},{"$f":"September!G39","v":0},{"$f":"September!H39","v":0},{"$f":"September!I39","v":0},{"$f":"September!J39","v":0}]
[{"$f":"September!A40","v":"00:00:00"},{"$f":"September!B40","v":0},{"$f":"September!C40","v":0},{"$f":"September!D40","v":0},{"$f":"September!E40","v":0},{"$f":"September!F40","v":0},{"$f":"September!G40","v":0},{"$f":"September!H40","v":0},{"$f":"September!I40","v":0},{"$f":"September!J40","v":0}]
[{"$f":"September!A41","v":"00:00:00"},{"$f":"September!B41","v":0},{"$f":"September!C41","v":0},{"$f":"September!D41","v":0},{"$f":"September!E41","v":0},{"$f":"September!F41","v":0},{"$f":"September!G41","v":0},{"$f":"September!H41","v":0},{"$f":"September!I41","v":0},{"$f":"September!J41","v":0}]
[{"$f":"September!A42","v":"00:00:00"},{"$f":"September!B42","v":0},{"$f":"September!C42","v":0},{"$f":"September!D42","v":0},{"$f":"September!E42","v":0},{"$f":"September!F42","v":0},{"$f":"September!G42","v":0},{"$f":"September!H42","v":0},{"$f":"September!I42","v":0},{"$f":"September!J42","v":0}]
[{"$f":"September!A43","v":"00:00:00"},{"$f":"September!B43","v":0},{"$f":"September!C43","v":0},{"$f":"September!D43","v":0},{"$f":"September!E43","v":0},{"$f":"September!F43","v":0},{"$f":"September!G43","v":0},{"$f":"September!H43","v":0},{"$f":"September!I43","v":0},{"$f":"September!J43","v":0}]
[{"$f":"September!A44","v":"00:00:00"},{"$f":"September!B44","v":0},{"$f":"September!C44","v":0},{"$f":"September!D44","v":0},{"$f":"September!E44","v":0},{"$f":"September!F44","v":0},{"$f":"September!G44","v":0},{"$f":"September!H44","v":0},{"$f":"September!I44","v":0},{"$f":"September!J44","v":0}]
[{"$f":"September!A45","v":"00:00:00"},{"$f":"September!B45","v":0},{"$f":"September!C45","v":0},{"$f":"September!D45","v":0},{"$f":"September!E45","v":0},{"$f":"September!F45","v":0},{"$f":"September!G45","v":0},{"$f":"September!H45","v":0},{"$f":"September!I45","v":0},{"$f":"September!J45","v":0}]
[{"$f":"September!A46","v":"00:00:00"},{"$f":"September!B46","v":0},{"$f":"September!C46","v":0},{"$f":"September!D46","v":0},{"$f":"September!E46","v":0},{"$f":"September!F46","v":0},{"$f":"September!G46","v":0},{"$f":"September!H46","v":0},{"$f":"September!I46","v":0},{"$f":"September!J46","v":0}]
[{"$f":"September!A47","v":"00:00:00"},{"$f":"September!B47","v":0},{"$f":"September!C47","v":0},{"$f":"September!D47","v":0},{"$f":"September!E47","v":0},{"$f":"September!F47","v":0},{"$f":"September!G47","v":0},{"$f":"September!H47","v":0},{"$f":"September!I47","v":0},{"$f":"September!J47","v":0}]
[{"$f":"September!A48","v":"00:00:00"},{"$f":"September!B48","v":0},{"$f":"September!C48","v":0},{"$f":"September!D48","v":0},{"$f":"September!E48","v":0},{"$f":"September!F48","v":0},{"$f":"September!G48","v":0},{"$f":"September!H48","v":0},{"$f":"September!I48","v":0},{"$f":"September!J48","v":0}]
[{"$f":"September!A49","v":"00:00:00"},{"$f":"September!B49","v":0},{"$f":"September!C49","v":0},{"$f":"September!D49","v":0},{"$f":"September!E49","v":0},{"$f":"September!F49","v":0},{"$f":"September!G49","v":0},{"$f":"September!H49","v":0},{"$f":"September!I49","v":0},{"$f":"September!J49","v":0}]
[{"$f":"September!A50","v":"00:00:00"},{"$f":"September!B50","v":0},{"$f":"September!C50","v":0},{"$f":"September!D50","v":0},{"$f":"September!E50","v":0},{"$f":"September!F50","v":0},{"$f":"September!G50","v":0},{"$f":"September!H50","v":0},{"$f":"September!I50","v":0},{"$f":"September!J50","v":0}]
[{"$f":"September!A51","v":"00:00:00"},{"$f":"September!B51","v":0},{"$f":"September!C51","v":0},{"$f":"September!D51","v":0},{"$f":"September!E51","v":0},{"$f":"September!F51","v":0},{"$f":"September!G51","v":0},{"$f":"September!H51","v":0},{"$f":"September!I51","v":0},{"$f":"September!J51","v":0}]
[{"$f":"September!A52","v":"00:00:00"},{"$f":"September!B52","v":0},{"$f":"September!C52","v":0},{"$f":"September!D52","v":0},{"$f":"September!E52","v":0},{"$f":"September!F52","v":0},{"$f":"September!G52","v":0},{"$f":"September!H52","v":0},{"$f":"September!I52","v":0},{"$f":"September!J52","v":0}]
[{"$f":"September!A53","v":"00:00:00"},{"$f":"September!B53","v":0},{"$f":"September!C53","v":0},{"$f":"September!D53","v":0},{"$f":"September!E53","v":0},{"$f":"September!F53","v":0},{"$f":"September!G53","v":0},{"$f":"September!H53","v":0},{"$f":"September!I53","v":0},{"$f":"September!J53","v":0}]
[{"$f":"September!A54","v":"00:00:00"},{"$f":"September!B54","v":0},{"$f":"September!C54","v":0},{"$f":"September!D54","v":0},{"$f":"September!E54","v":0},{"$f":"September!F54","v":0},{"$f":"September!G54","v":0},{"$f":"September!H54","v":0},{"$f":"September!I54","v":0},{"$f":"September!J54","v":0}]
[{"$f":"September!A55","v":"00:00:00"},{"$f":"September!B55","v":0},{"$f":"September!C55","v":0},{"$f":"September!D55","v":0},{"$f":"September!E55","v":0},{"$f":"September!F55","v":0},{"$f":"September!G55","v":0},{"$f":"September!H55","v":0},{"$f":"September!I55","v":0},{"$f":"September!J55","v":0}]
[{"$f":"September!A56","v":"00:00:00"},{"$f":"September!B56","v":0},{"$f":"September!C56","v":0},{"$f":"September!D56","v":0},{"$f":"September!E56","v":0},{"$f":"September!F56","v":0},{"$f":"September!G56","v":0},{"$f":"September!H56","v":0},{"$f":"September!I56","v":0},{"$f":"September!J56","v":0}]
[{"$f":"September!A57","v":"00:00:00"},{"$f":"September!B57","v":0},{"$f":"September!C57","v":0},{"$f":"September!D57","v":0},{"$f":"September!E57","v":0},{"$f":"September!F57","v":0},{"$f":"September!G57","v":0},{"$f":"September!H57","v":0},{"$f":"September!I57","v":0},{"$f":"September!J57","v":0}]
[{"$f":"September!A58","v":"00:00:00"},{"$f":"September!B58","v":0},{"$f":"September!C58","v":0},{"$f":"September!D58","v":0},{"$f":"September!E58","v":0},{"$f":"September!F58","v":0},{"$f":"September!G58","v":0},{"$f":"September!H58","v":0},{"$f":"September!I58","v":0},{"$f":"September!J58","v":0}]
[{"$f":"September!A59","v":"00:00:00"},{"$f":"September!B59","v":0},{"$f":"September!C59","v":0},{"$f":"September!D59","v":0},{"$f":"September!E59","v":0},{"$f":"September!F59","v":0},{"$f":"September!G59","v":0},{"$f":"September!H59","v":0},{"$f":"September!I59","v":0},{"$f":"September!J59","v":0}]
[{"$f":"September!A60","v":"00:00:00"},{"$f":"September!B60","v":0},{"$f":"September!C60","v":0},{"$f":"September!D60","v":0},{"$f":"September!E60","v":0},{"$f":"September!F60","v":0},{"$f":"September!G60","v":0},{"$f":"September!H60","v":0},{"$f":"September!I60","v":0},{"$f":"September!J60","v":0}]
[{"$f":"October!A9","v":"00:00:00"},{"$f":"October!B9","v":0},{"$f":"October!C9","v":0},{"$f":"October!D9","v":0},{"$f":"October!E9","v":0},{"$f":"October!F9","v":0},{"$f":"October!G9","v":0},{"$f":"October!H9","v":0},{"$f":"October!I9","v":0},{"$f":"October!J9","v":0}]
[{"$f":"October!A10","v":"00:00:00"},{"$f":"October!B10","v":0},{"$f":"October!C10","v":0},{"$f":"October!D10","v":0},{"$f":"October!E10","v":0},{"$f":"October!F10","v":0},{"$f":"October!G10","v":0},{"$f":"October!H10","v":0},{"$f":"October!I10","v":0},{"$f":"October!J10","v":0}]
[{"$f":"October!A11","v":"00:00:00"},{"$f":"October!B11","v":0},{"$f":"October!C11","v":0},{"$f":"October!D11","v":0},{"$f":"October!E11","v":0},{"$f":"October!F11","v":0},{"$f":"October!G11","v":0},{"$f":"October!H11","v":0},{"$f":"October!I11","v":0},{"$f":"October!J11","v":0}]
[{"$f":"October!A12","v":"00:00:00"},{"$f":"October!B12","v":0},{"$f":"October!C12","v":0},{"$f":"October!D12","v":0},{"$f":"October!E12","v":0},{"$f":"October!F12","v":0},{"$f":"October!G12","v":0},{"$f":"October!H12","v":0},{"$f":"October!I12","v":0},{"$f":"October!J12","v":0}]
[{"$f":"October!A13","v":"00:00:00"},{"$f":"October!B13","v":0},{"$f":"October!C13","v":0},{"$f":"October!D13","v":0},{"$f":"October!E13","v":0},{"$f":"October!F13","v":0},{"$f":"October!G13","v":0},{"$f":"October!H13","v":0},{"$f":"October!I13","v":0},{"$f":"October!J13","v":0}]
[{"$f":"October!A14","v":"00:00:00"},{"$f":"October!B14","v":0},{"$f":"October!C14","v":0},{"$f":"October!D14","v":0},{"$f":"October!E14","v":0},{"$f":"October!F14","v":0},{"$f":"October!G14","v":0},{"$f":"October!H14","v":0},{"$f":"October!I14","v":0},{"$f":"October!J14","v":0}]
[{"$f":"October!A15","v":"00:00:00"},{"$f":"October!B15","v":0},{"$f":"October!C15","v":0},{"$f":"October!D15","v":0},{"$f":"October!E15","v":0},{"$f":"October!F15","v":0},{"$f":"October!G15","v":0},{"$f":"October!H15","v":0},{"$f":"October!I15","v":0},{"$f":"October!J15","v":0}]
[{"$f":"October!A16","v":"00:00:00"},{"$f":"October!B16","v":0},{"$f":"October!C16","v":0},{"$f":"October!D16","v":0},{"$f":"October!E16","v":0},{"$f":"October!F16","v":0},{"$f":"October!G16","v":0},{"$f":"October!H16","v":0},{"$f":"October!I16","v":0},{"$f":"October!J16","v":0}]
[{"$f":"October!A17","v":"00:00:00"},{"$f":"October!B17","v":0},{"$f":"October!C17","v":0},{"$f":"October!D17","v":0},{"$f":"October!E17","v":0},{"$f":"October!F17","v":0},{"$f":"October!G17","v":0},{"$f":"October!H17","v":0},{"$f":"October!I17","v":0},{"$f":"October!J17","v":0}]
[{"$f":"October!A18","v":"00:00:00"},{"$f":"October!B18","v":0},{"$f":"October!C18","v":0},{"$f":"October!D18","v":0},{"$f":"October!E18","v":0},{"$f":"October!F18","v":0},{"$f":"October!G18","v":0},{"$f":"October!H18","v":0},{"$f":"October!I18","v":0},{"$f":"October!J18","v":0}]
[{"$f":"October!A19","v":"00:00:00"},{"$f":"October!B19","v":0},{"$f":"October!C19","v":0},{"$f":"October!D19","v":0},{"$f":"October!E19","v":0},{"$f":"October!F19","v":0},{"$f":"October!G19","v":0},{"$f":"October!H19","v":0},{"$f":"October!I19","v":0},{"$f":"October!J19","v":0}]
[{"$f":"October!A20","v":"00:00:00"},{"$f":"October!B20","v":0},{"$f":"October!C20","v":0},{"$f":"October!D20","v":0},{"$f":"October!E20","v":0},{"$f":"October!F20","v":0},{"$f":"October!G20","v":0},{"$f":"October!H20","v":0},{"$f":"October!I20","v":0},{"$f":"October!J20","v":0}]
[{"$f":"October!A21","v":"00:00:00"},{"$f":"October!B21","v":0},{"$f":"October!C21","v":0},{"$f":"October!D21","v":0},{"$f":"October!E21","v":0},{"$f":"October!F21","v":0},{"$f":"October!G21","v":0},{"$f":"October!H21","v":0},{"$f":"October!I21","v":0},{"$f":"October!J21","v":0}]
[{"$f":"October!A22","v":"00:00:00"},{"$f":"October!B22","v":0},{"$f":"October!C22","v":0},{"$f":"October!D22","v":0},{"$f":"October!E22","v":0},{"$f":"October!F22","v":0},{"$f":"October!G22","v":0},{"$f":"October!H22","v":0},{"$f":"October!I22","v":0},{"$f":"October!J22","v":0}]
[{"$f":"October!A23","v":"00:00:00"},{"$f":"October!B23","v":0},{"$f":"October!C23","v":0},{"$f":"October!D23","v":0},{"$f":"October!E23","v":0},{"$f":"October!F23","v":0},{"$f":"October!G23","v":0},{"$f":"October!H23","v":0},{"$f":"October!I23","v":0},{"$f":"October!J23","v":0}]
[{"$f":"October!A24","v":"00:00:00"},{"$f":"October!B24","v":0},{"$f":"October!C24","v":0},{"$f":"October!D24","v":0},{"$f":"October!E24","v":0},{"$f":"October!F24","v":0},{"$f":"October!G24","v":0},{"$f":"October!H24","v":0},{"$f":"October!I24","v":0},{"$f":"October!J24","v":0}]
[{"$f":"October!A25","v":"00:00:00"},{"$f":"October!B25","v":0},{"$f":"October!C25","v":0},{"$f":"October!D25","v":0},{"$f":"October!E25","v":0},{"$f":"October!F25","v":0},{"$f":"October!G25","v":0},{"$f":"October!H25","v":0},{"$f":"October!I25","v":0},{"$f":"October!J25","v":0}]
[{"$f":"October!A26","v":"00:00:00"},{"$f":"October!B26","v":0},{"$f":"October!C26","v":0},{"$f":"October!D26","v":0},{"$f":"October!E26","v":0},{"$f":"October!F26","v":0},{"$f":"October!G26","v":0},{"$f":"October!H26","v":0},{"$f":"October!I26","v":0},{"$f":"October!J26","v":0}]
[{"$f":"October!A27","v":"00:00:00"},{"$f":"October!B27","v":0},{"$f":"October!C27","v":0},{"$f":"October!D27","v":0},{"$f":"October!E27","v":0},{"$f":"October!F27","v":0},{"$f":"October!G27","v":0},{"$f":"October!H27","v":0},{"$f":"October!I27","v":0},{"$f":"October!J27","v":0}]
[{"$f":"October!A28","v":"00:00:00"},{"$f":"October!B28","v":0},{"$f":"October!C28","v":0},{"$f":"October!D28","v":0},{"$f":"October!E28","v":0},{"$f":"October!F28","v":0},{"$f":"October!G28","v":0},{"$f":"October!H28","v":0},{"$f":"October!I28","v":0},{"$f":"October!J28","v":0}]
[{"$f":"October!A29","v":"00:00:00"},{"$f":"October!B29","v":0},{"$f":"October!C29","v":0},{"$f":"October!D29","v":0},{"$f":"October!E29","v":0},{"$f":"October!F29","v":0},{"$f":"October!G29","v":0},{"$f":"October!H29","v":0},{"$f":"October!I29","v":0},{"$f":"October!J29","v":0}]
[{"$f":"October!A30","v":"00:00:00"},{"$f":"October!B30","v":0},{"$f":"October!C30","v":0},{"$f":"October!D30","v":0},{"$f":"October!E30","v":0},{"$f":"October!F30","v":0},{"$f":"October!G30","v":0},{"$f":"October!H30","v":0},{"$f":"October!I30","v":0},{"$f":"October!J30","v":0}]
[{"$f":"October!A31","v":"00:00:00"},{"$f":"October!B31","v":0},{"$f":"October!C31","v":0},{"$f":"October!D31","v":0},{"$f":"October!E31","v":0},{"$f":"October!F31","v":0},{"$f":"October!G31","v":0},{"$f":"October!H31","v":0},{"$f":"October!I31","v":0},{"$f":"October!J31","v":0}]
[{"$f":"October!A32","v":"00:00:00"},{"$f":"October!B32","v":0},{"$f":"October!C32","v":0},{"$f":"October!D32","v":0},{"$f":"October!E32","v":0},{"$f":"October!F32","v":0},{"$f":"October!G32","v":0},{"$f":"October!H32","v":0},{"$f":"October!I32","v":0},{"$f":"October!J32","v":0}]
[{"$f":"October!A33","v":"00:00:00"},{"$f":"October!B33","v":0},{"$f":"October!C33","v":0},{"$f":"October!D33","v":0},{"$f":"October!E33","v":0},{"$f":"October!F33","v":0},{"$f":"October!G33","v":0},{"$f":"October!H33","v":0},{"$f":"October!I33","v":0},{"$f":"October!J33","v":0}]
[{"$f":"October!A34","v":"00:00:00"},{"$f":"October!B34","v":0},{"$f":"October!C34","v":0},{"$f":"October!D34","v":0},{"$f":"October!E34","v":0},{"$f":"October!F34","v":0},{"$f":"October!G34","v":0},{"$f":"October!H34","v":0},{"$f":"October!I34","v":0},{"$f":"October!J34","v":0}]
[{"$f":"October!A35","v":"00:00:00"},{"$f":"October!B35","v":0},{"$f":"October!C35","v":0},{"$f":"October!D35","v":0},{"$f":"October!E35","v":0},{"$f":"October!F35","v":0},{"$f":"October!G35","v":0},{"$f":"October!H35","v":0},{"$f":"October!I35","v":0},{"$f":"October!J35","v":0}]
[{"$f":"October!A36","v":"00:00:00"},{"$f":"October!B36","v":0},{"$f":"October!C36","v":0},{"$f":"October!D36","v":0},{"$f":"October!E36","v":0},{"$f":"October!F36","v":0},{"$f":"October!G36","v":0},{"$f":"October!H36","v":0},{"$f":"October!I36","v":0},{"$f":"October!J36","v":0}]
[{"$f":"October!A37","v":"00:00:00"},{"$f":"October!B37","v":0},{"$f":"October!C37","v":0},{"$f":"October!D37","v":0},{"$f":"October!E37","v":0},{"$f":"October!F37","v":0},{"$f":"October!G37","v":0},{"$f":"October!H37","v":0},{"$f":"October!I37","v":0},{"$f":"October!J37","v":0}]
[{"$f":"October!A38","v":"00:00:00"},{"$f":"October!B38","v":0},{"$f":"October!C38","v":0},{"$f":"October!D38","v":0},{"$f":"October!E38","v":0},{"$f":"October!F38","v":0},{"$f":"October!G38","v":0},{"$f":"October!H38","v":0},{"$f":"October!I38","v":0},{"$f":"October!J38","v":0}]
[{"$f":"October!A39","v":"00:00:00"},{"$f":"October!B39","v":0},{"$f":"October!C39","v":0},{"$f":"October!D39","v":0},{"$f":"October!E39","v":0},{"$f":"October!F39","v":0},{"$f":"October!G39","v":0},{"$f":"October!H39","v":0},{"$f":"October!I39","v":0},{"$f":"October!J39","v":0}]
[{"$f":"October!A40","v":"00:00:00"},{"$f":"October!B40","v":0},{"$f":"October!C40","v":0},{"$f":"October!D40","v":0},{"$f":"October!E40","v":0},{"$f":"October!F40","v":0},{"$f":"October!G40","v":0},{"$f":"October!H40","v":0},{"$f":"October!I40","v":0},{"$f":"October!J40","v":0}]
[{"$f":"October!A41","v":"00:00:00"},{"$f":"October!B41","v":0},{"$f":"October!C41","v":0},{"$f":"October!D41","v":0},{"$f":"October!E41","v":0},{"$f":"October!F41","v":0},{"$f":"October!G41","v":0},{"$f":"October!H41","v":0},{"$f":"October!I41","v":0},{"$f":"October!J41","v":0}]
[{"$f":"October!A42","v":"00:00:00"},{"$f":"October!B42","v":0},{"$f":"October!C42","v":0},{"$f":"October!D42","v":0},{"$f":"October!E42","v":0},{"$f":"October!F42","v":0},{"$f":"October!G42","v":0},{"$f":"October!H42","v":0},{"$f":"October!I42","v":0},{"$f":"October!J42","v":0}]
[{"$f":"October!A43","v":"00:00:00"},{"$f":"October!B43","v":0},{"$f":"October!C43","v":0},{"$f":"October!D43","v":0},{"$f":"October!E43","v":0},{"$f":"October!F43","v":0},{"$f":"October!G43","v":0},{"$f":"October!H43","v":0},{"$f":"October!I43","v":0},{"$f":"October!J43","v":0}]
[{"$f":"October!A44","v":"00:00:00"},{"$f":"October!B44","v":0},{"$f":"October!C44","v":0},{"$f":"October!D44","v":0},{"$f":"October!E44","v":0},{"$f":"October!F44","v":0},{"$f":"October!G44","v":0},{"$f":"October!H44","v":0},{"$f":"October!I44","v":0},{"$f":"October!J44","v":0}]
[{"$f":"October!A45","v":"00:00:00"},{"$f":"October!B45","v":0},{"$f":"October!C45","v":0},{"$f":"October!D45","v":0},{"$f":"October!E45","v":0},{"$f":"October!F45","v":0},{"$f":"October!G45","v":0},{"$f":"October!H45","v":0},{"$f":"October!I45","v":0},{"$f":"October!J45","v":0}]
[{"$f":"October!A46","v":"00:00:00"},{"$f":"October!B46","v":0},{"$f":"October!C46","v":0},{"$f":"October!D46","v":0},{"$f":"October!E46","v":0},{"$f":"October!F46","v":0},{"$f":"October!G46","v":0},{"$f":"October!H46","v":0},{"$f":"October!I46","v":0},{"$f":"October!J46","v":0}]
[{"$f":"October!A47","v":"00:00:00"},{"$f":"October!B47","v":0},{"$f":"October!C47","v":0},{"$f":"October!D47","v":0},{"$f":"October!E47","v":0},{"$f":"October!F47","v":0},{"$f":"October!G47","v":0},{"$f":"October!H47","v":0},{"$f":"October!I47","v":0},{"$f":"October!J47","v":0}]
[{"$f":"October!A48","v":"00:00:00"},{"$f":"October!B48","v":0},{"$f":"October!C48","v":0},{"$f":"October!D48","v":0},{"$f":"October!E48","v":0},{"$f":"October!F48","v":0},{"$f":"October!G48","v":0},{"$f":"October!H48","v":0},{"$f":"October!I48","v":0},{"$f":"October!J48","v":0}]
[{"$f":"October!A49","v":"00:00:00"},{"$f":"October!B49","v":0},{"$f":"October!C49","v":0},{"$f":"October!D49","v":0},{"$f":"October!E49","v":0},{"$f":"October!F49","v":0},{"$f":"October!G49","v":0},{"$f":"October!H49","v":0},{"$f":"October!I49","v":0},{"$f":"October!J49","v":0}]
[{"$f":"October!A50","v":"00:00:00"},{"$f":"October!B50","v":0},{"$f":"October!C50","v":0},{"$f":"October!D50","v":0},{"$f":"October!E50","v":0},{"$f":"October!F50","v":0},{"$f":"October!G50","v":0},{"$f":"October!H50","v":0},{"$f":"October!I50","v":0},{"$f":"October!J50","v":0}]
[{"$f":"October!A51","v":"00:00:00"},{"$f":"October!B51","v":0},{"$f":"October!C51","v":0},{"$f":"October!D51","v":0},{"$f":"October!E51","v":0},{"$f":"October!F51","v":0},{"$f":"October!G51","v":0},{"$f":"October!H51","v":0},{"$f":"October!I51","v":0},{"$f":"October!J51","v":0}]
[{"$f":"October!A52","v":"00:00:00"},{"$f":"October!B52","v":0},{"$f":"October!C52","v":0},{"$f":"October!D52","v":0},{"$f":"October!E52","v":0},{"$f":"October!F52","v":0},{"$f":"October!G52","v":0},{"$f":"October!H52","v":0},{"$f":"October!I52","v":0},{"$f":"October!J52","v":0}]
[{"$f":"October!A53","v":"00:00:00"},{"$f":"October!B53","v":0},{"$f":"October!C53","v":0},{"$f":"October!D53","v":0},{"$f":"October!E53","v":0},{"$f":"October!F53","v":0},{"$f":"October!G53","v":0},{"$f":"October!H53","v":0},{"$f":"October!I53","v":0},{"$f":"October!J53","v":0}]
[{"$f":"October!A54","v":"00:00:00"},{"$f":"October!B54","v":0},{"$f":"October!C54","v":0},{"$f":"October!D54","v":0},{"$f":"October!E54","v":0},{"$f":"October!F54","v":0},{"$f":"October!G54","v":0},{"$f":"October!H54","v":0},{"$f":"October!I54","v":0},{"$f":"October!J54","v":0}]
[{"$f":"October!A55","v":"00:00:00"},{"$f":"October!B55","v":0},{"$f":"October!C55","v":0},{"$f":"October!D55","v":0},{"$f":"October!E55","v":0},{"$f":"October!F55","v":0},{"$f":"October!G55","v":0},{"$f":"October!H55","v":0},{"$f":"October!I55","v":0},{"$f":"October!J55","v":0}]
[{"$f":"October!A56","v":"00:00:00"},{"$f":"October!B56","v":0},{"$f":"October!C56","v":0},{"$f":"October!D56","v":0},{"$f":"October!E56","v":0},{"$f":"October!F56","v":0},{"$f":"October!G56","v":0},{"$f":"October!H56","v":0},{"$f":"October!I56","v":0},{"$f":"October!J56","v":0}]
[{"$f":"October!A57","v":"00:00:00"},{"$f":"October!B57","v":0},{"$f":"October!C57","v":0},{"$f":"October!D57","v":0},{"$f":"October!E57","v":0},{"$f":"October!F57","v":0},{"$f":"October!G57","v":0},{"$f":"October!H57","v":0},{"$f":"October!I57","v":0},{"$f":"October!J57","v":0}]
[{"$f":"October!A58","v":"00:00:00"},{"$f":"October!B58","v":0},{"$f":"October!C58","v":0},{"$f":"October!D58","v":0},{"$f":"October!E58","v":0},{"$f":"October!F58","v":0},{"$f":"October!G58","v":0},{"$f":"October!H58","v":0},{"$f":"October!I58","v":0},{"$f":"October!J58","v":0}]
[{"$f":"October!A59","v":"00:00:00"},{"$f":"October!B59","v":0},{"$f":"October!C59","v":0},{"$f":"October!D59","v":0},{"$f":"October!E59","v":0},{"$f":"October!F59","v":0},{"$f":"October!G59","v":0},{"$f":"October!H59","v":0},{"$f":"October!I59","v":0},{"$f":"October!J59","v":0}]
[{"$f":"October!A60","v":"00:00:00"},{"$f":"October!B60","v":0},{"$f":"October!C60","v":0},{"$f":"October!D60","v":0},{"$f":"October!E60","v":0},{"$f":"October!F60","v":0},{"$f":"October!G60","v":0},{"$f":"October!H60","v":0},{"$f":"October!I60","v":0},{"$f":"October!J60","v":0}]
[{"$f":"November!A9","v":"00:00:00"},{"$f":"November!B9","v":0},{"$f":"November!C9","v":0},{"$f":"November!D9","v":0},{"$f":"November!E9","v":0},{"$f":"November!F9","v":0},{"$f":"November!G9","v":0},{"$f":"November!H9","v":0},{"$f":"November!I9","v":0},{"$f":"November!J9","v":0}]
[{"$f":"November!A10","v":"00:00:00"},{"$f":"November!B10","v":0},{"$f":"November!C10","v":0},{"$f":"November!D10","v":0},{"$f":"November!E10","v":0},{"$f":"November!F10","v":0},{"$f":"November!G10","v":0},{"$f":"November!H10","v":0},{"$f":"November!I10","v":0},{"$f":"November!J10","v":0}]
[{"$f":"November!A11","v":"00:00:00"},{"$f":"November!B11","v":0},{"$f":"November!C11","v":0},{"$f":"November!D11","v":0},{"$f":"November!E11","v":0},{"$f":"November!F11","v":0},{"$f":"November!G11","v":0},{"$f":"November!H11","v":0},{"$f":"November!I11","v":0},{"$f":"November!J11","v":0}]
[{"$f":"November!A12","v":"00:00:00"},{"$f":"November!B12","v":0},{"$f":"November!C12","v":0},{"$f":"November!D12","v":0},{"$f":"November!E12","v":0},{"$f":"November!F12","v":0},{"$f":"November!G12","v":0},{"$f":"November!H12","v":0},{"$f":"November!I12","v":0},{"$f":"November!J12","v":0}]
[{"$f":"November!A13","v":"00:00:00"},{"$f":"November!B13","v":0},{"$f":"November!C13","v":0},{"$f":"November!D13","v":0},{"$f":"November!E13","v":0},{"$f":"November!F13","v":0},{"$f":"November!G13","v":0},{"$f":"November!H13","v":0},{"$f":"November!I13","v":0},{"$f":"November!J13","v":0}]
[{"$f":"November!A14","v":"00:00:00"},{"$f":"November!B14","v":0},{"$f":"November!C14","v":0},{"$f":"November!D14","v":0},{"$f":"November!E14","v":0},{"$f":"November!F14","v":0},{"$f":"November!G14","v":0},{"$f":"November!H14","v":0},{"$f":"November!I14","v":0},{"$f":"November!J14","v":0}]
[{"$f":"November!A15","v":"00:00:00"},{"$f":"November!B15","v":0},{"$f":"November!C15","v":0},{"$f":"November!D15","v":0},{"$f":"November!E15","v":0},{"$f":"November!F15","v":0},{"$f":"November!G15","v":0},{"$f":"November!H15","v":0},{"$f":"November!I15","v":0},{"$f":"November!J15","v":0}]
[{"$f":"November!A16","v":"00:00:00"},{"$f":"November!B16","v":0},{"$f":"November!C16","v":0},{"$f":"November!D16","v":0},{"$f":"November!E16","v":0},{"$f":"November!F16","v":0},{"$f":"November!G16","v":0},{"$f":"November!H16","v":0},{"$f":"November!I16","v":0},{"$f":"November!J16","v":0}]
[{"$f":"November!A17","v":"00:00:00"},{"$f":"November!B17","v":0},{"$f":"November!C17","v":0},{"$f":"November!D17","v":0},{"$f":"November!E17","v":0},{"$f":"November!F17","v":0},{"$f":"November!G17","v":0},{"$f":"November!H17","v":0},{"$f":"November!I17","v":0},{"$f":"November!J17","v":0}]
[{"$f":"November!A18","v":"00:00:00"},{"$f":"November!B18","v":0},{"$f":"November!C18","v":0},{"$f":"November!D18","v":0},{"$f":"November!E18","v":0},{"$f":"November!F18","v":0},{"$f":"November!G18","v":0},{"$f":"November!H18","v":0},{"$f":"November!I18","v":0},{"$f":"November!J18","v":0}]
[{"$f":"November!A19","v":"00:00:00"},{"$f":"November!B19","v":0},{"$f":"November!C19","v":0},{"$f":"November!D19","v":0},{"$f":"November!E19","v":0},{"$f":"November!F19","v":0},{"$f":"November!G19","v":0},{"$f":"November!H19","v":0},{"$f":"November!I19","v":0},{"$f":"November!J19","v":0}]
[{"$f":"November!A20","v":"00:00:00"},{"$f":"November!B20","v":0},{"$f":"November!C20","v":0},{"$f":"November!D20","v":0},{"$f":"November!E20","v":0},{"$f":"November!F20","v":0},{"$f":"November!G20","v":0},{"$f":"November!H20","v":0},{"$f":"November!I20","v":0},{"$f":"November!J20","v":0}]
[{"$f":"November!A21","v":"00:00:00"},{"$f":"November!B21","v":0},{"$f":"November!C21","v":0},{"$f":"November!D21","v":0},{"$f":"November!E21","v":0},{"$f":"November!F21","v":0},{"$f":"November!G21","v":0},{"$f":"November!H21","v":0},{"$f":"November!I21","v":0},{"$f":"November!J21","v":0}]
[{"$f":"November!A22","v":"00:00:00"},{"$f":"November!B22","v":0},{"$f":"November!C22","v":0},{"$f":"November!D22","v":0},{"$f":"November!E22","v":0},{"$f":"November!F22","v":0},{"$f":"November!G22","v":0},{"$f":"November!H22","v":0},{"$f":"November!I22","v":0},{"$f":"November!J22","v":0}]
[{"$f":"November!A23","v":"00:00:00"},{"$f":"November!B23","v":0},{"$f":"November!C23","v":0},{"$f":"November!D23","v":0},{"$f":"November!E23","v":0},{"$f":"November!F23","v":0},{"$f":"November!G23","v":0},{"$f":"November!H23","v":0},{"$f":"November!I23","v":0},{"$f":"November!J23","v":0}]
[{"$f":"November!A24","v":"00:00:00"},{"$f":"November!B24","v":0},{"$f":"November!C24","v":0},{"$f":"November!D24","v":0},{"$f":"November!E24","v":0},{"$f":"November!F24","v":0},{"$f":"November!G24","v":0},{"$f":"November!H24","v":0},{"$f":"November!I24","v":0},{"$f":"November!J24","v":0}]
[{"$f":"November!A25","v":"00:00:00"},{"$f":"November!B25","v":0},{"$f":"November!C25","v":0},{"$f":"November!D25","v":0},{"$f":"November!E25","v":0},{"$f":"November!F25","v":0},{"$f":"November!G25","v":0},{"$f":"November!H25","v":0},{"$f":"November!I25","v":0},{"$f":"November!J25","v":0}]
[{"$f":"November!A26","v":"00:00:00"},{"$f":"November!B26","v":0},{"$f":"November!C26","v":0},{"$f":"November!D26","v":0},{"$f":"November!E26","v":0},{"$f":"November!F26","v":0},{"$f":"November!G26","v":0},{"$f":"November!H26","v":0},{"$f":"November!I26","v":0},{"$f":"November!J26","v":0}]
[{"$f":"November!A27","v":"00:00:00"},{"$f":"November!B27","v":0},{"$f":"November!C27","v":0},{"$f":"November!D27","v":0},{"$f":"November!E27","v":0},{"$f":"November!F27","v":0},{"$f":"November!G27","v":0},{"$f":"November!H27","v":0},{"$f":"November!I27","v":0},{"$f":"November!J27","v":0}]
[{"$f":"November!A28","v":"00:00:00"},{"$f":"November!B28","v":0},{"$f":"November!C28","v":0},{"$f":"November!D28","v":0},{"$f":"November!E28","v":0},{"$f":"November!F28","v":0},{"$f":"November!G28","v":0},{"$f":"November!H28","v":0},{"$f":"November!I28","v":0},{"$f":"November!J28","v":0}]
[{"$f":"November!A29","v":"00:00:00"},{"$f":"November!B29","v":0},{"$f":"November!C29","v":0},{"$f":"November!D29","v":0},{"$f":"November!E29","v":0},{"$f":"November!F29","v":0},{"$f":"November!G29","v":0},{"$f":"November!H29","v":0},{"$f":"November!I29","v":0},{"$f":"November!J29","v":0}]
[{"$f":"November!A30","v":"00:00:00"},{"$f":"November!B30","v":0},{"$f":"November!C30","v":0},{"$f":"November!D30","v":0},{"$f":"November!E30","v":0},{"$f":"November!F30","v":0},{"$f":"November!G30","v":0},{"$f":"November!H30","v":0},{"$f":"November!I30","v":0},{"$f":"November!J30","v":0}]
[{"$f":"November!A31","v":"00:00:00"},{"$f":"November!B31","v":0},{"$f":"November!C31","v":0},{"$f":"November!D31","v":0},{"$f":"November!E31","v":0},{"$f":"November!F31","v":0},{"$f":"November!G31","v":0},{"$f":"November!H31","v":0},{"$f":"November!I31","v":0},{"$f":"November!J31","v":0}]
[{"$f":"November!A32","v":"00:00:00"},{"$f":"November!B32","v":0},{"$f":"November!C32","v":0},{"$f":"November!D32","v":0},{"$f":"November!E32","v":0},{"$f":"November!F32","v":0},{"$f":"November!G32","v":0},{"$f":"November!H32","v":0},{"$f":"November!I32","v":0},{"$f":"November!J32","v":0}]
[{"$f":"November!A33","v":"00:00:00"},{"$f":"November!B33","v":0},{"$f":"November!C33","v":0},{"$f":"November!D33","v":0},{"$f":"November!E33","v":0},{"$f":"November!F33","v":0},{"$f":"November!G33","v":0},{"$f":"November!H33","v":0},{"$f":"November!I33","v":0},{"$f":"November!J33","v":0}]
[{"$f":"November!A34","v":"00:00:00"},{"$f":"November!B34","v":0},{"$f":"November!C34","v":0},{"$f":"November!D34","v":0},{"$f":"November!E34","v":0},{"$f":"November!F34","v":0},{"$f":"November!G34","v":0},{"$f":"November!H34","v":0},{"$f":"November!I34","v":0},{"$f":"November!J34","v":0}]
[{"$f":"November!A35","v":"00:00:00"},{"$f":"November!B35","v":0},{"$f":"November!C35","v":0},{"$f":"November!D35","v":0},{"$f":"November!E35","v":0},{"$f":"November!F35","v":0},{"$f":"November!G35","v":0},{"$f":"November!H35","v":0},{"$f":"November!I35","v":0},{"$f":"November!J35","v":0}]
[{"$f":"November!A36","v":"00:00:00"},{"$f":"November!B36","v":0},{"$f":"November!C36","v":0},{"$f":"November!D36","v":0},{"$f":"November!E36","v":0},{"$f":"November!F36","v":0},{"$f":"November!G36","v":0},{"$f":"November!H36","v":0},{"$f":"November!I36","v":0},{"$f":"November!J36","v":0}]
[{"$f":"November!A37","v":"00:00:00"},{"$f":"November!B37","v":0},{"$f":"November!C37","v":0},{"$f":"November!D37","v":0},{"$f":"November!E37","v":0},{"$f":"November!F37","v":0},{"$f":"November!G37","v":0},{"$f":"November!H37","v":0},{"$f":"November!I37","v":0},{"$f":"November!J37","v":0}]
[{"$f":"November!A38","v":"00:00:00"},{"$f":"November!B38","v":0},{"$f":"November!C38","v":0},{"$f":"November!D38","v":0},{"$f":"November!E38","v":0},{"$f":"November!F38","v":0},{"$f":"November!G38","v":0},{"$f":"November!H38","v":0},{"$f":"November!I38","v":0},{"$f":"November!J38","v":0}]
[{"$f":"November!A39","v":"00:00:00"},{"$f":"November!B39","v":0},{"$f":"November!C39","v":0},{"$f":"November!D39","v":0},{"$f":"November!E39","v":0},{"$f":"November!F39","v":0},{"$f":"November!G39","v":0},{"$f":"November!H39","v":0},{"$f":"November!I39","v":0},{"$f":"November!J39","v":0}]
[{"$f":"November!A40","v":"00:00:00"},{"$f":"November!B40","v":0},{"$f":"November!C40","v":0},{"$f":"November!D40","v":0},{"$f":"November!E40","v":0},{"$f":"November!F40","v":0},{"$f":"November!G40","v":0},{"$f":"November!H40","v":0},{"$f":"November!I40","v":0},{"$f":"November!J40","v":0}]
[{"$f":"November!A41","v":"00:00:00"},{"$f":"November!B41","v":0},{"$f":"November!C41","v":0},{"$f":"November!D41","v":0},{"$f":"November!E41","v":0},{"$f":"November!F41","v":0},{"$f":"November!G41","v":0},{"$f":"November!H41","v":0},{"$f":"November!I41","v":0},{"$f":"November!J41","v":0}]
[{"$f":"November!A42","v":"00:00:00"},{"$f":"November!B42","v":0},{"$f":"November!C42","v":0},{"$f":"November!D42","v":0},{"$f":"November!E42","v":0},{"$f":"November!F42","v":0},{"$f":"November!G42","v":0},{"$f":"November!H42","v":0},{"$f":"November!I42","v":0},{"$f":"November!J42","v":0}]
[{"$f":"November!A43","v":"00:00:00"},{"$f":"November!B43","v":0},{"$f":"November!C43","v":0},{"$f":"November!D43","v":0},{"$f":"November!E43","v":0},{"$f":"November!F43","v":0},{"$f":"November!G43","v":0},{"$f":"November!H43","v":0},{"$f":"November!I43","v":0},{"$f":"November!J43","v":0}]
[{"$f":"November!A44","v":"00:00:00"},{"$f":"November!B44","v":0},{"$f":"November!C44","v":0},{"$f":"November!D44","v":0},{"$f":"November!E44","v":0},{"$f":"November!F44","v":0},{"$f":"November!G44","v":0},{"$f":"November!H44","v":0},{"$f":"November!I44","v":0},{"$f":"November!J44","v":0}]
[{"$f":"November!A45","v":"00:00:00"},{"$f":"November!B45","v":0},{"$f":"November!C45","v":0},{"$f":"November!D45","v":0},{"$f":"November!E45","v":0},{"$f":"November!F45","v":0},{"$f":"November!G45","v":0},{"$f":"November!H45","v":0},{"$f":"November!I45","v":0},{"$f":"November!J45","v":0}]
[{"$f":"November!A46","v":"00:00:00"},{"$f":"November!B46","v":0},{"$f":"November!C46","v":0},{"$f":"November!D46","v":0},{"$f":"November!E46","v":0},{"$f":"November!F46","v":0},{"$f":"November!G46","v":0},{"$f":"November!H46","v":0},{"$f":"November!I46","v":0},{"$f":"November!J46","v":0}]
[{"$f":"November!A47","v":"00:00:00"},{"$f":"November!B47","v":0},{"$f":"November!C47","v":0},{"$f":"November!D47","v":0},{"$f":"November!E47","v":0},{"$f":"November!F47","v":0},{"$f":"November!G47","v":0},{"$f":"November!H47","v":0},{"$f":"November!I47","v":0},{"$f":"November!J47","v":0}]
[{"$f":"November!A48","v":"00:00:00"},{"$f":"November!B48","v":0},{"$f":"November!C48","v":0},{"$f":"November!D48","v":0},{"$f":"November!E48","v":0},{"$f":"November!F48","v":0},{"$f":"November!G48","v":0},{"$f":"November!H48","v":0},{"$f":"November!I48","v":0},{"$f":"November!J48","v":0}]
[{"$f":"November!A49","v":"00:00:00"},{"$f":"November!B49","v":0},{"$f":"November!C49","v":0},{"$f":"November!D49","v":0},{"$f":"November!E49","v":0},{"$f":"November!F49","v":0},{"$f":"November!G49","v":0},{"$f":"November!H49","v":0},{"$f":"November!I49","v":0},{"$f":"November!J49","v":0}]
[{"$f":"November!A50","v":"00:00:00"},{"$f":"November!B50","v":0},{"$f":"November!C50","v":0},{"$f":"November!D50","v":0},{"$f":"November!E50","v":0},{"$f":"November!F50","v":0},{"$f":"November!G50","v":0},{"$f":"November!H50","v":0},{"$f":"November!I50","v":0},{"$f":"November!J50","v":0}]
[{"$f":"November!A51","v":"00:00:00"},{"$f":"November!B51","v":0},{"$f":"November!C51","v":0},{"$f":"November!D51","v":0},{"$f":"November!E51","v":0},{"$f":"November!F51","v":0},{"$f":"November!G51","v":0},{"$f":"November!H51","v":0},{"$f":"November!I51","v":0},{"$f":"November!J51","v":0}]
[{"$f":"November!A52","v":"00:00:00"},{"$f":"November!B52","v":0},{"$f":"November!C52","v":0},{"$f":"November!D52","v":0},{"$f":"November!E52","v":0},{"$f":"November!F52","v":0},{"$f":"November!G52","v":0},{"$f":"November!H52","v":0},{"$f":"November!I52","v":0},{"$f":"November!J52","v":0}]
[{"$f":"November!A53","v":"00:00:00"},{"$f":"November!B53","v":0},{"$f":"November!C53","v":0},{"$f":"November!D53","v":0},{"$f":"November!E53","v":0},{"$f":"November!F53","v":0},{"$f":"November!G53","v":0},{"$f":"November!H53","v":0},{"$f":"November!I53","v":0},{"$f":"November!J53","v":0}]
[{"$f":"November!A54","v":"00:00:00"},{"$f":"November!B54","v":0},{"$f":"November!C54","v":0},{"$f":"November!D54","v":0},{"$f":"November!E54","v":0},{"$f":"November!F54","v":0},{"$f":"November!G54","v":0},{"$f":"November!H54","v":0},{"$f":"November!I54","v":0},{"$f":"November!J54","v":0}]
[{"$f":"November!A55","v":"00:00:00"},{"$f":"November!B55","v":0},{"$f":"November!C55","v":0},{"$f":"November!D55","v":0},{"$f":"November!E55","v":0},{"$f":"November!F55","v":0},{"$f":"November!G55","v":0},{"$f":"November!H55","v":0},{"$f":"November!I55","v":0},{"$f":"November!J55","v":0}]
[{"$f":"November!A56","v":"00:00:00"},{"$f":"November!B56","v":0},{"$f":"November!C56","v":0},{"$f":"November!D56","v":0},{"$f":"November!E56","v":0},{"$f":"November!F56","v":0},{"$f":"November!G56","v":0},{"$f":"November!H56","v":0},{"$f":"November!I56","v":0},{"$f":"November!J56","v":0}]
[{"$f":"November!A57","v":"00:00:00"},{"$f":"November!B57","v":0},{"$f":"November!C57","v":0},{"$f":"November!D57","v":0},{"$f":"November!E57","v":0},{"$f":"November!F57","v":0},{"$f":"November!G57","v":0},{"$f":"November!H57","v":0},{"$f":"November!I57","v":0},{"$f":"November!J57","v":0}]
[{"$f":"November!A58","v":"00:00:00"},{"$f":"November!B58","v":0},{"$f":"November!C58","v":0},{"$f":"November!D58","v":0},{"$f":"November!E58","v":0},{"$f":"November!F58","v":0},{"$f":"November!G58","v":0},{"$f":"November!H58","v":0},{"$f":"November!I58","v":0},{"$f":"November!J58","v":0}]
[{"$f":"November!A59","v":"00:00:00"},{"$f":"November!B59","v":0},{"$f":"November!C59","v":0},{"$f":"November!D59","v":0},{"$f":"November!E59","v":0},{"$f":"November!F59","v":0},{"$f":"November!G59","v":0},{"$f":"November!H59","v":0},{"$f":"November!I59","v":0},{"$f":"November!J59","v":0}]
[{"$f":"November!A60","v":"00:00:00"},{"$f":"November!B60","v":0},{"$f":"November!C60","v":0},{"$f":"November!D60","v":0},{"$f":"November!E60","v":0},{"$f":"November!F60","v":0},{"$f":"November!G60","v":0},{"$f":"November!H60","v":0},{"$f":"November!I60","v":0},{"$f":"November!J60","v":0}]
[{"$f":"December!A9","v":"00:00:00"},{"$f":"December!B9","v":0},{"$f":"December!C9","v":0},{"$f":"December!D9","v":0},{"$f":"December!E9","v":0},{"$f":"December!F9","v":0},{"$f":"December!G9","v":0},{"$f":"December!H9","v":0},{"$f":"December!I9","v":0},{"$f":"December!J9","v":0}]
[{"$f":"December!A10","v":"00:00:00"},{"$f":"December!B10","v":0},{"$f":"December!C10","v":0},{"$f":"December!D10","v":0},{"$f":"December!E10","v":0},{"$f":"December!F10","v":0},{"$f":"December!G10","v":0},{"$f":"December!H10","v":0},{"$f":"December!I10","v":0},{"$f":"December!J10","v":0}]
[{"$f":"December!A11","v":"00:00:00"},{"$f":"December!B11","v":0},{"$f":"December!C11","v":0},{"$f":"December!D11","v":0},{"$f":"December!E11","v":0},{"$f":"December!F11","v":0},{"$f":"December!G11","v":0},{"$f":"December!H11","v":0},{"$f":"December!I11","v":0},{"$f":"December!J11","v":0}]
[{"$f":"December!A12","v":"00:00:00"},{"$f":"December!B12","v":0},{"$f":"December!C12","v":0},{"$f":"December!D12","v":0},{"$f":"December!E12","v":0},{"$f":"December!F12","v":0},{"$f":"December!G12","v":0},{"$f":"December!H12","v":0},{"$f":"December!I12","v":0},{"$f":"December!J12","v":0}]
[{"$f":"December!A13","v":"00:00:00"},{"$f":"December!B13","v":0},{"$f":"December!C13","v":0},{"$f":"December!D13","v":0},{"$f":"December!E13","v":0},{"$f":"December!F13","v":0},{"$f":"December!G13","v":0},{"$f":"December!H13","v":0},{"$f":"December!I13","v":0},{"$f":"December!J13","v":0}]
[{"$f":"December!A14","v":"00:00:00"},{"$f":"December!B14","v":0},{"$f":"December!C14","v":0},{"$f":"December!D14","v":0},{"$f":"December!E14","v":0},{"$f":"December!F14","v":0},{"$f":"December!G14","v":0},{"$f":"December!H14","v":0},{"$f":"December!I14","v":0},{"$f":"December!J14","v":0}]
[{"$f":"December!A15","v":"00:00:00"},{"$f":"December!B15","v":0},{"$f":"December!C15","v":0},{"$f":"December!D15","v":0},{"$f":"December!E15","v":0},{"$f":"December!F15","v":0},{"$f":"December!G15","v":0},{"$f":"December!H15","v":0},{"$f":"December!I15","v":0},{"$f":"December!J15","v":0}]
[{"$f":"December!A16","v":"00:00:00"},{"$f":"December!B16","v":0},{"$f":"December!C16","v":0},{"$f":"December!D16","v":0},{"$f":"December!E16","v":0},{"$f":"December!F16","v":0},{"$f":"December!G16","v":0},{"$f":"December!H16","v":0},{"$f":"December!I16","v":0},{"$f":"December!J16","v":0}]
[{"$f":"December!A17","v":"00:00:00"},{"$f":"December!B17","v":0},{"$f":"December!C17","v":0},{"$f":"December!D17","v":0},{"$f":"December!E17","v":0},{"$f":"December!F17","v":0},{"$f":"December!G17","v":0},{"$f":"December!H17","v":0},{"$f":"December!I17","v":0},{"$f":"December!J17","v":0}]
[{"$f":"December!A18","v":"00:00:00"},{"$f":"December!B18","v":0},{"$f":"December!C18","v":0},{"$f":"December!D18","v":0},{"$f":"December!E18","v":0},{"$f":"December!F18","v":0},{"$f":"December!G18","v":0},{"$f":"December!H18","v":0},{"$f":"December!I18","v":0},{"$f":"December!J18","v":0}]
[{"$f":"December!A19","v":"00:00:00"},{"$f":"December!B19","v":0},{"$f":"December!C19","v":0},{"$f":"December!D19","v":0},{"$f":"December!E19","v":0},{"$f":"December!F19","v":0},{"$f":"December!G19","v":0},{"$f":"December!H19","v":0},{"$f":"December!I19","v":0},{"$f":"December!J19","v":0}]
[{"$f":"December!A20","v":"00:00:00"},{"$f":"December!B20","v":0},{"$f":"December!C20","v":0},{"$f":"December!D20","v":0},{"$f":"December!E20","v":0},{"$f":"December!F20","v":0},{"$f":"December!G20","v":0},{"$f":"December!H20","v":0},{"$f":"December!I20","v":0},{"$f":"December!J20","v":0}]
[{"$f":"December!A21","v":"00:00:00"},{"$f":"December!B21","v":0},{"$f":"December!C21","v":0},{"$f":"December!D21","v":0},{"$f":"December!E21","v":0},{"$f":"December!F21","v":0},{"$f":"December!G21","v":0},{"$f":"December!H21","v":0},{"$f":"December!I21","v":0},{"$f":"December!J21","v":0}]
[{"$f":"December!A22","v":"00:00:00"},{"$f":"December!B22","v":0},{"$f":"December!C22","v":0},{"$f":"December!D22","v":0},{"$f":"December!E22","v":0},{"$f":"December!F22","v":0},{"$f":"December!G22","v":0},{"$f":"December!H22","v":0},{"$f":"December!I22","v":0},{"$f":"December!J22","v":0}]
[{"$f":"December!A23","v":"00:00:00"},{"$f":"December!B23","v":0},{"$f":"December!C23","v":0},{"$f":"December!D23","v":0},{"$f":"December!E23","v":0},{"$f":"December!F23","v":0},{"$f":"December!G23","v":0},{"$f":"December!H23","v":0},{"$f":"December!I23","v":0},{"$f":"December!J23","v":0}]
[{"$f":"December!A24","v":"00:00:00"},{"$f":"December!B24","v":0},{"$f":"December!C24","v":0},{"$f":"December!D24","v":0},{"$f":"December!E24","v":0},{"$f":"December!F24","v":0},{"$f":"December!G24","v":0},{"$f":"December!H24","v":0},{"$f":"December!I24","v":0},{"$f":"December!J24","v":0}]
[{"$f":"December!A25","v":"00:00:00"},{"$f":"December!B25","v":0},{"$f":"December!C25","v":0},{"$f":"December!D25","v":0},{"$f":"December!E25","v":0},{"$f":"December!F25","v":0},{"$f":"December!G25","v":0},{"$f":"December!H25","v":0},{"$f":"December!I25","v":0},{"$f":"December!J25","v":0}]
[{"$f":"December!A26","v":"00:00:00"},{"$f":"December!B26","v":0},{"$f":"December!C26","v":0},{"$f":"December!D26","v":0},{"$f":"December!E26","v":0},{"$f":"December!F26","v":0},{"$f":"December!G26","v":0},{"$f":"December!H26","v":0},{"$f":"December!I26","v":0},{"$f":"December!J26","v":0}]
[{"$f":"December!A27","v":"00:00:00"},{"$f":"December!B27","v":0},{"$f":"December!C27","v":0},{"$f":"December!D27","v":0},{"$f":"December!E27","v":0},{"$f":"December!F27","v":0},{"$f":"December!G27","v":0},{"$f":"December!H27","v":0},{"$f":"December!I27","v":0},{"$f":"December!J27","v":0}]
[{"$f":"December!A28","v":"00:00:00"},{"$f":"December!B28","v":0},{"$f":"December!C28","v":0},{"$f":"December!D28","v":0},{"$f":"December!E28","v":0},{"$f":"December!F28","v":0},{"$f":"December!G28","v":0},{"$f":"December!H28","v":0},{"$f":"December!I28","v":0},{"$f":"December!J28","v":0}]
[{"$f":"December!A29","v":"00:00:00"},{"$f":"December!B29","v":0},{"$f":"December!C29","v":0},{"$f":"December!D29","v":0},{"$f":"December!E29","v":0},{"$f":"December!F29","v":0},{"$f":"December!G29","v":0},{"$f":"December!H29","v":0},{"$f":"December!I29","v":0},{"$f":"December!J29","v":0}]
[{"$f":"December!A30","v":"00:00:00"},{"$f":"December!B30","v":0},{"$f":"December!C30","v":0},{"$f":"December!D30","v":0},{"$f":"December!E30","v":0},{"$f":"December!F30","v":0},{"$f":"December!G30","v":0},{"$f":"December!H30","v":0},{"$f":"December!I30","v":0},{"$f":"December!J30","v":0}]
[{"$f":"December!A31","v":"00:00:00"},{"$f":"December!B31","v":0},{"$f":"December!C31","v":0},{"$f":"December!D31","v":0},{"$f":"December!E31","v":0},{"$f":"December!F31","v":0},{"$f":"December!G31","v":0},{"$f":"December!H31","v":0},{"$f":"December!I31","v":0},{"$f":"December!J31","v":0}]
[{"$f":"December!A32","v":"00:00:00"},{"$f":"December!B32","v":0},{"$f":"December!C32","v":0},{"$f":"December!D32","v":0},{"$f":"December!E32","v":0},{"$f":"December!F32","v":0},{"$f":"December!G32","v":0},{"$f":"December!H32","v":0},{"$f":"December!I32","v":0},{"$f":"December!J32","v":0}]
[{"$f":"December!A33","v":"00:00:00"},{"$f":"December!B33","v":0},{"$f":"December!C33","v":0},{"$f":"December!D33","v":0},{"$f":"December!E33","v":0},{"$f":"December!F33","v":0},{"$f":"December!G33","v":0},{"$f":"December!H33","v":0},{"$f":"December!I33","v":0},{"$f":"December!J33","v":0}]
[{"$f":"December!A34","v":"00:00:00"},{"$f":"December!B34","v":0},{"$f":"December!C34","v":0},{"$f":"December!D34","v":0},{"$f":"December!E34","v":0},{"$f":"December!F34","v":0},{"$f":"December!G34","v":0},{"$f":"December!H34","v":0},{"$f":"December!I34","v":0},{"$f":"December!J34","v":0}]
[{"$f":"December!A35","v":"00:00:00"},{"$f":"December!B35","v":0},{"$f":"December!C35","v":0},{"$f":"December!D35","v":0},{"$f":"December!E35","v":0},{"$f":"December!F35","v":0},{"$f":"December!G35","v":0},{"$f":"December!H35","v":0},{"$f":"December!I35","v":0},{"$f":"December!J35","v":0}]
[{"$f":"December!A36","v":"00:00:00"},{"$f":"December!B36","v":0},{"$f":"December!C36","v":0},{"$f":"December!D36","v":0},{"$f":"December!E36","v":0},{"$f":"December!F36","v":0},{"$f":"December!G36","v":0},{"$f":"December!H36","v":0},{"$f":"December!I36","v":0},{"$f":"December!J36","v":0}]
[{"$f":"December!A37","v":"00:00:00"},{"$f":"December!B37","v":0},{"$f":"December!C37","v":0},{"$f":"December!D37","v":0},{"$f":"December!E37","v":0},{"$f":"December!F37","v":0},{"$f":"December!G37","v":0},{"$f":"December!H37","v":0},{"$f":"December!I37","v":0},{"$f":"December!J37","v":0}]
[{"$f":"December!A38","v":"00:00:00"},{"$f":"December!B38","v":0},{"$f":"December!C38","v":0},{"$f":"December!D38","v":0},{"$f":"December!E38","v":0},{"$f":"December!F38","v":0},{"$f":"December!G38","v":0},{"$f":"December!H38","v":0},{"$f":"December!I38","v":0},{"$f":"December!J38","v":0}]
[{"$f":"December!A39","v":"00:00:00"},{"$f":"December!B39","v":0},{"$f":"December!C39","v":0},{"$f":"December!D39","v":0},{"$f":"December!E39","v":0},{"$f":"December!F39","v":0},{"$f":"December!G39","v":0},{"$f":"December!H39","v":0},{"$f":"December!I39","v":0},{"$f":"December!J39","v":0}]
[{"$f":"December!A40","v":"00:00:00"},{"$f":"December!B40","v":0},{"$f":"December!C40","v":0},{"$f":"December!D40","v":0},{"$f":"December!E40","v":0},{"$f":"December!F40","v":0},{"$f":"December!G40","v":0},{"$f":"December!H40","v":0},{"$f":"December!I40","v":0},{"$f":"December!J40","v":0}]
[{"$f":"December!A41","v":"00:00:00"},{"$f":"December!B41","v":0},{"$f":"December!C41","v":0},{"$f":"December!D41","v":0},{"$f":"December!E41","v":0},{"$f":"December!F41","v":0},{"$f":"December!G41","v":0},{"$f":"December!H41","v":0},{"$f":"December!I41","v":0},{"$f":"December!J41","v":0}]
[{"$f":"December!A42","v":"00:00:00"},{"$f":"December!B42","v":0},{"$f":"December!C42","v":0},{"$f":"December!D42","v":0},{"$f":"December!E42","v":0},{"$f":"December!F42","v":0},{"$f":"December!G42","v":0},{"$f":"December!H42","v":0},{"$f":"December!I42","v":0},{"$f":"December!J42","v":0}]
[{"$f":"December!A43","v":"00:00:00"},{"$f":"December!B43","v":0},{"$f":"December!C43","v":0},{"$f":"December!D43","v":0},{"$f":"December!E43","v":0},{"$f":"December!F43","v":0},{"$f":"December!G43","v":0},{"$f":"December!H43","v":0},{"$f":"December!I43","v":0},{"$f":"December!J43","v":0}]
[{"$f":"December!A44","v":"00:00:00"},{"$f":"December!B44","v":0},{"$f":"December!C44","v":0},{"$f":"December!D44","v":0},{"$f":"December!E44","v":0},{"$f":"December!F44","v":0},{"$f":"December!G44","v":0},{"$f":"December!H44","v":0},{"$f":"December!I44","v":0},{"$f":"December!J44","v":0}]
[{"$f":"December!A45","v":"00:00:00"},{"$f":"December!B45","v":0},{"$f":"December!C45","v":0},{"$f":"December!D45","v":0},{"$f":"December!E45","v":0},{"$f":"December!F45","v":0},{"$f":"December!G45","v":0},{"$f":"December!H45","v":0},{"$f":"December!I45","v":0},{"$f":"December!J45","v":0}]
[{"$f":"December!A46","v":"00:00:00"},{"$f":"December!B46","v":0},{"$f":"December!C46","v":0},{"$f":"December!D46","v":0},{"$f":"December!E46","v":0},{"$f":"December!F46","v":0},{"$f":"December!G46","v":0},{"$f":"December!H46","v":0},{"$f":"December!I46","v":0},{"$f":"December!J46","v":0}]
[{"$f":"December!A47","v":"00:00:00"},{"$f":"December!B47","v":0},{"$f":"December!C47","v":0},{"$f":"December!D47","v":0},{"$f":"December!E47","v":0},{"$f":"December!F47","v":0},{"$f":"December!G47","v":0},{"$f":"December!H47","v":0},{"$f":"December!I47","v":0},{"$f":"December!J47","v":0}]
[{"$f":"December!A48","v":"00:00:00"},{"$f":"December!B48","v":0},{"$f":"December!C48","v":0},{"$f":"December!D48","v":0},{"$f":"December!E48","v":0},{"$f":"December!F48","v":0},{"$f":"December!G48","v":0},{"$f":"December!H48","v":0},{"$f":"December!I48","v":0},{"$f":"December!J48","v":0}]
[{"$f":"December!A49","v":"00:00:00"},{"$f":"December!B49","v":0},{"$f":"December!C49","v":0},{"$f":"December!D49","v":0},{"$f":"December!E49","v":0},{"$f":"December!F49","v":0},{"$f":"December!G49","v":0},{"$f":"December!H49","v":0},{"$f":"December!I49","v":0},{"$f":"December!J49","v":0}]
[{"$f":"December!A50","v":"00:00:00"},{"$f":"December!B50","v":0},{"$f":"December!C50","v":0},{"$f":"December!D50","v":0},{"$f":"December!E50","v":0},{"$f":"December!F50","v":0},{"$f":"December!G50","v":0},{"$f":"December!H50","v":0},{"$f":"December!I50","v":0},{"$f":"December!J50","v":0}]
[{"$f":"December!A51","v":"00:00:00"},{"$f":"December!B51","v":0},{"$f":"December!C51","v":0},{"$f":"December!D51","v":0},{"$f":"December!E51","v":0},{"$f":"December!F51","v":0},{"$f":"December!G51","v":0},{"$f":"December!H51","v":0},{"$f":"December!I51","v":0},{"$f":"December!J51","v":0}]
[{"$f":"December!A52","v":"00:00:00"},{"$f":"December!B52","v":0},{"$f":"December!C52","v":0},{"$f":"December!D52","v":0},{"$f":"December!E52","v":0},{"$f":"December!F52","v":0},{"$f":"December!G52","v":0},{"$f":"December!H52","v":0},{"$f":"December!I52","v":0},{"$f":"December!J52","v":0}]
[{"$f":"December!A53","v":"00:00:00"},{"$f":"December!B53","v":0},{"$f":"December!C53","v":0},{"$f":"December!D53","v":0},{"$f":"December!E53","v":0},{"$f":"December!F53","v":0},{"$f":"December!G53","v":0},{"$f":"December!H53","v":0},{"$f":"December!I53","v":0},{"$f":"December!J53","v":0}]
[{"$f":"December!A54","v":"00:00:00"},{"$f":"December!B54","v":0},{"$f":"December!C54","v":0},{"$f":"December!D54","v":0},{"$f":"December!E54","v":0},{"$f":"December!F54","v":0},{"$f":"December!G54","v":0},{"$f":"December!H54","v":0},{"$f":"December!I54","v":0},{"$f":"December!J54","v":0}]
[{"$f":"December!A55","v":"00:00:00"},{"$f":"December!B55","v":0},{"$f":"December!C55","v":0},{"$f":"December!D55","v":0},{"$f":"December!E55","v":0},{"$f":"December!F55","v":0},{"$f":"December!G55","v":0},{"$f":"December!H55","v":0},{"$f":"December!I55","v":0},{"$f":"December!J55","v":0}]
[{"$f":"December!A56","v":"00:00:00"},{"$f":"December!B56","v":0},{"$f":"December!C56","v":0},{"$f":"December!D56","v":0},{"$f":"December!E56","v":0},{"$f":"December!F56","v":0},{"$f":"December!G56","v":0},{"$f":"December!H56","v":0},{"$f":"December!I56","v":0},{"$f":"December!J56","v":0}]
[{"$f":"December!A57","v":"00:00:00"},{"$f":"December!B57","v":0},{"$f":"December!C57","v":0},{"$f":"December!D57","v":0},{"$f":"December!E57","v":0},{"$f":"December!F57","v":0},{"$f":"December!G57","v":0},{"$f":"December!H57","v":0},{"$f":"December!I57","v":0},{"$f":"December!J57","v":0}]
[{"$f":"December!A58","v":"00:00:00"},{"$f":"December!B58","v":0},{"$f":"December!C58","v":0},{"$f":"December!D58","v":0},{"$f":"December!E58","v":0},{"$f":"December!F58","v":0},{"$f":"December!G58","v":0},{"$f":"December!H58","v":0},{"$f":"December!I58","v":0},{"$f":"December!J58","v":0}]
[{"$f":"December!A59","v":"00:00:00"},{"$f":"December!B59","v":0},{"$f":"December!C59","v":0},{"$f":"December!D59","v":0},{"$f":"December!E59","v":0},{"$f":"December!F59","v":0},{"$f":"December!G59","v":0},{"$f":"December!H59","v":0},{"$f":"December!I59","v":0},{"$f":"December!J59","v":0}]
[{"$f":"December!A60","v":"00:00:00"},{"$f":"December!B60","v":0},{"$f":"December!C60","v":0},{"$f":"December!D60","v":0},{"$f":"December!E60","v":0},{"$f":"December!F60","v":0},{"$f":"December!G60","v":0},{"$f":"December!H60","v":0},{"$f":"December!I60","v":0},{"$f":"December!J60","v":0}]
[null,{"$f":"Lists!B3","v":"Costco"},{"$f":"Lists!C3","v":"Club Card/Sale Savings"},0,{"$f":"Lists!C3","v":"Club Card/Sale Savings"},0]
[null,{"$f":"Lists!B4","v":"CVS"},{"$f":"Lists!C4","v":"Coupons Savings"},0,{"$f":"Lists!C4","v":"Coupons Savings"},0]
[null,{"$f":"Lists!B5","v":"Fred Meyer"},{"$f":"Lists!C5","v":"Rebates"},0,{"$f":"Lists!C5","v":"Rebates"},0]
[null,{"$f":"Lists!B6","v":"RiteAid"},{"$f":"Lists!C6","v":"Misc1"},0,{"$f":"Lists!C6","v":"Misc1"},0]
[null,{"$f":"Lists!B7","v":"Smiths"},{"$f":"Lists!C7","v":"Misc 2"},0,{"$f":"Lists!C7","v":"Misc 2"},0]
[null,{"$f":"Lists!B8","v":"Target"},{"$f":"Lists!C8","v":"Misc 3"},null,{"$f":"Lists!C8","v":"Misc 3"}]
[null,{"$f":"Lists!B9","v":"Walgreens"},{"$f":"Lists!C9","v":"Misc 4"},null,{"$f":"Lists!C9","v":"Misc 4"}]
[null,{"$f":"Lists!B10","v":"Walmart "},{"$f":"Lists!C10","v":"Misc 5"},null,{"$f":"Lists!C10","v":"Misc 5"}]
[null,{"$f":"Lists!B11","v":"Winco"},{"$f":"Lists!C11","v":0}]
[null,{"$f":"Lists!B12","v":"Yokes"},{"$f":"Lists!C12","v":0}]
[null,{"$f":"Lists!B13","v":"Albertson's"}]
[null,{"$f":"Lists!B14","v":"Safeway"}]
[null,{"$f":"Lists!B15","v":"Lowes"}]
[null,{"$f":"Lists!B16","v":"Savon"}]
[null,{"$f":"Lists!B17","v":"Store 1"}]
[null,{"$f":"Lists!B18","v":"Store 2"}]
[null,{"$f":"Lists!B19","v":"Store 3"}]
[null,{"$f":"Lists!B20","v":"Store 4"}]
[null,{"$f":"Lists!B21","v":"Store 5"}]
[null,{"$f":"Lists!B22","v":"Store 6"}]
[null,{"$f":"Lists!B23","v":"Store 7"}]
[]
[]
["Row Labels","Sum of Total Saved"]
[0,0]
["Albertson's"]
["Costco"]
["CVS"]
["Fred Meyer"]
["Lowes"]
["RiteAid"]
["Safeway"]
["Smiths"]
["Target"]
["Walgreens"]
["Walmart "]
["Winco"]
["Yokes"]
["Savon"]
["Store 3"]
["Store 4"]
["Store 5"]
["Store 7"]
["Store 1"]
["Store 2"]
["Store 6"]
["Grand Total",0]
[]
[]
["Row Labels","Sum of Total Spent"]
[0,0]
["Albertson's"]
["Costco"]
["CVS"]
["Fred Meyer"]
["Lowes"]
["RiteAid"]
["Safeway"]
["Smiths"]
["Target"]
["Walgreens"]
["Walmart "]
["Winco"]
["Yokes"]
["Savon"]
["Store 3"]
["Store 4"]
["Store 5"]
["Store 7"]
["Store 1"]
["Store 2"]
["Store 6"]
["Grand Total",0]
[]
[]
[]
[]
["Row Labels","Sum of Savings"]
[0,0]
["Club Card/Sale Savings",0]
["Coupons Savings",0]
["Misc 2",0]
["Misc 3"]
["Misc 4"]
["Misc 5"]
["Misc1",0]
["Rebates",0]
["(blank)"]
["Grand Total",0]
[]
["Row Labels","Sum of Savings2"]
[0,0]
["Club Card/Sale Savings",0]
["Coupons Savings",0]
["Misc 2",0]
["Misc 3"]
["Misc 4"]
["Misc 5"]
["Misc1",0]
["Rebates",0]
["(blank)"]
["Grand Total",0]
[]
[]
[]
["Club Card/Sale Savings",{"$f":"GETPIVOTDATA(\"Savings\",$A$706,\"Saving Type\",\"Club Card/Sale Savings\")+GETPIVOTDATA(\"Savings2\",$A$719,\"Saving Type2\",\"Club Card/Sale Savings\")","v":0}]
["Coupons Savings",{"$f":"GETPIVOTDATA(\"Savings\",$A$706,\"Saving Type\",\"Coupons Savings\")+GETPIVOTDATA(\"Savings2\",$A$719,\"Saving Type2\",\"Coupons Savings\")","v":0}]
["Misc1",{"$f":"GETPIVOTDATA(\"Savings\",$A$706,\"Saving Type\",\"Misc1\")+GETPIVOTDATA(\"Savings2\",$A$719,\"Saving Type2\",\"Misc1\")","v":0}]
["Misc2",{"$f":"GETPIVOTDATA(\"Savings\",$A$706,\"Saving Type\",\"Misc2\")+GETPIVOTDATA(\"Savings2\",$A$719,\"Saving Type2\",\"Misc2\")","v":{"$error":"#REF!"}}]
["Rebates",{"$f":"GETPIVOTDATA(\"Savings\",$A$706,\"Saving Type\",\"Rebates\")+GETPIVOTDATA(\"Savings2\",$A$719,\"Saving Type2\",\"Rebates\")","v":0}]